BEGIN:VCALENDAR
VERSION:2.0
PRODID:-//e-motion wellness™ - ECPv6.14.0//NONSGML v1.0//EN
CALSCALE:GREGORIAN
METHOD:PUBLISH
X-WR-CALNAME:e-motion wellness™
X-ORIGINAL-URL:https://www.emotionwellness.com
X-WR-CALDESC:Events for e-motion wellness™
REFRESH-INTERVAL;VALUE=DURATION:PT1H
X-Robots-Tag:noindex
X-PUBLISHED-TTL:PT1H
BEGIN:VTIMEZONE
TZID:America/Chicago
BEGIN:DAYLIGHT
TZOFFSETFROM:-0600
TZOFFSETTO:-0500
TZNAME:CDT
DTSTART:20240310T080000
END:DAYLIGHT
BEGIN:STANDARD
TZOFFSETFROM:-0500
TZOFFSETTO:-0600
TZNAME:CST
DTSTART:20241103T070000
END:STANDARD
END:VTIMEZONE
BEGIN:VEVENT
DTSTART;TZID=America/Chicago:20240718T180000
DTEND;TZID=America/Chicago:20240718T210000
DTSTAMP:20260425T164526
CREATED:20240214T172827Z
LAST-MODIFIED:20240618T151633Z
UID:10015973-1721325600-1721336400@www.emotionwellness.com
SUMMARY:Adult IOP 3
DESCRIPTION:Our Adult IOP stands out due to our team of fully licensed clinicians\, unique experiential fitness model\, engaging treatment environment\, and strong community focus. We are dedicated to providing comprehensive care that addresses both the mind and body\, empowering individuals on their path to recovery.
URL:https://www.emotionwellness.com/event/adult-iop/2024-07-18/
LOCATION:e-motion wellness™ Therapy Center\, 431 Isom Road Suite 204\, San Antonio\, TX\, 78216\, United States
CATEGORIES:Adult IOP
ATTACH;FMTTYPE=image/png:https://www.emotionwellness.com/wp-content/uploads/2023/08/about2.png
ORGANIZER;CN="Jason Turner":MAILTO:jason@emotionwellness.com
END:VEVENT
BEGIN:VEVENT
DTSTART;TZID=America/Chicago:20240718T150000
DTEND;TZID=America/Chicago:20240718T180000
DTSTAMP:20260425T164526
CREATED:20240611T133543Z
LAST-MODIFIED:20241223T185826Z
UID:10014880-1721314800-1721325600@www.emotionwellness.com
SUMMARY:Adult IOP 2
DESCRIPTION:Our Adult IOP stands out due to our team of fully licensed clinicians\, unique experiential fitness model\, engaging treatment environment\, and strong community focus. We are dedicated to providing comprehensive care that addresses both the mind and body\, empowering individuals on their path to recovery.
URL:https://www.emotionwellness.com/event/adult-iop-3/2024-07-18/
LOCATION:e-motion wellness™ Therapy Center\, 431 Isom Road Suite 204\, San Antonio\, TX\, 78216\, United States
CATEGORIES:Adult IOP
ATTACH;FMTTYPE=image/png:https://www.emotionwellness.com/wp-content/uploads/2023/08/about2.png
ORGANIZER;CN="Jason Turner":MAILTO:jason@emotionwellness.com
END:VEVENT
BEGIN:VEVENT
DTSTART;TZID=America/Chicago:20240718T050000
DTEND;TZID=America/Chicago:20240718T090000
DTSTAMP:20260425T164526
CREATED:20240610T140103Z
LAST-MODIFIED:20241223T185915Z
UID:10005793-1721278800-1721293200@www.emotionwellness.com
SUMMARY:Open Gym
DESCRIPTION:Open Gym Hours
URL:https://www.emotionwellness.com/event/open-gym/2024-07-18/
LOCATION:e-motion wellness™ Therapy Center\, 431 Isom Road Suite 204\, San Antonio\, TX\, 78216\, United States
CATEGORIES:Open Gym
ATTACH;FMTTYPE=image/png:https://www.emotionwellness.com/wp-content/uploads/2024/03/members1.png
ORGANIZER;CN="Jason Turner":MAILTO:jason@emotionwellness.com
END:VEVENT
BEGIN:VEVENT
DTSTART;TZID=America/Chicago:20240717T180000
DTEND;TZID=America/Chicago:20240717T210000
DTSTAMP:20260425T164526
CREATED:20240214T172827Z
LAST-MODIFIED:20240618T151633Z
UID:10015972-1721239200-1721250000@www.emotionwellness.com
SUMMARY:Adult IOP 3
DESCRIPTION:Our Adult IOP stands out due to our team of fully licensed clinicians\, unique experiential fitness model\, engaging treatment environment\, and strong community focus. We are dedicated to providing comprehensive care that addresses both the mind and body\, empowering individuals on their path to recovery.
URL:https://www.emotionwellness.com/event/adult-iop/2024-07-17/
LOCATION:e-motion wellness™ Therapy Center\, 431 Isom Road Suite 204\, San Antonio\, TX\, 78216\, United States
CATEGORIES:Adult IOP
ATTACH;FMTTYPE=image/png:https://www.emotionwellness.com/wp-content/uploads/2023/08/about2.png
ORGANIZER;CN="Jason Turner":MAILTO:jason@emotionwellness.com
END:VEVENT
BEGIN:VEVENT
DTSTART;TZID=America/Chicago:20240717T150000
DTEND;TZID=America/Chicago:20240717T180000
DTSTAMP:20260425T164526
CREATED:20240611T133543Z
LAST-MODIFIED:20241223T185826Z
UID:10014879-1721228400-1721239200@www.emotionwellness.com
SUMMARY:Adult IOP 2
DESCRIPTION:Our Adult IOP stands out due to our team of fully licensed clinicians\, unique experiential fitness model\, engaging treatment environment\, and strong community focus. We are dedicated to providing comprehensive care that addresses both the mind and body\, empowering individuals on their path to recovery.
URL:https://www.emotionwellness.com/event/adult-iop-3/2024-07-17/
LOCATION:e-motion wellness™ Therapy Center\, 431 Isom Road Suite 204\, San Antonio\, TX\, 78216\, United States
CATEGORIES:Adult IOP
ATTACH;FMTTYPE=image/png:https://www.emotionwellness.com/wp-content/uploads/2023/08/about2.png
ORGANIZER;CN="Jason Turner":MAILTO:jason@emotionwellness.com
END:VEVENT
BEGIN:VEVENT
DTSTART;TZID=America/Chicago:20240717T050000
DTEND;TZID=America/Chicago:20240717T090000
DTSTAMP:20260425T164526
CREATED:20240610T140103Z
LAST-MODIFIED:20241223T185915Z
UID:10005792-1721192400-1721206800@www.emotionwellness.com
SUMMARY:Open Gym
DESCRIPTION:Open Gym Hours
URL:https://www.emotionwellness.com/event/open-gym/2024-07-17/
LOCATION:e-motion wellness™ Therapy Center\, 431 Isom Road Suite 204\, San Antonio\, TX\, 78216\, United States
CATEGORIES:Open Gym
ATTACH;FMTTYPE=image/png:https://www.emotionwellness.com/wp-content/uploads/2024/03/members1.png
ORGANIZER;CN="Jason Turner":MAILTO:jason@emotionwellness.com
END:VEVENT
BEGIN:VEVENT
DTSTART;TZID=America/Chicago:20240716T180000
DTEND;TZID=America/Chicago:20240716T210000
DTSTAMP:20260425T164526
CREATED:20240214T173245Z
LAST-MODIFIED:20240618T151728Z
UID:10016787-1721152800-1721163600@www.emotionwellness.com
SUMMARY:Adolescent IOP 1
DESCRIPTION:Our Adolescent IOP stands out due to our team of fully licensed clinicians\, unique experiential fitness model\, engaging treatment environment\, and strong community focus. We are dedicated to providing comprehensive care that addresses both the mind and body\, empowering individuals on their path to recovery.
URL:https://www.emotionwellness.com/event/adolescent-iop/2024-07-16/
LOCATION:e-motion wellness™ Therapy Center\, 431 Isom Road Suite 204\, San Antonio\, TX\, 78216\, United States
CATEGORIES:Adolescent IOP
ATTACH;FMTTYPE=image/png:https://www.emotionwellness.com/wp-content/uploads/2023/08/home_bottom_1.png
ORGANIZER;CN="Jason Turner":MAILTO:jason@emotionwellness.com
END:VEVENT
BEGIN:VEVENT
DTSTART;TZID=America/Chicago:20240716T150000
DTEND;TZID=America/Chicago:20240716T180000
DTSTAMP:20260425T164526
CREATED:20240611T133543Z
LAST-MODIFIED:20241223T185826Z
UID:10014878-1721142000-1721152800@www.emotionwellness.com
SUMMARY:Adult IOP 2
DESCRIPTION:Our Adult IOP stands out due to our team of fully licensed clinicians\, unique experiential fitness model\, engaging treatment environment\, and strong community focus. We are dedicated to providing comprehensive care that addresses both the mind and body\, empowering individuals on their path to recovery.
URL:https://www.emotionwellness.com/event/adult-iop-3/2024-07-16/
LOCATION:e-motion wellness™ Therapy Center\, 431 Isom Road Suite 204\, San Antonio\, TX\, 78216\, United States
CATEGORIES:Adult IOP
ATTACH;FMTTYPE=image/png:https://www.emotionwellness.com/wp-content/uploads/2023/08/about2.png
ORGANIZER;CN="Jason Turner":MAILTO:jason@emotionwellness.com
END:VEVENT
BEGIN:VEVENT
DTSTART;TZID=America/Chicago:20240716T050000
DTEND;TZID=America/Chicago:20240716T090000
DTSTAMP:20260425T164526
CREATED:20240610T140103Z
LAST-MODIFIED:20241223T185915Z
UID:10005791-1721106000-1721120400@www.emotionwellness.com
SUMMARY:Open Gym
DESCRIPTION:Open Gym Hours
URL:https://www.emotionwellness.com/event/open-gym/2024-07-16/
LOCATION:e-motion wellness™ Therapy Center\, 431 Isom Road Suite 204\, San Antonio\, TX\, 78216\, United States
CATEGORIES:Open Gym
ATTACH;FMTTYPE=image/png:https://www.emotionwellness.com/wp-content/uploads/2024/03/members1.png
ORGANIZER;CN="Jason Turner":MAILTO:jason@emotionwellness.com
END:VEVENT
BEGIN:VEVENT
DTSTART;TZID=America/Chicago:20240715T180000
DTEND;TZID=America/Chicago:20240715T210000
DTSTAMP:20260425T164526
CREATED:20240214T172827Z
LAST-MODIFIED:20240618T151633Z
UID:10015971-1721066400-1721077200@www.emotionwellness.com
SUMMARY:Adult IOP 3
DESCRIPTION:Our Adult IOP stands out due to our team of fully licensed clinicians\, unique experiential fitness model\, engaging treatment environment\, and strong community focus. We are dedicated to providing comprehensive care that addresses both the mind and body\, empowering individuals on their path to recovery.
URL:https://www.emotionwellness.com/event/adult-iop/2024-07-15/
LOCATION:e-motion wellness™ Therapy Center\, 431 Isom Road Suite 204\, San Antonio\, TX\, 78216\, United States
CATEGORIES:Adult IOP
ATTACH;FMTTYPE=image/png:https://www.emotionwellness.com/wp-content/uploads/2023/08/about2.png
ORGANIZER;CN="Jason Turner":MAILTO:jason@emotionwellness.com
END:VEVENT
BEGIN:VEVENT
DTSTART;TZID=America/Chicago:20240715T150000
DTEND;TZID=America/Chicago:20240715T180000
DTSTAMP:20260425T164526
CREATED:20240611T133543Z
LAST-MODIFIED:20241223T185826Z
UID:10014877-1721055600-1721066400@www.emotionwellness.com
SUMMARY:Adult IOP 2
DESCRIPTION:Our Adult IOP stands out due to our team of fully licensed clinicians\, unique experiential fitness model\, engaging treatment environment\, and strong community focus. We are dedicated to providing comprehensive care that addresses both the mind and body\, empowering individuals on their path to recovery.
URL:https://www.emotionwellness.com/event/adult-iop-3/2024-07-15/
LOCATION:e-motion wellness™ Therapy Center\, 431 Isom Road Suite 204\, San Antonio\, TX\, 78216\, United States
CATEGORIES:Adult IOP
ATTACH;FMTTYPE=image/png:https://www.emotionwellness.com/wp-content/uploads/2023/08/about2.png
ORGANIZER;CN="Jason Turner":MAILTO:jason@emotionwellness.com
END:VEVENT
BEGIN:VEVENT
DTSTART;TZID=America/Chicago:20240715T050000
DTEND;TZID=America/Chicago:20240715T090000
DTSTAMP:20260425T164526
CREATED:20240610T140103Z
LAST-MODIFIED:20241223T185915Z
UID:10005790-1721019600-1721034000@www.emotionwellness.com
SUMMARY:Open Gym
DESCRIPTION:Open Gym Hours
URL:https://www.emotionwellness.com/event/open-gym/2024-07-15/
LOCATION:e-motion wellness™ Therapy Center\, 431 Isom Road Suite 204\, San Antonio\, TX\, 78216\, United States
CATEGORIES:Open Gym
ATTACH;FMTTYPE=image/png:https://www.emotionwellness.com/wp-content/uploads/2024/03/members1.png
ORGANIZER;CN="Jason Turner":MAILTO:jason@emotionwellness.com
END:VEVENT
BEGIN:VEVENT
DTSTART;TZID=America/Chicago:20240713T093000
DTEND;TZID=America/Chicago:20240713T103000
DTSTAMP:20260425T164526
CREATED:20240325T164707Z
LAST-MODIFIED:20240618T155030Z
UID:10005519-1720863000-1720866600@www.emotionwellness.com
SUMMARY:Community Fitness Class
DESCRIPTION:Community Fitness Class open to all and at no cost.
URL:https://www.emotionwellness.com/event/community-fitness-class/2024-07-13/
LOCATION:e-motion wellness™ Therapy Center\, 431 Isom Road Suite 204\, San Antonio\, TX\, 78216\, United States
CATEGORIES:Classes
ATTACH;FMTTYPE=image/png:https://www.emotionwellness.com/wp-content/uploads/2024/03/therapy_2.png
END:VEVENT
BEGIN:VEVENT
DTSTART;TZID=America/Chicago:20240713T090000
DTEND;TZID=America/Chicago:20240713T120000
DTSTAMP:20260425T164526
CREATED:20240610T140621Z
LAST-MODIFIED:20240618T150314Z
UID:10008378-1720861200-1720872000@www.emotionwellness.com
SUMMARY:Open Gym 2
DESCRIPTION:Open Gym Hours
URL:https://www.emotionwellness.com/event/open-gym-2-2/2024-07-13/
LOCATION:e-motion wellness™ Therapy Center\, 431 Isom Road Suite 204\, San Antonio\, TX\, 78216\, United States
CATEGORIES:Open Gym
ATTACH;FMTTYPE=image/png:https://www.emotionwellness.com/wp-content/uploads/2024/03/members1.png
ORGANIZER;CN="Jason Turner":MAILTO:jason@emotionwellness.com
END:VEVENT
BEGIN:VEVENT
DTSTART;TZID=America/Chicago:20240712T073000
DTEND;TZID=America/Chicago:20240712T103000
DTSTAMP:20260425T164526
CREATED:20240611T134151Z
LAST-MODIFIED:20240618T143741Z
UID:10011740-1720769400-1720780200@www.emotionwellness.com
SUMMARY:Adult IOP Make Up
DESCRIPTION:Make up class for Adult IOP. Our Adult IOP stands out due to our team of fully licensed clinicians\, unique experiential fitness model\, engaging treatment environment\, and strong community focus. We are dedicated to providing comprehensive care that addresses both the mind and body\, empowering individuals on their path to recovery.
URL:https://www.emotionwellness.com/event/adult-iop-make-up/2024-07-12/
LOCATION:e-motion wellness™ Therapy Center\, 431 Isom Road Suite 204\, San Antonio\, TX\, 78216\, United States
CATEGORIES:Adult IOP
ATTACH;FMTTYPE=image/png:https://www.emotionwellness.com/wp-content/uploads/2023/08/about2.png
ORGANIZER;CN="Jason Turner":MAILTO:jason@emotionwellness.com
END:VEVENT
BEGIN:VEVENT
DTSTART;TZID=America/Chicago:20240712T050000
DTEND;TZID=America/Chicago:20240712T090000
DTSTAMP:20260425T164526
CREATED:20240610T140103Z
LAST-MODIFIED:20241223T185915Z
UID:10005789-1720760400-1720774800@www.emotionwellness.com
SUMMARY:Open Gym
DESCRIPTION:Open Gym Hours
URL:https://www.emotionwellness.com/event/open-gym/2024-07-12/
LOCATION:e-motion wellness™ Therapy Center\, 431 Isom Road Suite 204\, San Antonio\, TX\, 78216\, United States
CATEGORIES:Open Gym
ATTACH;FMTTYPE=image/png:https://www.emotionwellness.com/wp-content/uploads/2024/03/members1.png
ORGANIZER;CN="Jason Turner":MAILTO:jason@emotionwellness.com
END:VEVENT
BEGIN:VEVENT
DTSTART;TZID=America/Chicago:20240711T180000
DTEND;TZID=America/Chicago:20240711T210000
DTSTAMP:20260425T164526
CREATED:20240214T173245Z
LAST-MODIFIED:20240618T151728Z
UID:10016786-1720720800-1720731600@www.emotionwellness.com
SUMMARY:Adolescent IOP 1
DESCRIPTION:Our Adolescent IOP stands out due to our team of fully licensed clinicians\, unique experiential fitness model\, engaging treatment environment\, and strong community focus. We are dedicated to providing comprehensive care that addresses both the mind and body\, empowering individuals on their path to recovery.
URL:https://www.emotionwellness.com/event/adolescent-iop/2024-07-11/
LOCATION:e-motion wellness™ Therapy Center\, 431 Isom Road Suite 204\, San Antonio\, TX\, 78216\, United States
CATEGORIES:Adolescent IOP
ATTACH;FMTTYPE=image/png:https://www.emotionwellness.com/wp-content/uploads/2023/08/home_bottom_1.png
ORGANIZER;CN="Jason Turner":MAILTO:jason@emotionwellness.com
END:VEVENT
BEGIN:VEVENT
DTSTART;TZID=America/Chicago:20240711T180000
DTEND;TZID=America/Chicago:20240711T210000
DTSTAMP:20260425T164526
CREATED:20240214T172827Z
LAST-MODIFIED:20240618T151633Z
UID:10015970-1720720800-1720731600@www.emotionwellness.com
SUMMARY:Adult IOP 3
DESCRIPTION:Our Adult IOP stands out due to our team of fully licensed clinicians\, unique experiential fitness model\, engaging treatment environment\, and strong community focus. We are dedicated to providing comprehensive care that addresses both the mind and body\, empowering individuals on their path to recovery.
URL:https://www.emotionwellness.com/event/adult-iop/2024-07-11/
LOCATION:e-motion wellness™ Therapy Center\, 431 Isom Road Suite 204\, San Antonio\, TX\, 78216\, United States
CATEGORIES:Adult IOP
ATTACH;FMTTYPE=image/png:https://www.emotionwellness.com/wp-content/uploads/2023/08/about2.png
ORGANIZER;CN="Jason Turner":MAILTO:jason@emotionwellness.com
END:VEVENT
BEGIN:VEVENT
DTSTART;TZID=America/Chicago:20240711T150000
DTEND;TZID=America/Chicago:20240711T180000
DTSTAMP:20260425T164526
CREATED:20240611T133543Z
LAST-MODIFIED:20241223T185826Z
UID:10014876-1720710000-1720720800@www.emotionwellness.com
SUMMARY:Adult IOP 2
DESCRIPTION:Our Adult IOP stands out due to our team of fully licensed clinicians\, unique experiential fitness model\, engaging treatment environment\, and strong community focus. We are dedicated to providing comprehensive care that addresses both the mind and body\, empowering individuals on their path to recovery.
URL:https://www.emotionwellness.com/event/adult-iop-3/2024-07-11/
LOCATION:e-motion wellness™ Therapy Center\, 431 Isom Road Suite 204\, San Antonio\, TX\, 78216\, United States
CATEGORIES:Adult IOP
ATTACH;FMTTYPE=image/png:https://www.emotionwellness.com/wp-content/uploads/2023/08/about2.png
ORGANIZER;CN="Jason Turner":MAILTO:jason@emotionwellness.com
END:VEVENT
BEGIN:VEVENT
DTSTART;TZID=America/Chicago:20240711T050000
DTEND;TZID=America/Chicago:20240711T090000
DTSTAMP:20260425T164526
CREATED:20240610T140103Z
LAST-MODIFIED:20241223T185915Z
UID:10005788-1720674000-1720688400@www.emotionwellness.com
SUMMARY:Open Gym
DESCRIPTION:Open Gym Hours
URL:https://www.emotionwellness.com/event/open-gym/2024-07-11/
LOCATION:e-motion wellness™ Therapy Center\, 431 Isom Road Suite 204\, San Antonio\, TX\, 78216\, United States
CATEGORIES:Open Gym
ATTACH;FMTTYPE=image/png:https://www.emotionwellness.com/wp-content/uploads/2024/03/members1.png
ORGANIZER;CN="Jason Turner":MAILTO:jason@emotionwellness.com
END:VEVENT
BEGIN:VEVENT
DTSTART;TZID=America/Chicago:20240710T180000
DTEND;TZID=America/Chicago:20240710T210000
DTSTAMP:20260425T164526
CREATED:20240214T172827Z
LAST-MODIFIED:20240618T151633Z
UID:10015969-1720634400-1720645200@www.emotionwellness.com
SUMMARY:Adult IOP 3
DESCRIPTION:Our Adult IOP stands out due to our team of fully licensed clinicians\, unique experiential fitness model\, engaging treatment environment\, and strong community focus. We are dedicated to providing comprehensive care that addresses both the mind and body\, empowering individuals on their path to recovery.
URL:https://www.emotionwellness.com/event/adult-iop/2024-07-10/
LOCATION:e-motion wellness™ Therapy Center\, 431 Isom Road Suite 204\, San Antonio\, TX\, 78216\, United States
CATEGORIES:Adult IOP
ATTACH;FMTTYPE=image/png:https://www.emotionwellness.com/wp-content/uploads/2023/08/about2.png
ORGANIZER;CN="Jason Turner":MAILTO:jason@emotionwellness.com
END:VEVENT
BEGIN:VEVENT
DTSTART;TZID=America/Chicago:20240710T150000
DTEND;TZID=America/Chicago:20240710T180000
DTSTAMP:20260425T164526
CREATED:20240611T133543Z
LAST-MODIFIED:20241223T185826Z
UID:10014875-1720623600-1720634400@www.emotionwellness.com
SUMMARY:Adult IOP 2
DESCRIPTION:Our Adult IOP stands out due to our team of fully licensed clinicians\, unique experiential fitness model\, engaging treatment environment\, and strong community focus. We are dedicated to providing comprehensive care that addresses both the mind and body\, empowering individuals on their path to recovery.
URL:https://www.emotionwellness.com/event/adult-iop-3/2024-07-10/
LOCATION:e-motion wellness™ Therapy Center\, 431 Isom Road Suite 204\, San Antonio\, TX\, 78216\, United States
CATEGORIES:Adult IOP
ATTACH;FMTTYPE=image/png:https://www.emotionwellness.com/wp-content/uploads/2023/08/about2.png
ORGANIZER;CN="Jason Turner":MAILTO:jason@emotionwellness.com
END:VEVENT
BEGIN:VEVENT
DTSTART;TZID=America/Chicago:20240710T050000
DTEND;TZID=America/Chicago:20240710T090000
DTSTAMP:20260425T164526
CREATED:20240610T140103Z
LAST-MODIFIED:20241223T185915Z
UID:10005787-1720587600-1720602000@www.emotionwellness.com
SUMMARY:Open Gym
DESCRIPTION:Open Gym Hours
URL:https://www.emotionwellness.com/event/open-gym/2024-07-10/
LOCATION:e-motion wellness™ Therapy Center\, 431 Isom Road Suite 204\, San Antonio\, TX\, 78216\, United States
CATEGORIES:Open Gym
ATTACH;FMTTYPE=image/png:https://www.emotionwellness.com/wp-content/uploads/2024/03/members1.png
ORGANIZER;CN="Jason Turner":MAILTO:jason@emotionwellness.com
END:VEVENT
BEGIN:VEVENT
DTSTART;TZID=America/Chicago:20240709T180000
DTEND;TZID=America/Chicago:20240709T210000
DTSTAMP:20260425T164526
CREATED:20240214T173245Z
LAST-MODIFIED:20240618T151728Z
UID:10016785-1720548000-1720558800@www.emotionwellness.com
SUMMARY:Adolescent IOP 1
DESCRIPTION:Our Adolescent IOP stands out due to our team of fully licensed clinicians\, unique experiential fitness model\, engaging treatment environment\, and strong community focus. We are dedicated to providing comprehensive care that addresses both the mind and body\, empowering individuals on their path to recovery.
URL:https://www.emotionwellness.com/event/adolescent-iop/2024-07-09/
LOCATION:e-motion wellness™ Therapy Center\, 431 Isom Road Suite 204\, San Antonio\, TX\, 78216\, United States
CATEGORIES:Adolescent IOP
ATTACH;FMTTYPE=image/png:https://www.emotionwellness.com/wp-content/uploads/2023/08/home_bottom_1.png
ORGANIZER;CN="Jason Turner":MAILTO:jason@emotionwellness.com
END:VEVENT
BEGIN:VEVENT
DTSTART;TZID=America/Chicago:20240709T150000
DTEND;TZID=America/Chicago:20240709T180000
DTSTAMP:20260425T164526
CREATED:20240611T133543Z
LAST-MODIFIED:20241223T185826Z
UID:10014874-1720537200-1720548000@www.emotionwellness.com
SUMMARY:Adult IOP 2
DESCRIPTION:Our Adult IOP stands out due to our team of fully licensed clinicians\, unique experiential fitness model\, engaging treatment environment\, and strong community focus. We are dedicated to providing comprehensive care that addresses both the mind and body\, empowering individuals on their path to recovery.
URL:https://www.emotionwellness.com/event/adult-iop-3/2024-07-09/
LOCATION:e-motion wellness™ Therapy Center\, 431 Isom Road Suite 204\, San Antonio\, TX\, 78216\, United States
CATEGORIES:Adult IOP
ATTACH;FMTTYPE=image/png:https://www.emotionwellness.com/wp-content/uploads/2023/08/about2.png
ORGANIZER;CN="Jason Turner":MAILTO:jason@emotionwellness.com
END:VEVENT
BEGIN:VEVENT
DTSTART;TZID=America/Chicago:20240709T050000
DTEND;TZID=America/Chicago:20240709T090000
DTSTAMP:20260425T164526
CREATED:20240610T140103Z
LAST-MODIFIED:20241223T185915Z
UID:10005786-1720501200-1720515600@www.emotionwellness.com
SUMMARY:Open Gym
DESCRIPTION:Open Gym Hours
URL:https://www.emotionwellness.com/event/open-gym/2024-07-09/
LOCATION:e-motion wellness™ Therapy Center\, 431 Isom Road Suite 204\, San Antonio\, TX\, 78216\, United States
CATEGORIES:Open Gym
ATTACH;FMTTYPE=image/png:https://www.emotionwellness.com/wp-content/uploads/2024/03/members1.png
ORGANIZER;CN="Jason Turner":MAILTO:jason@emotionwellness.com
END:VEVENT
BEGIN:VEVENT
DTSTART;TZID=America/Chicago:20240708T180000
DTEND;TZID=America/Chicago:20240708T210000
DTSTAMP:20260425T164526
CREATED:20240214T172827Z
LAST-MODIFIED:20240618T151633Z
UID:10015968-1720461600-1720472400@www.emotionwellness.com
SUMMARY:Adult IOP 3
DESCRIPTION:Our Adult IOP stands out due to our team of fully licensed clinicians\, unique experiential fitness model\, engaging treatment environment\, and strong community focus. We are dedicated to providing comprehensive care that addresses both the mind and body\, empowering individuals on their path to recovery.
URL:https://www.emotionwellness.com/event/adult-iop/2024-07-08/
LOCATION:e-motion wellness™ Therapy Center\, 431 Isom Road Suite 204\, San Antonio\, TX\, 78216\, United States
CATEGORIES:Adult IOP
ATTACH;FMTTYPE=image/png:https://www.emotionwellness.com/wp-content/uploads/2023/08/about2.png
ORGANIZER;CN="Jason Turner":MAILTO:jason@emotionwellness.com
END:VEVENT
BEGIN:VEVENT
DTSTART;TZID=America/Chicago:20240708T150000
DTEND;TZID=America/Chicago:20240708T180000
DTSTAMP:20260425T164526
CREATED:20240611T133543Z
LAST-MODIFIED:20241223T185826Z
UID:10014873-1720450800-1720461600@www.emotionwellness.com
SUMMARY:Adult IOP 2
DESCRIPTION:Our Adult IOP stands out due to our team of fully licensed clinicians\, unique experiential fitness model\, engaging treatment environment\, and strong community focus. We are dedicated to providing comprehensive care that addresses both the mind and body\, empowering individuals on their path to recovery.
URL:https://www.emotionwellness.com/event/adult-iop-3/2024-07-08/
LOCATION:e-motion wellness™ Therapy Center\, 431 Isom Road Suite 204\, San Antonio\, TX\, 78216\, United States
CATEGORIES:Adult IOP
ATTACH;FMTTYPE=image/png:https://www.emotionwellness.com/wp-content/uploads/2023/08/about2.png
ORGANIZER;CN="Jason Turner":MAILTO:jason@emotionwellness.com
END:VEVENT
BEGIN:VEVENT
DTSTART;TZID=America/Chicago:20240708T050000
DTEND;TZID=America/Chicago:20240708T090000
DTSTAMP:20260425T164526
CREATED:20240610T140103Z
LAST-MODIFIED:20241223T185915Z
UID:10005785-1720414800-1720429200@www.emotionwellness.com
SUMMARY:Open Gym
DESCRIPTION:Open Gym Hours
URL:https://www.emotionwellness.com/event/open-gym/2024-07-08/
LOCATION:e-motion wellness™ Therapy Center\, 431 Isom Road Suite 204\, San Antonio\, TX\, 78216\, United States
CATEGORIES:Open Gym
ATTACH;FMTTYPE=image/png:https://www.emotionwellness.com/wp-content/uploads/2024/03/members1.png
ORGANIZER;CN="Jason Turner":MAILTO:jason@emotionwellness.com
END:VEVENT
BEGIN:VEVENT
DTSTART;TZID=America/Chicago:20240706T093000
DTEND;TZID=America/Chicago:20240706T103000
DTSTAMP:20260425T164526
CREATED:20240325T164707Z
LAST-MODIFIED:20240618T155030Z
UID:10005518-1720258200-1720261800@www.emotionwellness.com
SUMMARY:Community Fitness Class
DESCRIPTION:Community Fitness Class open to all and at no cost.
URL:https://www.emotionwellness.com/event/community-fitness-class/2024-07-06/
LOCATION:e-motion wellness™ Therapy Center\, 431 Isom Road Suite 204\, San Antonio\, TX\, 78216\, United States
CATEGORIES:Classes
ATTACH;FMTTYPE=image/png:https://www.emotionwellness.com/wp-content/uploads/2024/03/therapy_2.png
END:VEVENT
END:VCALENDAR