BEGIN:VCALENDAR
VERSION:2.0
PRODID:-//e-motion wellness™ - ECPv6.14.0//NONSGML v1.0//EN
CALSCALE:GREGORIAN
METHOD:PUBLISH
X-ORIGINAL-URL:https://www.emotionwellness.com
X-WR-CALDESC:Events for e-motion wellness™
REFRESH-INTERVAL;VALUE=DURATION:PT1H
X-Robots-Tag:noindex
X-PUBLISHED-TTL:PT1H
BEGIN:VTIMEZONE
TZID:America/Chicago
BEGIN:DAYLIGHT
TZOFFSETFROM:-0600
TZOFFSETTO:-0500
TZNAME:CDT
DTSTART:20240310T080000
END:DAYLIGHT
BEGIN:STANDARD
TZOFFSETFROM:-0500
TZOFFSETTO:-0600
TZNAME:CST
DTSTART:20241103T070000
END:STANDARD
END:VTIMEZONE
BEGIN:VEVENT
DTSTART;TZID=America/Chicago:20241111T050000
DTEND;TZID=America/Chicago:20241111T090000
DTSTAMP:20260421T151746
CREATED:20240610T140103Z
LAST-MODIFIED:20241223T185915Z
UID:10005875-1731301200-1731315600@www.emotionwellness.com
SUMMARY:Open Gym
DESCRIPTION:Open Gym Hours
URL:https://www.emotionwellness.com/event/open-gym/2024-11-11/
LOCATION:e-motion wellness™ Therapy Center\, 431 Isom Road Suite 204\, San Antonio\, TX\, 78216\, United States
CATEGORIES:Open Gym
ATTACH;FMTTYPE=image/png:https://www.emotionwellness.com/wp-content/uploads/2024/03/members1.png
ORGANIZER;CN="Jason Turner":MAILTO:jason@emotionwellness.com
END:VEVENT
BEGIN:VEVENT
DTSTART;TZID=America/Chicago:20241112T050000
DTEND;TZID=America/Chicago:20241112T090000
DTSTAMP:20260421T151746
CREATED:20240610T140103Z
LAST-MODIFIED:20241223T185915Z
UID:10005876-1731387600-1731402000@www.emotionwellness.com
SUMMARY:Open Gym
DESCRIPTION:Open Gym Hours
URL:https://www.emotionwellness.com/event/open-gym/2024-11-12/
LOCATION:e-motion wellness™ Therapy Center\, 431 Isom Road Suite 204\, San Antonio\, TX\, 78216\, United States
CATEGORIES:Open Gym
ATTACH;FMTTYPE=image/png:https://www.emotionwellness.com/wp-content/uploads/2024/03/members1.png
ORGANIZER;CN="Jason Turner":MAILTO:jason@emotionwellness.com
END:VEVENT
BEGIN:VEVENT
DTSTART;TZID=America/Chicago:20241113T050000
DTEND;TZID=America/Chicago:20241113T090000
DTSTAMP:20260421T151746
CREATED:20240610T140103Z
LAST-MODIFIED:20241223T185915Z
UID:10005877-1731474000-1731488400@www.emotionwellness.com
SUMMARY:Open Gym
DESCRIPTION:Open Gym Hours
URL:https://www.emotionwellness.com/event/open-gym/2024-11-13/
LOCATION:e-motion wellness™ Therapy Center\, 431 Isom Road Suite 204\, San Antonio\, TX\, 78216\, United States
CATEGORIES:Open Gym
ATTACH;FMTTYPE=image/png:https://www.emotionwellness.com/wp-content/uploads/2024/03/members1.png
ORGANIZER;CN="Jason Turner":MAILTO:jason@emotionwellness.com
END:VEVENT
BEGIN:VEVENT
DTSTART;TZID=America/Chicago:20241114T050000
DTEND;TZID=America/Chicago:20241114T090000
DTSTAMP:20260421T151746
CREATED:20240610T140103Z
LAST-MODIFIED:20241223T185915Z
UID:10005878-1731560400-1731574800@www.emotionwellness.com
SUMMARY:Open Gym
DESCRIPTION:Open Gym Hours
URL:https://www.emotionwellness.com/event/open-gym/2024-11-14/
LOCATION:e-motion wellness™ Therapy Center\, 431 Isom Road Suite 204\, San Antonio\, TX\, 78216\, United States
CATEGORIES:Open Gym
ATTACH;FMTTYPE=image/png:https://www.emotionwellness.com/wp-content/uploads/2024/03/members1.png
ORGANIZER;CN="Jason Turner":MAILTO:jason@emotionwellness.com
END:VEVENT
BEGIN:VEVENT
DTSTART;TZID=America/Chicago:20241115T050000
DTEND;TZID=America/Chicago:20241115T090000
DTSTAMP:20260421T151746
CREATED:20240610T140103Z
LAST-MODIFIED:20241223T185915Z
UID:10005879-1731646800-1731661200@www.emotionwellness.com
SUMMARY:Open Gym
DESCRIPTION:Open Gym Hours
URL:https://www.emotionwellness.com/event/open-gym/2024-11-15/
LOCATION:e-motion wellness™ Therapy Center\, 431 Isom Road Suite 204\, San Antonio\, TX\, 78216\, United States
CATEGORIES:Open Gym
ATTACH;FMTTYPE=image/png:https://www.emotionwellness.com/wp-content/uploads/2024/03/members1.png
ORGANIZER;CN="Jason Turner":MAILTO:jason@emotionwellness.com
END:VEVENT
BEGIN:VEVENT
DTSTART;TZID=America/Chicago:20241116T090000
DTEND;TZID=America/Chicago:20241116T120000
DTSTAMP:20260421T151746
CREATED:20240610T140621Z
LAST-MODIFIED:20240618T150314Z
UID:10008396-1731747600-1731758400@www.emotionwellness.com
SUMMARY:Open Gym 2
DESCRIPTION:Open Gym Hours
URL:https://www.emotionwellness.com/event/open-gym-2-2/2024-11-16/
LOCATION:e-motion wellness™ Therapy Center\, 431 Isom Road Suite 204\, San Antonio\, TX\, 78216\, United States
CATEGORIES:Open Gym
ATTACH;FMTTYPE=image/png:https://www.emotionwellness.com/wp-content/uploads/2024/03/members1.png
ORGANIZER;CN="Jason Turner":MAILTO:jason@emotionwellness.com
END:VEVENT
BEGIN:VEVENT
DTSTART;TZID=America/Chicago:20241118T050000
DTEND;TZID=America/Chicago:20241118T090000
DTSTAMP:20260421T151746
CREATED:20240610T140103Z
LAST-MODIFIED:20241223T185915Z
UID:10005880-1731906000-1731920400@www.emotionwellness.com
SUMMARY:Open Gym
DESCRIPTION:Open Gym Hours
URL:https://www.emotionwellness.com/event/open-gym/2024-11-18/
LOCATION:e-motion wellness™ Therapy Center\, 431 Isom Road Suite 204\, San Antonio\, TX\, 78216\, United States
CATEGORIES:Open Gym
ATTACH;FMTTYPE=image/png:https://www.emotionwellness.com/wp-content/uploads/2024/03/members1.png
ORGANIZER;CN="Jason Turner":MAILTO:jason@emotionwellness.com
END:VEVENT
BEGIN:VEVENT
DTSTART;TZID=America/Chicago:20241119T050000
DTEND;TZID=America/Chicago:20241119T090000
DTSTAMP:20260421T151746
CREATED:20240610T140103Z
LAST-MODIFIED:20241223T185915Z
UID:10005881-1731992400-1732006800@www.emotionwellness.com
SUMMARY:Open Gym
DESCRIPTION:Open Gym Hours
URL:https://www.emotionwellness.com/event/open-gym/2024-11-19/
LOCATION:e-motion wellness™ Therapy Center\, 431 Isom Road Suite 204\, San Antonio\, TX\, 78216\, United States
CATEGORIES:Open Gym
ATTACH;FMTTYPE=image/png:https://www.emotionwellness.com/wp-content/uploads/2024/03/members1.png
ORGANIZER;CN="Jason Turner":MAILTO:jason@emotionwellness.com
END:VEVENT
BEGIN:VEVENT
DTSTART;TZID=America/Chicago:20241120T050000
DTEND;TZID=America/Chicago:20241120T090000
DTSTAMP:20260421T151746
CREATED:20240610T140103Z
LAST-MODIFIED:20241223T185915Z
UID:10005882-1732078800-1732093200@www.emotionwellness.com
SUMMARY:Open Gym
DESCRIPTION:Open Gym Hours
URL:https://www.emotionwellness.com/event/open-gym/2024-11-20/
LOCATION:e-motion wellness™ Therapy Center\, 431 Isom Road Suite 204\, San Antonio\, TX\, 78216\, United States
CATEGORIES:Open Gym
ATTACH;FMTTYPE=image/png:https://www.emotionwellness.com/wp-content/uploads/2024/03/members1.png
ORGANIZER;CN="Jason Turner":MAILTO:jason@emotionwellness.com
END:VEVENT
BEGIN:VEVENT
DTSTART;TZID=America/Chicago:20241121T050000
DTEND;TZID=America/Chicago:20241121T090000
DTSTAMP:20260421T151746
CREATED:20240610T140103Z
LAST-MODIFIED:20241223T185915Z
UID:10005883-1732165200-1732179600@www.emotionwellness.com
SUMMARY:Open Gym
DESCRIPTION:Open Gym Hours
URL:https://www.emotionwellness.com/event/open-gym/2024-11-21/
LOCATION:e-motion wellness™ Therapy Center\, 431 Isom Road Suite 204\, San Antonio\, TX\, 78216\, United States
CATEGORIES:Open Gym
ATTACH;FMTTYPE=image/png:https://www.emotionwellness.com/wp-content/uploads/2024/03/members1.png
ORGANIZER;CN="Jason Turner":MAILTO:jason@emotionwellness.com
END:VEVENT
BEGIN:VEVENT
DTSTART;TZID=America/Chicago:20241122T050000
DTEND;TZID=America/Chicago:20241122T090000
DTSTAMP:20260421T151746
CREATED:20240610T140103Z
LAST-MODIFIED:20241223T185915Z
UID:10005884-1732251600-1732266000@www.emotionwellness.com
SUMMARY:Open Gym
DESCRIPTION:Open Gym Hours
URL:https://www.emotionwellness.com/event/open-gym/2024-11-22/
LOCATION:e-motion wellness™ Therapy Center\, 431 Isom Road Suite 204\, San Antonio\, TX\, 78216\, United States
CATEGORIES:Open Gym
ATTACH;FMTTYPE=image/png:https://www.emotionwellness.com/wp-content/uploads/2024/03/members1.png
ORGANIZER;CN="Jason Turner":MAILTO:jason@emotionwellness.com
END:VEVENT
BEGIN:VEVENT
DTSTART;TZID=America/Chicago:20241123T090000
DTEND;TZID=America/Chicago:20241123T120000
DTSTAMP:20260421T151746
CREATED:20240610T140621Z
LAST-MODIFIED:20240618T150314Z
UID:10008397-1732352400-1732363200@www.emotionwellness.com
SUMMARY:Open Gym 2
DESCRIPTION:Open Gym Hours
URL:https://www.emotionwellness.com/event/open-gym-2-2/2024-11-23/
LOCATION:e-motion wellness™ Therapy Center\, 431 Isom Road Suite 204\, San Antonio\, TX\, 78216\, United States
CATEGORIES:Open Gym
ATTACH;FMTTYPE=image/png:https://www.emotionwellness.com/wp-content/uploads/2024/03/members1.png
ORGANIZER;CN="Jason Turner":MAILTO:jason@emotionwellness.com
END:VEVENT
BEGIN:VEVENT
DTSTART;TZID=America/Chicago:20241125T050000
DTEND;TZID=America/Chicago:20241125T090000
DTSTAMP:20260421T151747
CREATED:20240610T140103Z
LAST-MODIFIED:20241223T185915Z
UID:10005885-1732510800-1732525200@www.emotionwellness.com
SUMMARY:Open Gym
DESCRIPTION:Open Gym Hours
URL:https://www.emotionwellness.com/event/open-gym/2024-11-25/
LOCATION:e-motion wellness™ Therapy Center\, 431 Isom Road Suite 204\, San Antonio\, TX\, 78216\, United States
CATEGORIES:Open Gym
ATTACH;FMTTYPE=image/png:https://www.emotionwellness.com/wp-content/uploads/2024/03/members1.png
ORGANIZER;CN="Jason Turner":MAILTO:jason@emotionwellness.com
END:VEVENT
BEGIN:VEVENT
DTSTART;TZID=America/Chicago:20241126T050000
DTEND;TZID=America/Chicago:20241126T090000
DTSTAMP:20260421T151747
CREATED:20240610T140103Z
LAST-MODIFIED:20241223T185915Z
UID:10005886-1732597200-1732611600@www.emotionwellness.com
SUMMARY:Open Gym
DESCRIPTION:Open Gym Hours
URL:https://www.emotionwellness.com/event/open-gym/2024-11-26/
LOCATION:e-motion wellness™ Therapy Center\, 431 Isom Road Suite 204\, San Antonio\, TX\, 78216\, United States
CATEGORIES:Open Gym
ATTACH;FMTTYPE=image/png:https://www.emotionwellness.com/wp-content/uploads/2024/03/members1.png
ORGANIZER;CN="Jason Turner":MAILTO:jason@emotionwellness.com
END:VEVENT
BEGIN:VEVENT
DTSTART;TZID=America/Chicago:20241127T050000
DTEND;TZID=America/Chicago:20241127T090000
DTSTAMP:20260421T151747
CREATED:20240610T140103Z
LAST-MODIFIED:20241223T185915Z
UID:10005887-1732683600-1732698000@www.emotionwellness.com
SUMMARY:Open Gym
DESCRIPTION:Open Gym Hours
URL:https://www.emotionwellness.com/event/open-gym/2024-11-27/
LOCATION:e-motion wellness™ Therapy Center\, 431 Isom Road Suite 204\, San Antonio\, TX\, 78216\, United States
CATEGORIES:Open Gym
ATTACH;FMTTYPE=image/png:https://www.emotionwellness.com/wp-content/uploads/2024/03/members1.png
ORGANIZER;CN="Jason Turner":MAILTO:jason@emotionwellness.com
END:VEVENT
BEGIN:VEVENT
DTSTART;TZID=America/Chicago:20241128T050000
DTEND;TZID=America/Chicago:20241128T090000
DTSTAMP:20260421T151747
CREATED:20240610T140103Z
LAST-MODIFIED:20241223T185915Z
UID:10005888-1732770000-1732784400@www.emotionwellness.com
SUMMARY:Open Gym
DESCRIPTION:Open Gym Hours
URL:https://www.emotionwellness.com/event/open-gym/2024-11-28/
LOCATION:e-motion wellness™ Therapy Center\, 431 Isom Road Suite 204\, San Antonio\, TX\, 78216\, United States
CATEGORIES:Open Gym
ATTACH;FMTTYPE=image/png:https://www.emotionwellness.com/wp-content/uploads/2024/03/members1.png
ORGANIZER;CN="Jason Turner":MAILTO:jason@emotionwellness.com
END:VEVENT
BEGIN:VEVENT
DTSTART;TZID=America/Chicago:20241129T050000
DTEND;TZID=America/Chicago:20241129T090000
DTSTAMP:20260421T151747
CREATED:20240610T140103Z
LAST-MODIFIED:20241223T185915Z
UID:10005889-1732856400-1732870800@www.emotionwellness.com
SUMMARY:Open Gym
DESCRIPTION:Open Gym Hours
URL:https://www.emotionwellness.com/event/open-gym/2024-11-29/
LOCATION:e-motion wellness™ Therapy Center\, 431 Isom Road Suite 204\, San Antonio\, TX\, 78216\, United States
CATEGORIES:Open Gym
ATTACH;FMTTYPE=image/png:https://www.emotionwellness.com/wp-content/uploads/2024/03/members1.png
ORGANIZER;CN="Jason Turner":MAILTO:jason@emotionwellness.com
END:VEVENT
BEGIN:VEVENT
DTSTART;TZID=America/Chicago:20241130T090000
DTEND;TZID=America/Chicago:20241130T120000
DTSTAMP:20260421T151747
CREATED:20240610T140621Z
LAST-MODIFIED:20240618T150314Z
UID:10008398-1732957200-1732968000@www.emotionwellness.com
SUMMARY:Open Gym 2
DESCRIPTION:Open Gym Hours
URL:https://www.emotionwellness.com/event/open-gym-2-2/2024-11-30/
LOCATION:e-motion wellness™ Therapy Center\, 431 Isom Road Suite 204\, San Antonio\, TX\, 78216\, United States
CATEGORIES:Open Gym
ATTACH;FMTTYPE=image/png:https://www.emotionwellness.com/wp-content/uploads/2024/03/members1.png
ORGANIZER;CN="Jason Turner":MAILTO:jason@emotionwellness.com
END:VEVENT
BEGIN:VEVENT
DTSTART;TZID=America/Chicago:20241202T050000
DTEND;TZID=America/Chicago:20241202T090000
DTSTAMP:20260421T151747
CREATED:20240610T140103Z
LAST-MODIFIED:20241223T185915Z
UID:10005890-1733115600-1733130000@www.emotionwellness.com
SUMMARY:Open Gym
DESCRIPTION:Open Gym Hours
URL:https://www.emotionwellness.com/event/open-gym/2024-12-02/
LOCATION:e-motion wellness™ Therapy Center\, 431 Isom Road Suite 204\, San Antonio\, TX\, 78216\, United States
CATEGORIES:Open Gym
ATTACH;FMTTYPE=image/png:https://www.emotionwellness.com/wp-content/uploads/2024/03/members1.png
ORGANIZER;CN="Jason Turner":MAILTO:jason@emotionwellness.com
END:VEVENT
BEGIN:VEVENT
DTSTART;TZID=America/Chicago:20241203T050000
DTEND;TZID=America/Chicago:20241203T090000
DTSTAMP:20260421T151747
CREATED:20240610T140103Z
LAST-MODIFIED:20241223T185915Z
UID:10005891-1733202000-1733216400@www.emotionwellness.com
SUMMARY:Open Gym
DESCRIPTION:Open Gym Hours
URL:https://www.emotionwellness.com/event/open-gym/2024-12-03/
LOCATION:e-motion wellness™ Therapy Center\, 431 Isom Road Suite 204\, San Antonio\, TX\, 78216\, United States
CATEGORIES:Open Gym
ATTACH;FMTTYPE=image/png:https://www.emotionwellness.com/wp-content/uploads/2024/03/members1.png
ORGANIZER;CN="Jason Turner":MAILTO:jason@emotionwellness.com
END:VEVENT
BEGIN:VEVENT
DTSTART;TZID=America/Chicago:20241204T050000
DTEND;TZID=America/Chicago:20241204T090000
DTSTAMP:20260421T151747
CREATED:20240610T140103Z
LAST-MODIFIED:20241223T185915Z
UID:10005892-1733288400-1733302800@www.emotionwellness.com
SUMMARY:Open Gym
DESCRIPTION:Open Gym Hours
URL:https://www.emotionwellness.com/event/open-gym/2024-12-04/
LOCATION:e-motion wellness™ Therapy Center\, 431 Isom Road Suite 204\, San Antonio\, TX\, 78216\, United States
CATEGORIES:Open Gym
ATTACH;FMTTYPE=image/png:https://www.emotionwellness.com/wp-content/uploads/2024/03/members1.png
ORGANIZER;CN="Jason Turner":MAILTO:jason@emotionwellness.com
END:VEVENT
BEGIN:VEVENT
DTSTART;TZID=America/Chicago:20241205T050000
DTEND;TZID=America/Chicago:20241205T090000
DTSTAMP:20260421T151747
CREATED:20240610T140103Z
LAST-MODIFIED:20241223T185915Z
UID:10005893-1733374800-1733389200@www.emotionwellness.com
SUMMARY:Open Gym
DESCRIPTION:Open Gym Hours
URL:https://www.emotionwellness.com/event/open-gym/2024-12-05/
LOCATION:e-motion wellness™ Therapy Center\, 431 Isom Road Suite 204\, San Antonio\, TX\, 78216\, United States
CATEGORIES:Open Gym
ATTACH;FMTTYPE=image/png:https://www.emotionwellness.com/wp-content/uploads/2024/03/members1.png
ORGANIZER;CN="Jason Turner":MAILTO:jason@emotionwellness.com
END:VEVENT
BEGIN:VEVENT
DTSTART;TZID=America/Chicago:20241206T050000
DTEND;TZID=America/Chicago:20241206T090000
DTSTAMP:20260421T151747
CREATED:20240610T140103Z
LAST-MODIFIED:20241223T185915Z
UID:10005894-1733461200-1733475600@www.emotionwellness.com
SUMMARY:Open Gym
DESCRIPTION:Open Gym Hours
URL:https://www.emotionwellness.com/event/open-gym/2024-12-06/
LOCATION:e-motion wellness™ Therapy Center\, 431 Isom Road Suite 204\, San Antonio\, TX\, 78216\, United States
CATEGORIES:Open Gym
ATTACH;FMTTYPE=image/png:https://www.emotionwellness.com/wp-content/uploads/2024/03/members1.png
ORGANIZER;CN="Jason Turner":MAILTO:jason@emotionwellness.com
END:VEVENT
BEGIN:VEVENT
DTSTART;TZID=America/Chicago:20241207T090000
DTEND;TZID=America/Chicago:20241207T120000
DTSTAMP:20260421T151747
CREATED:20240610T140621Z
LAST-MODIFIED:20240618T150314Z
UID:10008399-1733562000-1733572800@www.emotionwellness.com
SUMMARY:Open Gym 2
DESCRIPTION:Open Gym Hours
URL:https://www.emotionwellness.com/event/open-gym-2-2/2024-12-07/
LOCATION:e-motion wellness™ Therapy Center\, 431 Isom Road Suite 204\, San Antonio\, TX\, 78216\, United States
CATEGORIES:Open Gym
ATTACH;FMTTYPE=image/png:https://www.emotionwellness.com/wp-content/uploads/2024/03/members1.png
ORGANIZER;CN="Jason Turner":MAILTO:jason@emotionwellness.com
END:VEVENT
BEGIN:VEVENT
DTSTART;TZID=America/Chicago:20241209T050000
DTEND;TZID=America/Chicago:20241209T090000
DTSTAMP:20260421T151747
CREATED:20240610T140103Z
LAST-MODIFIED:20241223T185915Z
UID:10005895-1733720400-1733734800@www.emotionwellness.com
SUMMARY:Open Gym
DESCRIPTION:Open Gym Hours
URL:https://www.emotionwellness.com/event/open-gym/2024-12-09/
LOCATION:e-motion wellness™ Therapy Center\, 431 Isom Road Suite 204\, San Antonio\, TX\, 78216\, United States
CATEGORIES:Open Gym
ATTACH;FMTTYPE=image/png:https://www.emotionwellness.com/wp-content/uploads/2024/03/members1.png
ORGANIZER;CN="Jason Turner":MAILTO:jason@emotionwellness.com
END:VEVENT
BEGIN:VEVENT
DTSTART;TZID=America/Chicago:20241210T050000
DTEND;TZID=America/Chicago:20241210T090000
DTSTAMP:20260421T151747
CREATED:20240610T140103Z
LAST-MODIFIED:20241223T185915Z
UID:10005896-1733806800-1733821200@www.emotionwellness.com
SUMMARY:Open Gym
DESCRIPTION:Open Gym Hours
URL:https://www.emotionwellness.com/event/open-gym/2024-12-10/
LOCATION:e-motion wellness™ Therapy Center\, 431 Isom Road Suite 204\, San Antonio\, TX\, 78216\, United States
CATEGORIES:Open Gym
ATTACH;FMTTYPE=image/png:https://www.emotionwellness.com/wp-content/uploads/2024/03/members1.png
ORGANIZER;CN="Jason Turner":MAILTO:jason@emotionwellness.com
END:VEVENT
BEGIN:VEVENT
DTSTART;TZID=America/Chicago:20241211T050000
DTEND;TZID=America/Chicago:20241211T090000
DTSTAMP:20260421T151747
CREATED:20240610T140103Z
LAST-MODIFIED:20241223T185915Z
UID:10005897-1733893200-1733907600@www.emotionwellness.com
SUMMARY:Open Gym
DESCRIPTION:Open Gym Hours
URL:https://www.emotionwellness.com/event/open-gym/2024-12-11/
LOCATION:e-motion wellness™ Therapy Center\, 431 Isom Road Suite 204\, San Antonio\, TX\, 78216\, United States
CATEGORIES:Open Gym
ATTACH;FMTTYPE=image/png:https://www.emotionwellness.com/wp-content/uploads/2024/03/members1.png
ORGANIZER;CN="Jason Turner":MAILTO:jason@emotionwellness.com
END:VEVENT
BEGIN:VEVENT
DTSTART;TZID=America/Chicago:20241212T050000
DTEND;TZID=America/Chicago:20241212T090000
DTSTAMP:20260421T151747
CREATED:20240610T140103Z
LAST-MODIFIED:20241223T185915Z
UID:10005898-1733979600-1733994000@www.emotionwellness.com
SUMMARY:Open Gym
DESCRIPTION:Open Gym Hours
URL:https://www.emotionwellness.com/event/open-gym/2024-12-12/
LOCATION:e-motion wellness™ Therapy Center\, 431 Isom Road Suite 204\, San Antonio\, TX\, 78216\, United States
CATEGORIES:Open Gym
ATTACH;FMTTYPE=image/png:https://www.emotionwellness.com/wp-content/uploads/2024/03/members1.png
ORGANIZER;CN="Jason Turner":MAILTO:jason@emotionwellness.com
END:VEVENT
BEGIN:VEVENT
DTSTART;TZID=America/Chicago:20241213T050000
DTEND;TZID=America/Chicago:20241213T090000
DTSTAMP:20260421T151747
CREATED:20240610T140103Z
LAST-MODIFIED:20241223T185915Z
UID:10005899-1734066000-1734080400@www.emotionwellness.com
SUMMARY:Open Gym
DESCRIPTION:Open Gym Hours
URL:https://www.emotionwellness.com/event/open-gym/2024-12-13/
LOCATION:e-motion wellness™ Therapy Center\, 431 Isom Road Suite 204\, San Antonio\, TX\, 78216\, United States
CATEGORIES:Open Gym
ATTACH;FMTTYPE=image/png:https://www.emotionwellness.com/wp-content/uploads/2024/03/members1.png
ORGANIZER;CN="Jason Turner":MAILTO:jason@emotionwellness.com
END:VEVENT
BEGIN:VEVENT
DTSTART;TZID=America/Chicago:20241214T090000
DTEND;TZID=America/Chicago:20241214T120000
DTSTAMP:20260421T151747
CREATED:20240610T140621Z
LAST-MODIFIED:20240618T150314Z
UID:10008400-1734166800-1734177600@www.emotionwellness.com
SUMMARY:Open Gym 2
DESCRIPTION:Open Gym Hours
URL:https://www.emotionwellness.com/event/open-gym-2-2/2024-12-14/
LOCATION:e-motion wellness™ Therapy Center\, 431 Isom Road Suite 204\, San Antonio\, TX\, 78216\, United States
CATEGORIES:Open Gym
ATTACH;FMTTYPE=image/png:https://www.emotionwellness.com/wp-content/uploads/2024/03/members1.png
ORGANIZER;CN="Jason Turner":MAILTO:jason@emotionwellness.com
END:VEVENT
END:VCALENDAR