BEGIN:VCALENDAR
VERSION:2.0
PRODID:-//e-motion wellness™ - ECPv6.14.0//NONSGML v1.0//EN
CALSCALE:GREGORIAN
METHOD:PUBLISH
X-ORIGINAL-URL:https://www.emotionwellness.com
X-WR-CALDESC:Events for e-motion wellness™
REFRESH-INTERVAL;VALUE=DURATION:PT1H
X-Robots-Tag:noindex
X-PUBLISHED-TTL:PT1H
BEGIN:VTIMEZONE
TZID:America/Chicago
BEGIN:DAYLIGHT
TZOFFSETFROM:-0600
TZOFFSETTO:-0500
TZNAME:CDT
DTSTART:20240310T080000
END:DAYLIGHT
BEGIN:STANDARD
TZOFFSETFROM:-0500
TZOFFSETTO:-0600
TZNAME:CST
DTSTART:20241103T070000
END:STANDARD
END:VTIMEZONE
BEGIN:VEVENT
DTSTART;TZID=America/Chicago:20240814T050000
DTEND;TZID=America/Chicago:20240814T090000
DTSTAMP:20260419T100537
CREATED:20240610T140103Z
LAST-MODIFIED:20241223T185915Z
UID:10005812-1723611600-1723626000@www.emotionwellness.com
SUMMARY:Open Gym
DESCRIPTION:Open Gym Hours
URL:https://www.emotionwellness.com/event/open-gym/2024-08-14/
LOCATION:e-motion wellness™ Therapy Center\, 431 Isom Road Suite 204\, San Antonio\, TX\, 78216\, United States
CATEGORIES:Open Gym
ATTACH;FMTTYPE=image/png:https://www.emotionwellness.com/wp-content/uploads/2024/03/members1.png
ORGANIZER;CN="Jason Turner":MAILTO:jason@emotionwellness.com
END:VEVENT
BEGIN:VEVENT
DTSTART;TZID=America/Chicago:20240815T050000
DTEND;TZID=America/Chicago:20240815T090000
DTSTAMP:20260419T100537
CREATED:20240610T140103Z
LAST-MODIFIED:20241223T185915Z
UID:10005813-1723698000-1723712400@www.emotionwellness.com
SUMMARY:Open Gym
DESCRIPTION:Open Gym Hours
URL:https://www.emotionwellness.com/event/open-gym/2024-08-15/
LOCATION:e-motion wellness™ Therapy Center\, 431 Isom Road Suite 204\, San Antonio\, TX\, 78216\, United States
CATEGORIES:Open Gym
ATTACH;FMTTYPE=image/png:https://www.emotionwellness.com/wp-content/uploads/2024/03/members1.png
ORGANIZER;CN="Jason Turner":MAILTO:jason@emotionwellness.com
END:VEVENT
BEGIN:VEVENT
DTSTART;TZID=America/Chicago:20240816T050000
DTEND;TZID=America/Chicago:20240816T090000
DTSTAMP:20260419T100537
CREATED:20240610T140103Z
LAST-MODIFIED:20241223T185915Z
UID:10005814-1723784400-1723798800@www.emotionwellness.com
SUMMARY:Open Gym
DESCRIPTION:Open Gym Hours
URL:https://www.emotionwellness.com/event/open-gym/2024-08-16/
LOCATION:e-motion wellness™ Therapy Center\, 431 Isom Road Suite 204\, San Antonio\, TX\, 78216\, United States
CATEGORIES:Open Gym
ATTACH;FMTTYPE=image/png:https://www.emotionwellness.com/wp-content/uploads/2024/03/members1.png
ORGANIZER;CN="Jason Turner":MAILTO:jason@emotionwellness.com
END:VEVENT
BEGIN:VEVENT
DTSTART;TZID=America/Chicago:20240817T090000
DTEND;TZID=America/Chicago:20240817T120000
DTSTAMP:20260419T100538
CREATED:20240610T140621Z
LAST-MODIFIED:20240618T150314Z
UID:10008383-1723885200-1723896000@www.emotionwellness.com
SUMMARY:Open Gym 2
DESCRIPTION:Open Gym Hours
URL:https://www.emotionwellness.com/event/open-gym-2-2/2024-08-17/
LOCATION:e-motion wellness™ Therapy Center\, 431 Isom Road Suite 204\, San Antonio\, TX\, 78216\, United States
CATEGORIES:Open Gym
ATTACH;FMTTYPE=image/png:https://www.emotionwellness.com/wp-content/uploads/2024/03/members1.png
ORGANIZER;CN="Jason Turner":MAILTO:jason@emotionwellness.com
END:VEVENT
BEGIN:VEVENT
DTSTART;TZID=America/Chicago:20240819T050000
DTEND;TZID=America/Chicago:20240819T090000
DTSTAMP:20260419T100538
CREATED:20240610T140103Z
LAST-MODIFIED:20241223T185915Z
UID:10005815-1724043600-1724058000@www.emotionwellness.com
SUMMARY:Open Gym
DESCRIPTION:Open Gym Hours
URL:https://www.emotionwellness.com/event/open-gym/2024-08-19/
LOCATION:e-motion wellness™ Therapy Center\, 431 Isom Road Suite 204\, San Antonio\, TX\, 78216\, United States
CATEGORIES:Open Gym
ATTACH;FMTTYPE=image/png:https://www.emotionwellness.com/wp-content/uploads/2024/03/members1.png
ORGANIZER;CN="Jason Turner":MAILTO:jason@emotionwellness.com
END:VEVENT
BEGIN:VEVENT
DTSTART;TZID=America/Chicago:20240820T050000
DTEND;TZID=America/Chicago:20240820T090000
DTSTAMP:20260419T100538
CREATED:20240610T140103Z
LAST-MODIFIED:20241223T185915Z
UID:10005816-1724130000-1724144400@www.emotionwellness.com
SUMMARY:Open Gym
DESCRIPTION:Open Gym Hours
URL:https://www.emotionwellness.com/event/open-gym/2024-08-20/
LOCATION:e-motion wellness™ Therapy Center\, 431 Isom Road Suite 204\, San Antonio\, TX\, 78216\, United States
CATEGORIES:Open Gym
ATTACH;FMTTYPE=image/png:https://www.emotionwellness.com/wp-content/uploads/2024/03/members1.png
ORGANIZER;CN="Jason Turner":MAILTO:jason@emotionwellness.com
END:VEVENT
BEGIN:VEVENT
DTSTART;TZID=America/Chicago:20240821T050000
DTEND;TZID=America/Chicago:20240821T090000
DTSTAMP:20260419T100538
CREATED:20240610T140103Z
LAST-MODIFIED:20241223T185915Z
UID:10005817-1724216400-1724230800@www.emotionwellness.com
SUMMARY:Open Gym
DESCRIPTION:Open Gym Hours
URL:https://www.emotionwellness.com/event/open-gym/2024-08-21/
LOCATION:e-motion wellness™ Therapy Center\, 431 Isom Road Suite 204\, San Antonio\, TX\, 78216\, United States
CATEGORIES:Open Gym
ATTACH;FMTTYPE=image/png:https://www.emotionwellness.com/wp-content/uploads/2024/03/members1.png
ORGANIZER;CN="Jason Turner":MAILTO:jason@emotionwellness.com
END:VEVENT
BEGIN:VEVENT
DTSTART;TZID=America/Chicago:20240822T050000
DTEND;TZID=America/Chicago:20240822T090000
DTSTAMP:20260419T100538
CREATED:20240610T140103Z
LAST-MODIFIED:20241223T185915Z
UID:10005818-1724302800-1724317200@www.emotionwellness.com
SUMMARY:Open Gym
DESCRIPTION:Open Gym Hours
URL:https://www.emotionwellness.com/event/open-gym/2024-08-22/
LOCATION:e-motion wellness™ Therapy Center\, 431 Isom Road Suite 204\, San Antonio\, TX\, 78216\, United States
CATEGORIES:Open Gym
ATTACH;FMTTYPE=image/png:https://www.emotionwellness.com/wp-content/uploads/2024/03/members1.png
ORGANIZER;CN="Jason Turner":MAILTO:jason@emotionwellness.com
END:VEVENT
BEGIN:VEVENT
DTSTART;TZID=America/Chicago:20240823T050000
DTEND;TZID=America/Chicago:20240823T090000
DTSTAMP:20260419T100538
CREATED:20240610T140103Z
LAST-MODIFIED:20241223T185915Z
UID:10005819-1724389200-1724403600@www.emotionwellness.com
SUMMARY:Open Gym
DESCRIPTION:Open Gym Hours
URL:https://www.emotionwellness.com/event/open-gym/2024-08-23/
LOCATION:e-motion wellness™ Therapy Center\, 431 Isom Road Suite 204\, San Antonio\, TX\, 78216\, United States
CATEGORIES:Open Gym
ATTACH;FMTTYPE=image/png:https://www.emotionwellness.com/wp-content/uploads/2024/03/members1.png
ORGANIZER;CN="Jason Turner":MAILTO:jason@emotionwellness.com
END:VEVENT
BEGIN:VEVENT
DTSTART;TZID=America/Chicago:20240824T090000
DTEND;TZID=America/Chicago:20240824T120000
DTSTAMP:20260419T100538
CREATED:20240610T140621Z
LAST-MODIFIED:20240618T150314Z
UID:10008384-1724490000-1724500800@www.emotionwellness.com
SUMMARY:Open Gym 2
DESCRIPTION:Open Gym Hours
URL:https://www.emotionwellness.com/event/open-gym-2-2/2024-08-24/
LOCATION:e-motion wellness™ Therapy Center\, 431 Isom Road Suite 204\, San Antonio\, TX\, 78216\, United States
CATEGORIES:Open Gym
ATTACH;FMTTYPE=image/png:https://www.emotionwellness.com/wp-content/uploads/2024/03/members1.png
ORGANIZER;CN="Jason Turner":MAILTO:jason@emotionwellness.com
END:VEVENT
BEGIN:VEVENT
DTSTART;TZID=America/Chicago:20240826T050000
DTEND;TZID=America/Chicago:20240826T090000
DTSTAMP:20260419T100538
CREATED:20240610T140103Z
LAST-MODIFIED:20241223T185915Z
UID:10005820-1724648400-1724662800@www.emotionwellness.com
SUMMARY:Open Gym
DESCRIPTION:Open Gym Hours
URL:https://www.emotionwellness.com/event/open-gym/2024-08-26/
LOCATION:e-motion wellness™ Therapy Center\, 431 Isom Road Suite 204\, San Antonio\, TX\, 78216\, United States
CATEGORIES:Open Gym
ATTACH;FMTTYPE=image/png:https://www.emotionwellness.com/wp-content/uploads/2024/03/members1.png
ORGANIZER;CN="Jason Turner":MAILTO:jason@emotionwellness.com
END:VEVENT
BEGIN:VEVENT
DTSTART;TZID=America/Chicago:20240827T050000
DTEND;TZID=America/Chicago:20240827T090000
DTSTAMP:20260419T100538
CREATED:20240610T140103Z
LAST-MODIFIED:20241223T185915Z
UID:10005821-1724734800-1724749200@www.emotionwellness.com
SUMMARY:Open Gym
DESCRIPTION:Open Gym Hours
URL:https://www.emotionwellness.com/event/open-gym/2024-08-27/
LOCATION:e-motion wellness™ Therapy Center\, 431 Isom Road Suite 204\, San Antonio\, TX\, 78216\, United States
CATEGORIES:Open Gym
ATTACH;FMTTYPE=image/png:https://www.emotionwellness.com/wp-content/uploads/2024/03/members1.png
ORGANIZER;CN="Jason Turner":MAILTO:jason@emotionwellness.com
END:VEVENT
BEGIN:VEVENT
DTSTART;TZID=America/Chicago:20240828T050000
DTEND;TZID=America/Chicago:20240828T090000
DTSTAMP:20260419T100538
CREATED:20240610T140103Z
LAST-MODIFIED:20241223T185915Z
UID:10005822-1724821200-1724835600@www.emotionwellness.com
SUMMARY:Open Gym
DESCRIPTION:Open Gym Hours
URL:https://www.emotionwellness.com/event/open-gym/2024-08-28/
LOCATION:e-motion wellness™ Therapy Center\, 431 Isom Road Suite 204\, San Antonio\, TX\, 78216\, United States
CATEGORIES:Open Gym
ATTACH;FMTTYPE=image/png:https://www.emotionwellness.com/wp-content/uploads/2024/03/members1.png
ORGANIZER;CN="Jason Turner":MAILTO:jason@emotionwellness.com
END:VEVENT
BEGIN:VEVENT
DTSTART;TZID=America/Chicago:20240829T050000
DTEND;TZID=America/Chicago:20240829T090000
DTSTAMP:20260419T100538
CREATED:20240610T140103Z
LAST-MODIFIED:20241223T185915Z
UID:10005823-1724907600-1724922000@www.emotionwellness.com
SUMMARY:Open Gym
DESCRIPTION:Open Gym Hours
URL:https://www.emotionwellness.com/event/open-gym/2024-08-29/
LOCATION:e-motion wellness™ Therapy Center\, 431 Isom Road Suite 204\, San Antonio\, TX\, 78216\, United States
CATEGORIES:Open Gym
ATTACH;FMTTYPE=image/png:https://www.emotionwellness.com/wp-content/uploads/2024/03/members1.png
ORGANIZER;CN="Jason Turner":MAILTO:jason@emotionwellness.com
END:VEVENT
BEGIN:VEVENT
DTSTART;TZID=America/Chicago:20240830T050000
DTEND;TZID=America/Chicago:20240830T090000
DTSTAMP:20260419T100538
CREATED:20240610T140103Z
LAST-MODIFIED:20241223T185915Z
UID:10005824-1724994000-1725008400@www.emotionwellness.com
SUMMARY:Open Gym
DESCRIPTION:Open Gym Hours
URL:https://www.emotionwellness.com/event/open-gym/2024-08-30/
LOCATION:e-motion wellness™ Therapy Center\, 431 Isom Road Suite 204\, San Antonio\, TX\, 78216\, United States
CATEGORIES:Open Gym
ATTACH;FMTTYPE=image/png:https://www.emotionwellness.com/wp-content/uploads/2024/03/members1.png
ORGANIZER;CN="Jason Turner":MAILTO:jason@emotionwellness.com
END:VEVENT
BEGIN:VEVENT
DTSTART;TZID=America/Chicago:20240831T090000
DTEND;TZID=America/Chicago:20240831T120000
DTSTAMP:20260419T100538
CREATED:20240610T140621Z
LAST-MODIFIED:20240618T150314Z
UID:10008385-1725094800-1725105600@www.emotionwellness.com
SUMMARY:Open Gym 2
DESCRIPTION:Open Gym Hours
URL:https://www.emotionwellness.com/event/open-gym-2-2/2024-08-31/
LOCATION:e-motion wellness™ Therapy Center\, 431 Isom Road Suite 204\, San Antonio\, TX\, 78216\, United States
CATEGORIES:Open Gym
ATTACH;FMTTYPE=image/png:https://www.emotionwellness.com/wp-content/uploads/2024/03/members1.png
ORGANIZER;CN="Jason Turner":MAILTO:jason@emotionwellness.com
END:VEVENT
BEGIN:VEVENT
DTSTART;TZID=America/Chicago:20240902T050000
DTEND;TZID=America/Chicago:20240902T090000
DTSTAMP:20260419T100538
CREATED:20240610T140103Z
LAST-MODIFIED:20241223T185915Z
UID:10005825-1725253200-1725267600@www.emotionwellness.com
SUMMARY:Open Gym
DESCRIPTION:Open Gym Hours
URL:https://www.emotionwellness.com/event/open-gym/2024-09-02/
LOCATION:e-motion wellness™ Therapy Center\, 431 Isom Road Suite 204\, San Antonio\, TX\, 78216\, United States
CATEGORIES:Open Gym
ATTACH;FMTTYPE=image/png:https://www.emotionwellness.com/wp-content/uploads/2024/03/members1.png
ORGANIZER;CN="Jason Turner":MAILTO:jason@emotionwellness.com
END:VEVENT
BEGIN:VEVENT
DTSTART;TZID=America/Chicago:20240903T050000
DTEND;TZID=America/Chicago:20240903T090000
DTSTAMP:20260419T100538
CREATED:20240610T140103Z
LAST-MODIFIED:20241223T185915Z
UID:10005826-1725339600-1725354000@www.emotionwellness.com
SUMMARY:Open Gym
DESCRIPTION:Open Gym Hours
URL:https://www.emotionwellness.com/event/open-gym/2024-09-03/
LOCATION:e-motion wellness™ Therapy Center\, 431 Isom Road Suite 204\, San Antonio\, TX\, 78216\, United States
CATEGORIES:Open Gym
ATTACH;FMTTYPE=image/png:https://www.emotionwellness.com/wp-content/uploads/2024/03/members1.png
ORGANIZER;CN="Jason Turner":MAILTO:jason@emotionwellness.com
END:VEVENT
BEGIN:VEVENT
DTSTART;TZID=America/Chicago:20240904T050000
DTEND;TZID=America/Chicago:20240904T090000
DTSTAMP:20260419T100538
CREATED:20240610T140103Z
LAST-MODIFIED:20241223T185915Z
UID:10005827-1725426000-1725440400@www.emotionwellness.com
SUMMARY:Open Gym
DESCRIPTION:Open Gym Hours
URL:https://www.emotionwellness.com/event/open-gym/2024-09-04/
LOCATION:e-motion wellness™ Therapy Center\, 431 Isom Road Suite 204\, San Antonio\, TX\, 78216\, United States
CATEGORIES:Open Gym
ATTACH;FMTTYPE=image/png:https://www.emotionwellness.com/wp-content/uploads/2024/03/members1.png
ORGANIZER;CN="Jason Turner":MAILTO:jason@emotionwellness.com
END:VEVENT
BEGIN:VEVENT
DTSTART;TZID=America/Chicago:20240905T050000
DTEND;TZID=America/Chicago:20240905T090000
DTSTAMP:20260419T100538
CREATED:20240610T140103Z
LAST-MODIFIED:20241223T185915Z
UID:10005828-1725512400-1725526800@www.emotionwellness.com
SUMMARY:Open Gym
DESCRIPTION:Open Gym Hours
URL:https://www.emotionwellness.com/event/open-gym/2024-09-05/
LOCATION:e-motion wellness™ Therapy Center\, 431 Isom Road Suite 204\, San Antonio\, TX\, 78216\, United States
CATEGORIES:Open Gym
ATTACH;FMTTYPE=image/png:https://www.emotionwellness.com/wp-content/uploads/2024/03/members1.png
ORGANIZER;CN="Jason Turner":MAILTO:jason@emotionwellness.com
END:VEVENT
BEGIN:VEVENT
DTSTART;TZID=America/Chicago:20240906T050000
DTEND;TZID=America/Chicago:20240906T090000
DTSTAMP:20260419T100538
CREATED:20240610T140103Z
LAST-MODIFIED:20241223T185915Z
UID:10005829-1725598800-1725613200@www.emotionwellness.com
SUMMARY:Open Gym
DESCRIPTION:Open Gym Hours
URL:https://www.emotionwellness.com/event/open-gym/2024-09-06/
LOCATION:e-motion wellness™ Therapy Center\, 431 Isom Road Suite 204\, San Antonio\, TX\, 78216\, United States
CATEGORIES:Open Gym
ATTACH;FMTTYPE=image/png:https://www.emotionwellness.com/wp-content/uploads/2024/03/members1.png
ORGANIZER;CN="Jason Turner":MAILTO:jason@emotionwellness.com
END:VEVENT
BEGIN:VEVENT
DTSTART;TZID=America/Chicago:20240907T090000
DTEND;TZID=America/Chicago:20240907T120000
DTSTAMP:20260419T100538
CREATED:20240610T140621Z
LAST-MODIFIED:20240618T150314Z
UID:10008386-1725699600-1725710400@www.emotionwellness.com
SUMMARY:Open Gym 2
DESCRIPTION:Open Gym Hours
URL:https://www.emotionwellness.com/event/open-gym-2-2/2024-09-07/
LOCATION:e-motion wellness™ Therapy Center\, 431 Isom Road Suite 204\, San Antonio\, TX\, 78216\, United States
CATEGORIES:Open Gym
ATTACH;FMTTYPE=image/png:https://www.emotionwellness.com/wp-content/uploads/2024/03/members1.png
ORGANIZER;CN="Jason Turner":MAILTO:jason@emotionwellness.com
END:VEVENT
BEGIN:VEVENT
DTSTART;TZID=America/Chicago:20240909T050000
DTEND;TZID=America/Chicago:20240909T090000
DTSTAMP:20260419T100538
CREATED:20240610T140103Z
LAST-MODIFIED:20241223T185915Z
UID:10005830-1725858000-1725872400@www.emotionwellness.com
SUMMARY:Open Gym
DESCRIPTION:Open Gym Hours
URL:https://www.emotionwellness.com/event/open-gym/2024-09-09/
LOCATION:e-motion wellness™ Therapy Center\, 431 Isom Road Suite 204\, San Antonio\, TX\, 78216\, United States
CATEGORIES:Open Gym
ATTACH;FMTTYPE=image/png:https://www.emotionwellness.com/wp-content/uploads/2024/03/members1.png
ORGANIZER;CN="Jason Turner":MAILTO:jason@emotionwellness.com
END:VEVENT
BEGIN:VEVENT
DTSTART;TZID=America/Chicago:20240910T050000
DTEND;TZID=America/Chicago:20240910T090000
DTSTAMP:20260419T100538
CREATED:20240610T140103Z
LAST-MODIFIED:20241223T185915Z
UID:10005831-1725944400-1725958800@www.emotionwellness.com
SUMMARY:Open Gym
DESCRIPTION:Open Gym Hours
URL:https://www.emotionwellness.com/event/open-gym/2024-09-10/
LOCATION:e-motion wellness™ Therapy Center\, 431 Isom Road Suite 204\, San Antonio\, TX\, 78216\, United States
CATEGORIES:Open Gym
ATTACH;FMTTYPE=image/png:https://www.emotionwellness.com/wp-content/uploads/2024/03/members1.png
ORGANIZER;CN="Jason Turner":MAILTO:jason@emotionwellness.com
END:VEVENT
BEGIN:VEVENT
DTSTART;TZID=America/Chicago:20240911T050000
DTEND;TZID=America/Chicago:20240911T090000
DTSTAMP:20260419T100538
CREATED:20240610T140103Z
LAST-MODIFIED:20241223T185915Z
UID:10005832-1726030800-1726045200@www.emotionwellness.com
SUMMARY:Open Gym
DESCRIPTION:Open Gym Hours
URL:https://www.emotionwellness.com/event/open-gym/2024-09-11/
LOCATION:e-motion wellness™ Therapy Center\, 431 Isom Road Suite 204\, San Antonio\, TX\, 78216\, United States
CATEGORIES:Open Gym
ATTACH;FMTTYPE=image/png:https://www.emotionwellness.com/wp-content/uploads/2024/03/members1.png
ORGANIZER;CN="Jason Turner":MAILTO:jason@emotionwellness.com
END:VEVENT
BEGIN:VEVENT
DTSTART;TZID=America/Chicago:20240912T050000
DTEND;TZID=America/Chicago:20240912T090000
DTSTAMP:20260419T100538
CREATED:20240610T140103Z
LAST-MODIFIED:20241223T185915Z
UID:10005833-1726117200-1726131600@www.emotionwellness.com
SUMMARY:Open Gym
DESCRIPTION:Open Gym Hours
URL:https://www.emotionwellness.com/event/open-gym/2024-09-12/
LOCATION:e-motion wellness™ Therapy Center\, 431 Isom Road Suite 204\, San Antonio\, TX\, 78216\, United States
CATEGORIES:Open Gym
ATTACH;FMTTYPE=image/png:https://www.emotionwellness.com/wp-content/uploads/2024/03/members1.png
ORGANIZER;CN="Jason Turner":MAILTO:jason@emotionwellness.com
END:VEVENT
BEGIN:VEVENT
DTSTART;TZID=America/Chicago:20240913T050000
DTEND;TZID=America/Chicago:20240913T090000
DTSTAMP:20260419T100538
CREATED:20240610T140103Z
LAST-MODIFIED:20241223T185915Z
UID:10005834-1726203600-1726218000@www.emotionwellness.com
SUMMARY:Open Gym
DESCRIPTION:Open Gym Hours
URL:https://www.emotionwellness.com/event/open-gym/2024-09-13/
LOCATION:e-motion wellness™ Therapy Center\, 431 Isom Road Suite 204\, San Antonio\, TX\, 78216\, United States
CATEGORIES:Open Gym
ATTACH;FMTTYPE=image/png:https://www.emotionwellness.com/wp-content/uploads/2024/03/members1.png
ORGANIZER;CN="Jason Turner":MAILTO:jason@emotionwellness.com
END:VEVENT
BEGIN:VEVENT
DTSTART;TZID=America/Chicago:20240914T090000
DTEND;TZID=America/Chicago:20240914T120000
DTSTAMP:20260419T100538
CREATED:20240610T140621Z
LAST-MODIFIED:20240618T150314Z
UID:10008387-1726304400-1726315200@www.emotionwellness.com
SUMMARY:Open Gym 2
DESCRIPTION:Open Gym Hours
URL:https://www.emotionwellness.com/event/open-gym-2-2/2024-09-14/
LOCATION:e-motion wellness™ Therapy Center\, 431 Isom Road Suite 204\, San Antonio\, TX\, 78216\, United States
CATEGORIES:Open Gym
ATTACH;FMTTYPE=image/png:https://www.emotionwellness.com/wp-content/uploads/2024/03/members1.png
ORGANIZER;CN="Jason Turner":MAILTO:jason@emotionwellness.com
END:VEVENT
BEGIN:VEVENT
DTSTART;TZID=America/Chicago:20240916T050000
DTEND;TZID=America/Chicago:20240916T090000
DTSTAMP:20260419T100538
CREATED:20240610T140103Z
LAST-MODIFIED:20241223T185915Z
UID:10005835-1726462800-1726477200@www.emotionwellness.com
SUMMARY:Open Gym
DESCRIPTION:Open Gym Hours
URL:https://www.emotionwellness.com/event/open-gym/2024-09-16/
LOCATION:e-motion wellness™ Therapy Center\, 431 Isom Road Suite 204\, San Antonio\, TX\, 78216\, United States
CATEGORIES:Open Gym
ATTACH;FMTTYPE=image/png:https://www.emotionwellness.com/wp-content/uploads/2024/03/members1.png
ORGANIZER;CN="Jason Turner":MAILTO:jason@emotionwellness.com
END:VEVENT
BEGIN:VEVENT
DTSTART;TZID=America/Chicago:20240917T050000
DTEND;TZID=America/Chicago:20240917T090000
DTSTAMP:20260419T100538
CREATED:20240610T140103Z
LAST-MODIFIED:20241223T185915Z
UID:10005836-1726549200-1726563600@www.emotionwellness.com
SUMMARY:Open Gym
DESCRIPTION:Open Gym Hours
URL:https://www.emotionwellness.com/event/open-gym/2024-09-17/
LOCATION:e-motion wellness™ Therapy Center\, 431 Isom Road Suite 204\, San Antonio\, TX\, 78216\, United States
CATEGORIES:Open Gym
ATTACH;FMTTYPE=image/png:https://www.emotionwellness.com/wp-content/uploads/2024/03/members1.png
ORGANIZER;CN="Jason Turner":MAILTO:jason@emotionwellness.com
END:VEVENT
END:VCALENDAR