BEGIN:VCALENDAR
VERSION:2.0
PRODID:-//e-motion wellness™ - ECPv6.14.0//NONSGML v1.0//EN
CALSCALE:GREGORIAN
METHOD:PUBLISH
X-WR-CALNAME:e-motion wellness™
X-ORIGINAL-URL:https://www.emotionwellness.com
X-WR-CALDESC:Events for e-motion wellness™
REFRESH-INTERVAL;VALUE=DURATION:PT1H
X-Robots-Tag:noindex
X-PUBLISHED-TTL:PT1H
BEGIN:VTIMEZONE
TZID:America/Chicago
BEGIN:DAYLIGHT
TZOFFSETFROM:-0600
TZOFFSETTO:-0500
TZNAME:CDT
DTSTART:20260308T080000
END:DAYLIGHT
BEGIN:STANDARD
TZOFFSETFROM:-0500
TZOFFSETTO:-0600
TZNAME:CST
DTSTART:20261101T070000
END:STANDARD
END:VTIMEZONE
BEGIN:VEVENT
DTSTART;TZID=America/Chicago:20260711T090000
DTEND;TZID=America/Chicago:20260711T120000
DTSTAMP:20260424T090316
CREATED:20240610T140621Z
LAST-MODIFIED:20240618T150314Z
UID:10008482-1783760400-1783771200@www.emotionwellness.com
SUMMARY:Open Gym 2
DESCRIPTION:Open Gym Hours
URL:https://www.emotionwellness.com/event/open-gym-2-2/2026-07-11/
LOCATION:e-motion wellness™ Therapy Center\, 431 Isom Road Suite 204\, San Antonio\, TX\, 78216\, United States
CATEGORIES:Open Gym
ATTACH;FMTTYPE=image/png:https://www.emotionwellness.com/wp-content/uploads/2024/03/members1.png
ORGANIZER;CN="Jason Turner":MAILTO:jason@emotionwellness.com
END:VEVENT
BEGIN:VEVENT
DTSTART;TZID=America/Chicago:20260713T050000
DTEND;TZID=America/Chicago:20260713T090000
DTSTAMP:20260424T090316
CREATED:20240610T140103Z
LAST-MODIFIED:20241223T185915Z
UID:10006310-1783918800-1783933200@www.emotionwellness.com
SUMMARY:Open Gym
DESCRIPTION:Open Gym Hours
URL:https://www.emotionwellness.com/event/open-gym/2026-07-13/
LOCATION:e-motion wellness™ Therapy Center\, 431 Isom Road Suite 204\, San Antonio\, TX\, 78216\, United States
CATEGORIES:Open Gym
ATTACH;FMTTYPE=image/png:https://www.emotionwellness.com/wp-content/uploads/2024/03/members1.png
ORGANIZER;CN="Jason Turner":MAILTO:jason@emotionwellness.com
END:VEVENT
BEGIN:VEVENT
DTSTART;TZID=America/Chicago:20260714T050000
DTEND;TZID=America/Chicago:20260714T090000
DTSTAMP:20260424T090316
CREATED:20240610T140103Z
LAST-MODIFIED:20241223T185915Z
UID:10006311-1784005200-1784019600@www.emotionwellness.com
SUMMARY:Open Gym
DESCRIPTION:Open Gym Hours
URL:https://www.emotionwellness.com/event/open-gym/2026-07-14/
LOCATION:e-motion wellness™ Therapy Center\, 431 Isom Road Suite 204\, San Antonio\, TX\, 78216\, United States
CATEGORIES:Open Gym
ATTACH;FMTTYPE=image/png:https://www.emotionwellness.com/wp-content/uploads/2024/03/members1.png
ORGANIZER;CN="Jason Turner":MAILTO:jason@emotionwellness.com
END:VEVENT
BEGIN:VEVENT
DTSTART;TZID=America/Chicago:20260715T050000
DTEND;TZID=America/Chicago:20260715T090000
DTSTAMP:20260424T090316
CREATED:20240610T140103Z
LAST-MODIFIED:20241223T185915Z
UID:10006312-1784091600-1784106000@www.emotionwellness.com
SUMMARY:Open Gym
DESCRIPTION:Open Gym Hours
URL:https://www.emotionwellness.com/event/open-gym/2026-07-15/
LOCATION:e-motion wellness™ Therapy Center\, 431 Isom Road Suite 204\, San Antonio\, TX\, 78216\, United States
CATEGORIES:Open Gym
ATTACH;FMTTYPE=image/png:https://www.emotionwellness.com/wp-content/uploads/2024/03/members1.png
ORGANIZER;CN="Jason Turner":MAILTO:jason@emotionwellness.com
END:VEVENT
BEGIN:VEVENT
DTSTART;TZID=America/Chicago:20260716T050000
DTEND;TZID=America/Chicago:20260716T090000
DTSTAMP:20260424T090316
CREATED:20240610T140103Z
LAST-MODIFIED:20241223T185915Z
UID:10006313-1784178000-1784192400@www.emotionwellness.com
SUMMARY:Open Gym
DESCRIPTION:Open Gym Hours
URL:https://www.emotionwellness.com/event/open-gym/2026-07-16/
LOCATION:e-motion wellness™ Therapy Center\, 431 Isom Road Suite 204\, San Antonio\, TX\, 78216\, United States
CATEGORIES:Open Gym
ATTACH;FMTTYPE=image/png:https://www.emotionwellness.com/wp-content/uploads/2024/03/members1.png
ORGANIZER;CN="Jason Turner":MAILTO:jason@emotionwellness.com
END:VEVENT
BEGIN:VEVENT
DTSTART;TZID=America/Chicago:20260717T050000
DTEND;TZID=America/Chicago:20260717T090000
DTSTAMP:20260424T090316
CREATED:20240610T140103Z
LAST-MODIFIED:20241223T185915Z
UID:10006314-1784264400-1784278800@www.emotionwellness.com
SUMMARY:Open Gym
DESCRIPTION:Open Gym Hours
URL:https://www.emotionwellness.com/event/open-gym/2026-07-17/
LOCATION:e-motion wellness™ Therapy Center\, 431 Isom Road Suite 204\, San Antonio\, TX\, 78216\, United States
CATEGORIES:Open Gym
ATTACH;FMTTYPE=image/png:https://www.emotionwellness.com/wp-content/uploads/2024/03/members1.png
ORGANIZER;CN="Jason Turner":MAILTO:jason@emotionwellness.com
END:VEVENT
BEGIN:VEVENT
DTSTART;TZID=America/Chicago:20260718T090000
DTEND;TZID=America/Chicago:20260718T120000
DTSTAMP:20260424T090316
CREATED:20240610T140621Z
LAST-MODIFIED:20240618T150314Z
UID:10008483-1784365200-1784376000@www.emotionwellness.com
SUMMARY:Open Gym 2
DESCRIPTION:Open Gym Hours
URL:https://www.emotionwellness.com/event/open-gym-2-2/2026-07-18/
LOCATION:e-motion wellness™ Therapy Center\, 431 Isom Road Suite 204\, San Antonio\, TX\, 78216\, United States
CATEGORIES:Open Gym
ATTACH;FMTTYPE=image/png:https://www.emotionwellness.com/wp-content/uploads/2024/03/members1.png
ORGANIZER;CN="Jason Turner":MAILTO:jason@emotionwellness.com
END:VEVENT
BEGIN:VEVENT
DTSTART;TZID=America/Chicago:20260720T050000
DTEND;TZID=America/Chicago:20260720T090000
DTSTAMP:20260424T090316
CREATED:20240610T140103Z
LAST-MODIFIED:20241223T185915Z
UID:10006315-1784523600-1784538000@www.emotionwellness.com
SUMMARY:Open Gym
DESCRIPTION:Open Gym Hours
URL:https://www.emotionwellness.com/event/open-gym/2026-07-20/
LOCATION:e-motion wellness™ Therapy Center\, 431 Isom Road Suite 204\, San Antonio\, TX\, 78216\, United States
CATEGORIES:Open Gym
ATTACH;FMTTYPE=image/png:https://www.emotionwellness.com/wp-content/uploads/2024/03/members1.png
ORGANIZER;CN="Jason Turner":MAILTO:jason@emotionwellness.com
END:VEVENT
BEGIN:VEVENT
DTSTART;TZID=America/Chicago:20260721T050000
DTEND;TZID=America/Chicago:20260721T090000
DTSTAMP:20260424T090316
CREATED:20240610T140103Z
LAST-MODIFIED:20241223T185915Z
UID:10006316-1784610000-1784624400@www.emotionwellness.com
SUMMARY:Open Gym
DESCRIPTION:Open Gym Hours
URL:https://www.emotionwellness.com/event/open-gym/2026-07-21/
LOCATION:e-motion wellness™ Therapy Center\, 431 Isom Road Suite 204\, San Antonio\, TX\, 78216\, United States
CATEGORIES:Open Gym
ATTACH;FMTTYPE=image/png:https://www.emotionwellness.com/wp-content/uploads/2024/03/members1.png
ORGANIZER;CN="Jason Turner":MAILTO:jason@emotionwellness.com
END:VEVENT
BEGIN:VEVENT
DTSTART;TZID=America/Chicago:20260722T050000
DTEND;TZID=America/Chicago:20260722T090000
DTSTAMP:20260424T090316
CREATED:20240610T140103Z
LAST-MODIFIED:20241223T185915Z
UID:10006317-1784696400-1784710800@www.emotionwellness.com
SUMMARY:Open Gym
DESCRIPTION:Open Gym Hours
URL:https://www.emotionwellness.com/event/open-gym/2026-07-22/
LOCATION:e-motion wellness™ Therapy Center\, 431 Isom Road Suite 204\, San Antonio\, TX\, 78216\, United States
CATEGORIES:Open Gym
ATTACH;FMTTYPE=image/png:https://www.emotionwellness.com/wp-content/uploads/2024/03/members1.png
ORGANIZER;CN="Jason Turner":MAILTO:jason@emotionwellness.com
END:VEVENT
BEGIN:VEVENT
DTSTART;TZID=America/Chicago:20260723T050000
DTEND;TZID=America/Chicago:20260723T090000
DTSTAMP:20260424T090316
CREATED:20240610T140103Z
LAST-MODIFIED:20241223T185915Z
UID:10006318-1784782800-1784797200@www.emotionwellness.com
SUMMARY:Open Gym
DESCRIPTION:Open Gym Hours
URL:https://www.emotionwellness.com/event/open-gym/2026-07-23/
LOCATION:e-motion wellness™ Therapy Center\, 431 Isom Road Suite 204\, San Antonio\, TX\, 78216\, United States
CATEGORIES:Open Gym
ATTACH;FMTTYPE=image/png:https://www.emotionwellness.com/wp-content/uploads/2024/03/members1.png
ORGANIZER;CN="Jason Turner":MAILTO:jason@emotionwellness.com
END:VEVENT
BEGIN:VEVENT
DTSTART;TZID=America/Chicago:20260724T050000
DTEND;TZID=America/Chicago:20260724T090000
DTSTAMP:20260424T090316
CREATED:20240610T140103Z
LAST-MODIFIED:20241223T185915Z
UID:10006319-1784869200-1784883600@www.emotionwellness.com
SUMMARY:Open Gym
DESCRIPTION:Open Gym Hours
URL:https://www.emotionwellness.com/event/open-gym/2026-07-24/
LOCATION:e-motion wellness™ Therapy Center\, 431 Isom Road Suite 204\, San Antonio\, TX\, 78216\, United States
CATEGORIES:Open Gym
ATTACH;FMTTYPE=image/png:https://www.emotionwellness.com/wp-content/uploads/2024/03/members1.png
ORGANIZER;CN="Jason Turner":MAILTO:jason@emotionwellness.com
END:VEVENT
BEGIN:VEVENT
DTSTART;TZID=America/Chicago:20260725T090000
DTEND;TZID=America/Chicago:20260725T120000
DTSTAMP:20260424T090316
CREATED:20240610T140621Z
LAST-MODIFIED:20240618T150314Z
UID:10008484-1784970000-1784980800@www.emotionwellness.com
SUMMARY:Open Gym 2
DESCRIPTION:Open Gym Hours
URL:https://www.emotionwellness.com/event/open-gym-2-2/2026-07-25/
LOCATION:e-motion wellness™ Therapy Center\, 431 Isom Road Suite 204\, San Antonio\, TX\, 78216\, United States
CATEGORIES:Open Gym
ATTACH;FMTTYPE=image/png:https://www.emotionwellness.com/wp-content/uploads/2024/03/members1.png
ORGANIZER;CN="Jason Turner":MAILTO:jason@emotionwellness.com
END:VEVENT
BEGIN:VEVENT
DTSTART;TZID=America/Chicago:20260727T050000
DTEND;TZID=America/Chicago:20260727T090000
DTSTAMP:20260424T090316
CREATED:20240610T140103Z
LAST-MODIFIED:20241223T185915Z
UID:10006320-1785128400-1785142800@www.emotionwellness.com
SUMMARY:Open Gym
DESCRIPTION:Open Gym Hours
URL:https://www.emotionwellness.com/event/open-gym/2026-07-27/
LOCATION:e-motion wellness™ Therapy Center\, 431 Isom Road Suite 204\, San Antonio\, TX\, 78216\, United States
CATEGORIES:Open Gym
ATTACH;FMTTYPE=image/png:https://www.emotionwellness.com/wp-content/uploads/2024/03/members1.png
ORGANIZER;CN="Jason Turner":MAILTO:jason@emotionwellness.com
END:VEVENT
BEGIN:VEVENT
DTSTART;TZID=America/Chicago:20260728T050000
DTEND;TZID=America/Chicago:20260728T090000
DTSTAMP:20260424T090316
CREATED:20240610T140103Z
LAST-MODIFIED:20241223T185915Z
UID:10006321-1785214800-1785229200@www.emotionwellness.com
SUMMARY:Open Gym
DESCRIPTION:Open Gym Hours
URL:https://www.emotionwellness.com/event/open-gym/2026-07-28/
LOCATION:e-motion wellness™ Therapy Center\, 431 Isom Road Suite 204\, San Antonio\, TX\, 78216\, United States
CATEGORIES:Open Gym
ATTACH;FMTTYPE=image/png:https://www.emotionwellness.com/wp-content/uploads/2024/03/members1.png
ORGANIZER;CN="Jason Turner":MAILTO:jason@emotionwellness.com
END:VEVENT
BEGIN:VEVENT
DTSTART;TZID=America/Chicago:20260729T050000
DTEND;TZID=America/Chicago:20260729T090000
DTSTAMP:20260424T090316
CREATED:20240610T140103Z
LAST-MODIFIED:20241223T185915Z
UID:10006322-1785301200-1785315600@www.emotionwellness.com
SUMMARY:Open Gym
DESCRIPTION:Open Gym Hours
URL:https://www.emotionwellness.com/event/open-gym/2026-07-29/
LOCATION:e-motion wellness™ Therapy Center\, 431 Isom Road Suite 204\, San Antonio\, TX\, 78216\, United States
CATEGORIES:Open Gym
ATTACH;FMTTYPE=image/png:https://www.emotionwellness.com/wp-content/uploads/2024/03/members1.png
ORGANIZER;CN="Jason Turner":MAILTO:jason@emotionwellness.com
END:VEVENT
BEGIN:VEVENT
DTSTART;TZID=America/Chicago:20260730T050000
DTEND;TZID=America/Chicago:20260730T090000
DTSTAMP:20260424T090316
CREATED:20240610T140103Z
LAST-MODIFIED:20241223T185915Z
UID:10006323-1785387600-1785402000@www.emotionwellness.com
SUMMARY:Open Gym
DESCRIPTION:Open Gym Hours
URL:https://www.emotionwellness.com/event/open-gym/2026-07-30/
LOCATION:e-motion wellness™ Therapy Center\, 431 Isom Road Suite 204\, San Antonio\, TX\, 78216\, United States
CATEGORIES:Open Gym
ATTACH;FMTTYPE=image/png:https://www.emotionwellness.com/wp-content/uploads/2024/03/members1.png
ORGANIZER;CN="Jason Turner":MAILTO:jason@emotionwellness.com
END:VEVENT
BEGIN:VEVENT
DTSTART;TZID=America/Chicago:20260731T050000
DTEND;TZID=America/Chicago:20260731T090000
DTSTAMP:20260424T090316
CREATED:20240610T140103Z
LAST-MODIFIED:20241223T185915Z
UID:10006324-1785474000-1785488400@www.emotionwellness.com
SUMMARY:Open Gym
DESCRIPTION:Open Gym Hours
URL:https://www.emotionwellness.com/event/open-gym/2026-07-31/
LOCATION:e-motion wellness™ Therapy Center\, 431 Isom Road Suite 204\, San Antonio\, TX\, 78216\, United States
CATEGORIES:Open Gym
ATTACH;FMTTYPE=image/png:https://www.emotionwellness.com/wp-content/uploads/2024/03/members1.png
ORGANIZER;CN="Jason Turner":MAILTO:jason@emotionwellness.com
END:VEVENT
BEGIN:VEVENT
DTSTART;TZID=America/Chicago:20260801T090000
DTEND;TZID=America/Chicago:20260801T120000
DTSTAMP:20260424T090316
CREATED:20240610T140621Z
LAST-MODIFIED:20240618T150314Z
UID:10008485-1785574800-1785585600@www.emotionwellness.com
SUMMARY:Open Gym 2
DESCRIPTION:Open Gym Hours
URL:https://www.emotionwellness.com/event/open-gym-2-2/2026-08-01/
LOCATION:e-motion wellness™ Therapy Center\, 431 Isom Road Suite 204\, San Antonio\, TX\, 78216\, United States
CATEGORIES:Open Gym
ATTACH;FMTTYPE=image/png:https://www.emotionwellness.com/wp-content/uploads/2024/03/members1.png
ORGANIZER;CN="Jason Turner":MAILTO:jason@emotionwellness.com
END:VEVENT
BEGIN:VEVENT
DTSTART;TZID=America/Chicago:20260803T050000
DTEND;TZID=America/Chicago:20260803T090000
DTSTAMP:20260424T090316
CREATED:20240610T140103Z
LAST-MODIFIED:20241223T185915Z
UID:10006325-1785733200-1785747600@www.emotionwellness.com
SUMMARY:Open Gym
DESCRIPTION:Open Gym Hours
URL:https://www.emotionwellness.com/event/open-gym/2026-08-03/
LOCATION:e-motion wellness™ Therapy Center\, 431 Isom Road Suite 204\, San Antonio\, TX\, 78216\, United States
CATEGORIES:Open Gym
ATTACH;FMTTYPE=image/png:https://www.emotionwellness.com/wp-content/uploads/2024/03/members1.png
ORGANIZER;CN="Jason Turner":MAILTO:jason@emotionwellness.com
END:VEVENT
BEGIN:VEVENT
DTSTART;TZID=America/Chicago:20260804T050000
DTEND;TZID=America/Chicago:20260804T090000
DTSTAMP:20260424T090316
CREATED:20240610T140103Z
LAST-MODIFIED:20241223T185915Z
UID:10006326-1785819600-1785834000@www.emotionwellness.com
SUMMARY:Open Gym
DESCRIPTION:Open Gym Hours
URL:https://www.emotionwellness.com/event/open-gym/2026-08-04/
LOCATION:e-motion wellness™ Therapy Center\, 431 Isom Road Suite 204\, San Antonio\, TX\, 78216\, United States
CATEGORIES:Open Gym
ATTACH;FMTTYPE=image/png:https://www.emotionwellness.com/wp-content/uploads/2024/03/members1.png
ORGANIZER;CN="Jason Turner":MAILTO:jason@emotionwellness.com
END:VEVENT
BEGIN:VEVENT
DTSTART;TZID=America/Chicago:20260805T050000
DTEND;TZID=America/Chicago:20260805T090000
DTSTAMP:20260424T090316
CREATED:20240610T140103Z
LAST-MODIFIED:20241223T185915Z
UID:10006327-1785906000-1785920400@www.emotionwellness.com
SUMMARY:Open Gym
DESCRIPTION:Open Gym Hours
URL:https://www.emotionwellness.com/event/open-gym/2026-08-05/
LOCATION:e-motion wellness™ Therapy Center\, 431 Isom Road Suite 204\, San Antonio\, TX\, 78216\, United States
CATEGORIES:Open Gym
ATTACH;FMTTYPE=image/png:https://www.emotionwellness.com/wp-content/uploads/2024/03/members1.png
ORGANIZER;CN="Jason Turner":MAILTO:jason@emotionwellness.com
END:VEVENT
BEGIN:VEVENT
DTSTART;TZID=America/Chicago:20260806T050000
DTEND;TZID=America/Chicago:20260806T090000
DTSTAMP:20260424T090316
CREATED:20240610T140103Z
LAST-MODIFIED:20241223T185915Z
UID:10006328-1785992400-1786006800@www.emotionwellness.com
SUMMARY:Open Gym
DESCRIPTION:Open Gym Hours
URL:https://www.emotionwellness.com/event/open-gym/2026-08-06/
LOCATION:e-motion wellness™ Therapy Center\, 431 Isom Road Suite 204\, San Antonio\, TX\, 78216\, United States
CATEGORIES:Open Gym
ATTACH;FMTTYPE=image/png:https://www.emotionwellness.com/wp-content/uploads/2024/03/members1.png
ORGANIZER;CN="Jason Turner":MAILTO:jason@emotionwellness.com
END:VEVENT
BEGIN:VEVENT
DTSTART;TZID=America/Chicago:20260807T050000
DTEND;TZID=America/Chicago:20260807T090000
DTSTAMP:20260424T090316
CREATED:20240610T140103Z
LAST-MODIFIED:20241223T185915Z
UID:10006329-1786078800-1786093200@www.emotionwellness.com
SUMMARY:Open Gym
DESCRIPTION:Open Gym Hours
URL:https://www.emotionwellness.com/event/open-gym/2026-08-07/
LOCATION:e-motion wellness™ Therapy Center\, 431 Isom Road Suite 204\, San Antonio\, TX\, 78216\, United States
CATEGORIES:Open Gym
ATTACH;FMTTYPE=image/png:https://www.emotionwellness.com/wp-content/uploads/2024/03/members1.png
ORGANIZER;CN="Jason Turner":MAILTO:jason@emotionwellness.com
END:VEVENT
BEGIN:VEVENT
DTSTART;TZID=America/Chicago:20260808T090000
DTEND;TZID=America/Chicago:20260808T120000
DTSTAMP:20260424T090316
CREATED:20240610T140621Z
LAST-MODIFIED:20240618T150314Z
UID:10008486-1786179600-1786190400@www.emotionwellness.com
SUMMARY:Open Gym 2
DESCRIPTION:Open Gym Hours
URL:https://www.emotionwellness.com/event/open-gym-2-2/2026-08-08/
LOCATION:e-motion wellness™ Therapy Center\, 431 Isom Road Suite 204\, San Antonio\, TX\, 78216\, United States
CATEGORIES:Open Gym
ATTACH;FMTTYPE=image/png:https://www.emotionwellness.com/wp-content/uploads/2024/03/members1.png
ORGANIZER;CN="Jason Turner":MAILTO:jason@emotionwellness.com
END:VEVENT
BEGIN:VEVENT
DTSTART;TZID=America/Chicago:20260810T050000
DTEND;TZID=America/Chicago:20260810T090000
DTSTAMP:20260424T090316
CREATED:20240610T140103Z
LAST-MODIFIED:20241223T185915Z
UID:10006330-1786338000-1786352400@www.emotionwellness.com
SUMMARY:Open Gym
DESCRIPTION:Open Gym Hours
URL:https://www.emotionwellness.com/event/open-gym/2026-08-10/
LOCATION:e-motion wellness™ Therapy Center\, 431 Isom Road Suite 204\, San Antonio\, TX\, 78216\, United States
CATEGORIES:Open Gym
ATTACH;FMTTYPE=image/png:https://www.emotionwellness.com/wp-content/uploads/2024/03/members1.png
ORGANIZER;CN="Jason Turner":MAILTO:jason@emotionwellness.com
END:VEVENT
BEGIN:VEVENT
DTSTART;TZID=America/Chicago:20260811T050000
DTEND;TZID=America/Chicago:20260811T090000
DTSTAMP:20260424T090316
CREATED:20240610T140103Z
LAST-MODIFIED:20241223T185915Z
UID:10006331-1786424400-1786438800@www.emotionwellness.com
SUMMARY:Open Gym
DESCRIPTION:Open Gym Hours
URL:https://www.emotionwellness.com/event/open-gym/2026-08-11/
LOCATION:e-motion wellness™ Therapy Center\, 431 Isom Road Suite 204\, San Antonio\, TX\, 78216\, United States
CATEGORIES:Open Gym
ATTACH;FMTTYPE=image/png:https://www.emotionwellness.com/wp-content/uploads/2024/03/members1.png
ORGANIZER;CN="Jason Turner":MAILTO:jason@emotionwellness.com
END:VEVENT
BEGIN:VEVENT
DTSTART;TZID=America/Chicago:20260812T050000
DTEND;TZID=America/Chicago:20260812T090000
DTSTAMP:20260424T090316
CREATED:20240610T140103Z
LAST-MODIFIED:20241223T185915Z
UID:10006332-1786510800-1786525200@www.emotionwellness.com
SUMMARY:Open Gym
DESCRIPTION:Open Gym Hours
URL:https://www.emotionwellness.com/event/open-gym/2026-08-12/
LOCATION:e-motion wellness™ Therapy Center\, 431 Isom Road Suite 204\, San Antonio\, TX\, 78216\, United States
CATEGORIES:Open Gym
ATTACH;FMTTYPE=image/png:https://www.emotionwellness.com/wp-content/uploads/2024/03/members1.png
ORGANIZER;CN="Jason Turner":MAILTO:jason@emotionwellness.com
END:VEVENT
BEGIN:VEVENT
DTSTART;TZID=America/Chicago:20260813T050000
DTEND;TZID=America/Chicago:20260813T090000
DTSTAMP:20260424T090316
CREATED:20240610T140103Z
LAST-MODIFIED:20241223T185915Z
UID:10006333-1786597200-1786611600@www.emotionwellness.com
SUMMARY:Open Gym
DESCRIPTION:Open Gym Hours
URL:https://www.emotionwellness.com/event/open-gym/2026-08-13/
LOCATION:e-motion wellness™ Therapy Center\, 431 Isom Road Suite 204\, San Antonio\, TX\, 78216\, United States
CATEGORIES:Open Gym
ATTACH;FMTTYPE=image/png:https://www.emotionwellness.com/wp-content/uploads/2024/03/members1.png
ORGANIZER;CN="Jason Turner":MAILTO:jason@emotionwellness.com
END:VEVENT
BEGIN:VEVENT
DTSTART;TZID=America/Chicago:20260814T050000
DTEND;TZID=America/Chicago:20260814T090000
DTSTAMP:20260424T090316
CREATED:20240610T140103Z
LAST-MODIFIED:20241223T185915Z
UID:10006334-1786683600-1786698000@www.emotionwellness.com
SUMMARY:Open Gym
DESCRIPTION:Open Gym Hours
URL:https://www.emotionwellness.com/event/open-gym/2026-08-14/
LOCATION:e-motion wellness™ Therapy Center\, 431 Isom Road Suite 204\, San Antonio\, TX\, 78216\, United States
CATEGORIES:Open Gym
ATTACH;FMTTYPE=image/png:https://www.emotionwellness.com/wp-content/uploads/2024/03/members1.png
ORGANIZER;CN="Jason Turner":MAILTO:jason@emotionwellness.com
END:VEVENT
END:VCALENDAR