BEGIN:VCALENDAR
VERSION:2.0
PRODID:-//e-motion wellness™ - ECPv6.14.0//NONSGML v1.0//EN
CALSCALE:GREGORIAN
METHOD:PUBLISH
X-WR-CALNAME:e-motion wellness™
X-ORIGINAL-URL:https://www.emotionwellness.com
X-WR-CALDESC:Events for e-motion wellness™
REFRESH-INTERVAL;VALUE=DURATION:PT1H
X-Robots-Tag:noindex
X-PUBLISHED-TTL:PT1H
BEGIN:VTIMEZONE
TZID:America/Chicago
BEGIN:DAYLIGHT
TZOFFSETFROM:-0600
TZOFFSETTO:-0500
TZNAME:CDT
DTSTART:20260308T080000
END:DAYLIGHT
BEGIN:STANDARD
TZOFFSETFROM:-0500
TZOFFSETTO:-0600
TZNAME:CST
DTSTART:20261101T070000
END:STANDARD
END:VTIMEZONE
BEGIN:VEVENT
DTSTART;TZID=America/Chicago:20260514T180000
DTEND;TZID=America/Chicago:20260514T210000
DTSTAMP:20260421T003537
CREATED:20240214T172827Z
LAST-MODIFIED:20240618T151633Z
UID:10016258-1778781600-1778792400@www.emotionwellness.com
SUMMARY:Adult IOP 3
DESCRIPTION:Our Adult IOP stands out due to our team of fully licensed clinicians\, unique experiential fitness model\, engaging treatment environment\, and strong community focus. We are dedicated to providing comprehensive care that addresses both the mind and body\, empowering individuals on their path to recovery.
URL:https://www.emotionwellness.com/event/adult-iop/2026-05-14/
LOCATION:e-motion wellness™ Therapy Center\, 431 Isom Road Suite 204\, San Antonio\, TX\, 78216\, United States
CATEGORIES:Adult IOP
ATTACH;FMTTYPE=image/png:https://www.emotionwellness.com/wp-content/uploads/2023/08/about2.png
ORGANIZER;CN="Jason Turner":MAILTO:jason@emotionwellness.com
END:VEVENT
BEGIN:VEVENT
DTSTART;TZID=America/Chicago:20260515T073000
DTEND;TZID=America/Chicago:20260515T103000
DTSTAMP:20260421T003537
CREATED:20240611T134151Z
LAST-MODIFIED:20240618T143741Z
UID:10011836-1778830200-1778841000@www.emotionwellness.com
SUMMARY:Adult IOP Make Up
DESCRIPTION:Make up class for Adult IOP. Our Adult IOP stands out due to our team of fully licensed clinicians\, unique experiential fitness model\, engaging treatment environment\, and strong community focus. We are dedicated to providing comprehensive care that addresses both the mind and body\, empowering individuals on their path to recovery.
URL:https://www.emotionwellness.com/event/adult-iop-make-up/2026-05-15/
LOCATION:e-motion wellness™ Therapy Center\, 431 Isom Road Suite 204\, San Antonio\, TX\, 78216\, United States
CATEGORIES:Adult IOP
ATTACH;FMTTYPE=image/png:https://www.emotionwellness.com/wp-content/uploads/2023/08/about2.png
ORGANIZER;CN="Jason Turner":MAILTO:jason@emotionwellness.com
END:VEVENT
BEGIN:VEVENT
DTSTART;TZID=America/Chicago:20260516T093000
DTEND;TZID=America/Chicago:20260516T110000
DTSTAMP:20260421T003537
CREATED:20250220T203750Z
LAST-MODIFIED:20250220T203750Z
UID:10018461-1778923800-1778929200@www.emotionwellness.com
SUMMARY:Adult IOP 4
DESCRIPTION:Our Adult IOP stands out due to our team of fully licensed clinicians\, unique experiential fitness model\, engaging treatment environment\, and strong community focus. We are dedicated to providing comprehensive care that addresses both the mind and body\, empowering individuals on their path to recovery.
URL:https://www.emotionwellness.com/event/adult-iop-4/2026-05-16/
LOCATION:e-motion wellness™ Therapy Center\, 431 Isom Road Suite 204\, San Antonio\, TX\, 78216\, United States
CATEGORIES:Adult IOP
ATTACH;FMTTYPE=image/png:https://www.emotionwellness.com/wp-content/uploads/2023/08/about2.png
ORGANIZER;CN="Jason Turner":MAILTO:jason@emotionwellness.com
END:VEVENT
BEGIN:VEVENT
DTSTART;TZID=America/Chicago:20260518T150000
DTEND;TZID=America/Chicago:20260518T180000
DTSTAMP:20260421T003537
CREATED:20240611T133543Z
LAST-MODIFIED:20241223T185826Z
UID:10015261-1779116400-1779127200@www.emotionwellness.com
SUMMARY:Adult IOP 2
DESCRIPTION:Our Adult IOP stands out due to our team of fully licensed clinicians\, unique experiential fitness model\, engaging treatment environment\, and strong community focus. We are dedicated to providing comprehensive care that addresses both the mind and body\, empowering individuals on their path to recovery.
URL:https://www.emotionwellness.com/event/adult-iop-3/2026-05-18/
LOCATION:e-motion wellness™ Therapy Center\, 431 Isom Road Suite 204\, San Antonio\, TX\, 78216\, United States
CATEGORIES:Adult IOP
ATTACH;FMTTYPE=image/png:https://www.emotionwellness.com/wp-content/uploads/2023/08/about2.png
ORGANIZER;CN="Jason Turner":MAILTO:jason@emotionwellness.com
END:VEVENT
BEGIN:VEVENT
DTSTART;TZID=America/Chicago:20260518T180000
DTEND;TZID=America/Chicago:20260518T210000
DTSTAMP:20260421T003537
CREATED:20240214T172827Z
LAST-MODIFIED:20240618T151633Z
UID:10016259-1779127200-1779138000@www.emotionwellness.com
SUMMARY:Adult IOP 3
DESCRIPTION:Our Adult IOP stands out due to our team of fully licensed clinicians\, unique experiential fitness model\, engaging treatment environment\, and strong community focus. We are dedicated to providing comprehensive care that addresses both the mind and body\, empowering individuals on their path to recovery.
URL:https://www.emotionwellness.com/event/adult-iop/2026-05-18/
LOCATION:e-motion wellness™ Therapy Center\, 431 Isom Road Suite 204\, San Antonio\, TX\, 78216\, United States
CATEGORIES:Adult IOP
ATTACH;FMTTYPE=image/png:https://www.emotionwellness.com/wp-content/uploads/2023/08/about2.png
ORGANIZER;CN="Jason Turner":MAILTO:jason@emotionwellness.com
END:VEVENT
BEGIN:VEVENT
DTSTART;TZID=America/Chicago:20260519T150000
DTEND;TZID=America/Chicago:20260519T180000
DTSTAMP:20260421T003537
CREATED:20240611T133543Z
LAST-MODIFIED:20241223T185826Z
UID:10015262-1779202800-1779213600@www.emotionwellness.com
SUMMARY:Adult IOP 2
DESCRIPTION:Our Adult IOP stands out due to our team of fully licensed clinicians\, unique experiential fitness model\, engaging treatment environment\, and strong community focus. We are dedicated to providing comprehensive care that addresses both the mind and body\, empowering individuals on their path to recovery.
URL:https://www.emotionwellness.com/event/adult-iop-3/2026-05-19/
LOCATION:e-motion wellness™ Therapy Center\, 431 Isom Road Suite 204\, San Antonio\, TX\, 78216\, United States
CATEGORIES:Adult IOP
ATTACH;FMTTYPE=image/png:https://www.emotionwellness.com/wp-content/uploads/2023/08/about2.png
ORGANIZER;CN="Jason Turner":MAILTO:jason@emotionwellness.com
END:VEVENT
BEGIN:VEVENT
DTSTART;TZID=America/Chicago:20260520T150000
DTEND;TZID=America/Chicago:20260520T180000
DTSTAMP:20260421T003537
CREATED:20240611T133543Z
LAST-MODIFIED:20241223T185826Z
UID:10015263-1779289200-1779300000@www.emotionwellness.com
SUMMARY:Adult IOP 2
DESCRIPTION:Our Adult IOP stands out due to our team of fully licensed clinicians\, unique experiential fitness model\, engaging treatment environment\, and strong community focus. We are dedicated to providing comprehensive care that addresses both the mind and body\, empowering individuals on their path to recovery.
URL:https://www.emotionwellness.com/event/adult-iop-3/2026-05-20/
LOCATION:e-motion wellness™ Therapy Center\, 431 Isom Road Suite 204\, San Antonio\, TX\, 78216\, United States
CATEGORIES:Adult IOP
ATTACH;FMTTYPE=image/png:https://www.emotionwellness.com/wp-content/uploads/2023/08/about2.png
ORGANIZER;CN="Jason Turner":MAILTO:jason@emotionwellness.com
END:VEVENT
BEGIN:VEVENT
DTSTART;TZID=America/Chicago:20260520T180000
DTEND;TZID=America/Chicago:20260520T210000
DTSTAMP:20260421T003537
CREATED:20240214T172827Z
LAST-MODIFIED:20240618T151633Z
UID:10016260-1779300000-1779310800@www.emotionwellness.com
SUMMARY:Adult IOP 3
DESCRIPTION:Our Adult IOP stands out due to our team of fully licensed clinicians\, unique experiential fitness model\, engaging treatment environment\, and strong community focus. We are dedicated to providing comprehensive care that addresses both the mind and body\, empowering individuals on their path to recovery.
URL:https://www.emotionwellness.com/event/adult-iop/2026-05-20/
LOCATION:e-motion wellness™ Therapy Center\, 431 Isom Road Suite 204\, San Antonio\, TX\, 78216\, United States
CATEGORIES:Adult IOP
ATTACH;FMTTYPE=image/png:https://www.emotionwellness.com/wp-content/uploads/2023/08/about2.png
ORGANIZER;CN="Jason Turner":MAILTO:jason@emotionwellness.com
END:VEVENT
BEGIN:VEVENT
DTSTART;TZID=America/Chicago:20260521T150000
DTEND;TZID=America/Chicago:20260521T180000
DTSTAMP:20260421T003537
CREATED:20240611T133543Z
LAST-MODIFIED:20241223T185826Z
UID:10015264-1779375600-1779386400@www.emotionwellness.com
SUMMARY:Adult IOP 2
DESCRIPTION:Our Adult IOP stands out due to our team of fully licensed clinicians\, unique experiential fitness model\, engaging treatment environment\, and strong community focus. We are dedicated to providing comprehensive care that addresses both the mind and body\, empowering individuals on their path to recovery.
URL:https://www.emotionwellness.com/event/adult-iop-3/2026-05-21/
LOCATION:e-motion wellness™ Therapy Center\, 431 Isom Road Suite 204\, San Antonio\, TX\, 78216\, United States
CATEGORIES:Adult IOP
ATTACH;FMTTYPE=image/png:https://www.emotionwellness.com/wp-content/uploads/2023/08/about2.png
ORGANIZER;CN="Jason Turner":MAILTO:jason@emotionwellness.com
END:VEVENT
BEGIN:VEVENT
DTSTART;TZID=America/Chicago:20260521T180000
DTEND;TZID=America/Chicago:20260521T210000
DTSTAMP:20260421T003537
CREATED:20240214T172827Z
LAST-MODIFIED:20240618T151633Z
UID:10016261-1779386400-1779397200@www.emotionwellness.com
SUMMARY:Adult IOP 3
DESCRIPTION:Our Adult IOP stands out due to our team of fully licensed clinicians\, unique experiential fitness model\, engaging treatment environment\, and strong community focus. We are dedicated to providing comprehensive care that addresses both the mind and body\, empowering individuals on their path to recovery.
URL:https://www.emotionwellness.com/event/adult-iop/2026-05-21/
LOCATION:e-motion wellness™ Therapy Center\, 431 Isom Road Suite 204\, San Antonio\, TX\, 78216\, United States
CATEGORIES:Adult IOP
ATTACH;FMTTYPE=image/png:https://www.emotionwellness.com/wp-content/uploads/2023/08/about2.png
ORGANIZER;CN="Jason Turner":MAILTO:jason@emotionwellness.com
END:VEVENT
BEGIN:VEVENT
DTSTART;TZID=America/Chicago:20260522T073000
DTEND;TZID=America/Chicago:20260522T103000
DTSTAMP:20260421T003537
CREATED:20240611T134151Z
LAST-MODIFIED:20240618T143741Z
UID:10011837-1779435000-1779445800@www.emotionwellness.com
SUMMARY:Adult IOP Make Up
DESCRIPTION:Make up class for Adult IOP. Our Adult IOP stands out due to our team of fully licensed clinicians\, unique experiential fitness model\, engaging treatment environment\, and strong community focus. We are dedicated to providing comprehensive care that addresses both the mind and body\, empowering individuals on their path to recovery.
URL:https://www.emotionwellness.com/event/adult-iop-make-up/2026-05-22/
LOCATION:e-motion wellness™ Therapy Center\, 431 Isom Road Suite 204\, San Antonio\, TX\, 78216\, United States
CATEGORIES:Adult IOP
ATTACH;FMTTYPE=image/png:https://www.emotionwellness.com/wp-content/uploads/2023/08/about2.png
ORGANIZER;CN="Jason Turner":MAILTO:jason@emotionwellness.com
END:VEVENT
BEGIN:VEVENT
DTSTART;TZID=America/Chicago:20260523T093000
DTEND;TZID=America/Chicago:20260523T110000
DTSTAMP:20260421T003537
CREATED:20250220T203750Z
LAST-MODIFIED:20250220T203750Z
UID:10018462-1779528600-1779534000@www.emotionwellness.com
SUMMARY:Adult IOP 4
DESCRIPTION:Our Adult IOP stands out due to our team of fully licensed clinicians\, unique experiential fitness model\, engaging treatment environment\, and strong community focus. We are dedicated to providing comprehensive care that addresses both the mind and body\, empowering individuals on their path to recovery.
URL:https://www.emotionwellness.com/event/adult-iop-4/2026-05-23/
LOCATION:e-motion wellness™ Therapy Center\, 431 Isom Road Suite 204\, San Antonio\, TX\, 78216\, United States
CATEGORIES:Adult IOP
ATTACH;FMTTYPE=image/png:https://www.emotionwellness.com/wp-content/uploads/2023/08/about2.png
ORGANIZER;CN="Jason Turner":MAILTO:jason@emotionwellness.com
END:VEVENT
BEGIN:VEVENT
DTSTART;TZID=America/Chicago:20260525T150000
DTEND;TZID=America/Chicago:20260525T180000
DTSTAMP:20260421T003537
CREATED:20240611T133543Z
LAST-MODIFIED:20241223T185826Z
UID:10015265-1779721200-1779732000@www.emotionwellness.com
SUMMARY:Adult IOP 2
DESCRIPTION:Our Adult IOP stands out due to our team of fully licensed clinicians\, unique experiential fitness model\, engaging treatment environment\, and strong community focus. We are dedicated to providing comprehensive care that addresses both the mind and body\, empowering individuals on their path to recovery.
URL:https://www.emotionwellness.com/event/adult-iop-3/2026-05-25/
LOCATION:e-motion wellness™ Therapy Center\, 431 Isom Road Suite 204\, San Antonio\, TX\, 78216\, United States
CATEGORIES:Adult IOP
ATTACH;FMTTYPE=image/png:https://www.emotionwellness.com/wp-content/uploads/2023/08/about2.png
ORGANIZER;CN="Jason Turner":MAILTO:jason@emotionwellness.com
END:VEVENT
BEGIN:VEVENT
DTSTART;TZID=America/Chicago:20260525T180000
DTEND;TZID=America/Chicago:20260525T210000
DTSTAMP:20260421T003537
CREATED:20240214T172827Z
LAST-MODIFIED:20240618T151633Z
UID:10016262-1779732000-1779742800@www.emotionwellness.com
SUMMARY:Adult IOP 3
DESCRIPTION:Our Adult IOP stands out due to our team of fully licensed clinicians\, unique experiential fitness model\, engaging treatment environment\, and strong community focus. We are dedicated to providing comprehensive care that addresses both the mind and body\, empowering individuals on their path to recovery.
URL:https://www.emotionwellness.com/event/adult-iop/2026-05-25/
LOCATION:e-motion wellness™ Therapy Center\, 431 Isom Road Suite 204\, San Antonio\, TX\, 78216\, United States
CATEGORIES:Adult IOP
ATTACH;FMTTYPE=image/png:https://www.emotionwellness.com/wp-content/uploads/2023/08/about2.png
ORGANIZER;CN="Jason Turner":MAILTO:jason@emotionwellness.com
END:VEVENT
BEGIN:VEVENT
DTSTART;TZID=America/Chicago:20260526T150000
DTEND;TZID=America/Chicago:20260526T180000
DTSTAMP:20260421T003537
CREATED:20240611T133543Z
LAST-MODIFIED:20241223T185826Z
UID:10015266-1779807600-1779818400@www.emotionwellness.com
SUMMARY:Adult IOP 2
DESCRIPTION:Our Adult IOP stands out due to our team of fully licensed clinicians\, unique experiential fitness model\, engaging treatment environment\, and strong community focus. We are dedicated to providing comprehensive care that addresses both the mind and body\, empowering individuals on their path to recovery.
URL:https://www.emotionwellness.com/event/adult-iop-3/2026-05-26/
LOCATION:e-motion wellness™ Therapy Center\, 431 Isom Road Suite 204\, San Antonio\, TX\, 78216\, United States
CATEGORIES:Adult IOP
ATTACH;FMTTYPE=image/png:https://www.emotionwellness.com/wp-content/uploads/2023/08/about2.png
ORGANIZER;CN="Jason Turner":MAILTO:jason@emotionwellness.com
END:VEVENT
BEGIN:VEVENT
DTSTART;TZID=America/Chicago:20260527T150000
DTEND;TZID=America/Chicago:20260527T180000
DTSTAMP:20260421T003537
CREATED:20240611T133543Z
LAST-MODIFIED:20241223T185826Z
UID:10015267-1779894000-1779904800@www.emotionwellness.com
SUMMARY:Adult IOP 2
DESCRIPTION:Our Adult IOP stands out due to our team of fully licensed clinicians\, unique experiential fitness model\, engaging treatment environment\, and strong community focus. We are dedicated to providing comprehensive care that addresses both the mind and body\, empowering individuals on their path to recovery.
URL:https://www.emotionwellness.com/event/adult-iop-3/2026-05-27/
LOCATION:e-motion wellness™ Therapy Center\, 431 Isom Road Suite 204\, San Antonio\, TX\, 78216\, United States
CATEGORIES:Adult IOP
ATTACH;FMTTYPE=image/png:https://www.emotionwellness.com/wp-content/uploads/2023/08/about2.png
ORGANIZER;CN="Jason Turner":MAILTO:jason@emotionwellness.com
END:VEVENT
BEGIN:VEVENT
DTSTART;TZID=America/Chicago:20260527T180000
DTEND;TZID=America/Chicago:20260527T210000
DTSTAMP:20260421T003537
CREATED:20240214T172827Z
LAST-MODIFIED:20240618T151633Z
UID:10016263-1779904800-1779915600@www.emotionwellness.com
SUMMARY:Adult IOP 3
DESCRIPTION:Our Adult IOP stands out due to our team of fully licensed clinicians\, unique experiential fitness model\, engaging treatment environment\, and strong community focus. We are dedicated to providing comprehensive care that addresses both the mind and body\, empowering individuals on their path to recovery.
URL:https://www.emotionwellness.com/event/adult-iop/2026-05-27/
LOCATION:e-motion wellness™ Therapy Center\, 431 Isom Road Suite 204\, San Antonio\, TX\, 78216\, United States
CATEGORIES:Adult IOP
ATTACH;FMTTYPE=image/png:https://www.emotionwellness.com/wp-content/uploads/2023/08/about2.png
ORGANIZER;CN="Jason Turner":MAILTO:jason@emotionwellness.com
END:VEVENT
BEGIN:VEVENT
DTSTART;TZID=America/Chicago:20260528T150000
DTEND;TZID=America/Chicago:20260528T180000
DTSTAMP:20260421T003537
CREATED:20240611T133543Z
LAST-MODIFIED:20241223T185826Z
UID:10015268-1779980400-1779991200@www.emotionwellness.com
SUMMARY:Adult IOP 2
DESCRIPTION:Our Adult IOP stands out due to our team of fully licensed clinicians\, unique experiential fitness model\, engaging treatment environment\, and strong community focus. We are dedicated to providing comprehensive care that addresses both the mind and body\, empowering individuals on their path to recovery.
URL:https://www.emotionwellness.com/event/adult-iop-3/2026-05-28/
LOCATION:e-motion wellness™ Therapy Center\, 431 Isom Road Suite 204\, San Antonio\, TX\, 78216\, United States
CATEGORIES:Adult IOP
ATTACH;FMTTYPE=image/png:https://www.emotionwellness.com/wp-content/uploads/2023/08/about2.png
ORGANIZER;CN="Jason Turner":MAILTO:jason@emotionwellness.com
END:VEVENT
BEGIN:VEVENT
DTSTART;TZID=America/Chicago:20260528T180000
DTEND;TZID=America/Chicago:20260528T210000
DTSTAMP:20260421T003537
CREATED:20240214T172827Z
LAST-MODIFIED:20240618T151633Z
UID:10016264-1779991200-1780002000@www.emotionwellness.com
SUMMARY:Adult IOP 3
DESCRIPTION:Our Adult IOP stands out due to our team of fully licensed clinicians\, unique experiential fitness model\, engaging treatment environment\, and strong community focus. We are dedicated to providing comprehensive care that addresses both the mind and body\, empowering individuals on their path to recovery.
URL:https://www.emotionwellness.com/event/adult-iop/2026-05-28/
LOCATION:e-motion wellness™ Therapy Center\, 431 Isom Road Suite 204\, San Antonio\, TX\, 78216\, United States
CATEGORIES:Adult IOP
ATTACH;FMTTYPE=image/png:https://www.emotionwellness.com/wp-content/uploads/2023/08/about2.png
ORGANIZER;CN="Jason Turner":MAILTO:jason@emotionwellness.com
END:VEVENT
BEGIN:VEVENT
DTSTART;TZID=America/Chicago:20260529T073000
DTEND;TZID=America/Chicago:20260529T103000
DTSTAMP:20260421T003537
CREATED:20240611T134151Z
LAST-MODIFIED:20240618T143741Z
UID:10011838-1780039800-1780050600@www.emotionwellness.com
SUMMARY:Adult IOP Make Up
DESCRIPTION:Make up class for Adult IOP. Our Adult IOP stands out due to our team of fully licensed clinicians\, unique experiential fitness model\, engaging treatment environment\, and strong community focus. We are dedicated to providing comprehensive care that addresses both the mind and body\, empowering individuals on their path to recovery.
URL:https://www.emotionwellness.com/event/adult-iop-make-up/2026-05-29/
LOCATION:e-motion wellness™ Therapy Center\, 431 Isom Road Suite 204\, San Antonio\, TX\, 78216\, United States
CATEGORIES:Adult IOP
ATTACH;FMTTYPE=image/png:https://www.emotionwellness.com/wp-content/uploads/2023/08/about2.png
ORGANIZER;CN="Jason Turner":MAILTO:jason@emotionwellness.com
END:VEVENT
BEGIN:VEVENT
DTSTART;TZID=America/Chicago:20260530T093000
DTEND;TZID=America/Chicago:20260530T110000
DTSTAMP:20260421T003537
CREATED:20250220T203750Z
LAST-MODIFIED:20250220T203750Z
UID:10018463-1780133400-1780138800@www.emotionwellness.com
SUMMARY:Adult IOP 4
DESCRIPTION:Our Adult IOP stands out due to our team of fully licensed clinicians\, unique experiential fitness model\, engaging treatment environment\, and strong community focus. We are dedicated to providing comprehensive care that addresses both the mind and body\, empowering individuals on their path to recovery.
URL:https://www.emotionwellness.com/event/adult-iop-4/2026-05-30/
LOCATION:e-motion wellness™ Therapy Center\, 431 Isom Road Suite 204\, San Antonio\, TX\, 78216\, United States
CATEGORIES:Adult IOP
ATTACH;FMTTYPE=image/png:https://www.emotionwellness.com/wp-content/uploads/2023/08/about2.png
ORGANIZER;CN="Jason Turner":MAILTO:jason@emotionwellness.com
END:VEVENT
BEGIN:VEVENT
DTSTART;TZID=America/Chicago:20260601T150000
DTEND;TZID=America/Chicago:20260601T180000
DTSTAMP:20260421T003537
CREATED:20240611T133543Z
LAST-MODIFIED:20241223T185826Z
UID:10015269-1780326000-1780336800@www.emotionwellness.com
SUMMARY:Adult IOP 2
DESCRIPTION:Our Adult IOP stands out due to our team of fully licensed clinicians\, unique experiential fitness model\, engaging treatment environment\, and strong community focus. We are dedicated to providing comprehensive care that addresses both the mind and body\, empowering individuals on their path to recovery.
URL:https://www.emotionwellness.com/event/adult-iop-3/2026-06-01/
LOCATION:e-motion wellness™ Therapy Center\, 431 Isom Road Suite 204\, San Antonio\, TX\, 78216\, United States
CATEGORIES:Adult IOP
ATTACH;FMTTYPE=image/png:https://www.emotionwellness.com/wp-content/uploads/2023/08/about2.png
ORGANIZER;CN="Jason Turner":MAILTO:jason@emotionwellness.com
END:VEVENT
BEGIN:VEVENT
DTSTART;TZID=America/Chicago:20260601T180000
DTEND;TZID=America/Chicago:20260601T210000
DTSTAMP:20260421T003537
CREATED:20240214T172827Z
LAST-MODIFIED:20240618T151633Z
UID:10016265-1780336800-1780347600@www.emotionwellness.com
SUMMARY:Adult IOP 3
DESCRIPTION:Our Adult IOP stands out due to our team of fully licensed clinicians\, unique experiential fitness model\, engaging treatment environment\, and strong community focus. We are dedicated to providing comprehensive care that addresses both the mind and body\, empowering individuals on their path to recovery.
URL:https://www.emotionwellness.com/event/adult-iop/2026-06-01/
LOCATION:e-motion wellness™ Therapy Center\, 431 Isom Road Suite 204\, San Antonio\, TX\, 78216\, United States
CATEGORIES:Adult IOP
ATTACH;FMTTYPE=image/png:https://www.emotionwellness.com/wp-content/uploads/2023/08/about2.png
ORGANIZER;CN="Jason Turner":MAILTO:jason@emotionwellness.com
END:VEVENT
BEGIN:VEVENT
DTSTART;TZID=America/Chicago:20260602T150000
DTEND;TZID=America/Chicago:20260602T180000
DTSTAMP:20260421T003537
CREATED:20240611T133543Z
LAST-MODIFIED:20241223T185826Z
UID:10015270-1780412400-1780423200@www.emotionwellness.com
SUMMARY:Adult IOP 2
DESCRIPTION:Our Adult IOP stands out due to our team of fully licensed clinicians\, unique experiential fitness model\, engaging treatment environment\, and strong community focus. We are dedicated to providing comprehensive care that addresses both the mind and body\, empowering individuals on their path to recovery.
URL:https://www.emotionwellness.com/event/adult-iop-3/2026-06-02/
LOCATION:e-motion wellness™ Therapy Center\, 431 Isom Road Suite 204\, San Antonio\, TX\, 78216\, United States
CATEGORIES:Adult IOP
ATTACH;FMTTYPE=image/png:https://www.emotionwellness.com/wp-content/uploads/2023/08/about2.png
ORGANIZER;CN="Jason Turner":MAILTO:jason@emotionwellness.com
END:VEVENT
BEGIN:VEVENT
DTSTART;TZID=America/Chicago:20260603T150000
DTEND;TZID=America/Chicago:20260603T180000
DTSTAMP:20260421T003537
CREATED:20240611T133543Z
LAST-MODIFIED:20241223T185826Z
UID:10015271-1780498800-1780509600@www.emotionwellness.com
SUMMARY:Adult IOP 2
DESCRIPTION:Our Adult IOP stands out due to our team of fully licensed clinicians\, unique experiential fitness model\, engaging treatment environment\, and strong community focus. We are dedicated to providing comprehensive care that addresses both the mind and body\, empowering individuals on their path to recovery.
URL:https://www.emotionwellness.com/event/adult-iop-3/2026-06-03/
LOCATION:e-motion wellness™ Therapy Center\, 431 Isom Road Suite 204\, San Antonio\, TX\, 78216\, United States
CATEGORIES:Adult IOP
ATTACH;FMTTYPE=image/png:https://www.emotionwellness.com/wp-content/uploads/2023/08/about2.png
ORGANIZER;CN="Jason Turner":MAILTO:jason@emotionwellness.com
END:VEVENT
BEGIN:VEVENT
DTSTART;TZID=America/Chicago:20260603T180000
DTEND;TZID=America/Chicago:20260603T210000
DTSTAMP:20260421T003537
CREATED:20240214T172827Z
LAST-MODIFIED:20240618T151633Z
UID:10016266-1780509600-1780520400@www.emotionwellness.com
SUMMARY:Adult IOP 3
DESCRIPTION:Our Adult IOP stands out due to our team of fully licensed clinicians\, unique experiential fitness model\, engaging treatment environment\, and strong community focus. We are dedicated to providing comprehensive care that addresses both the mind and body\, empowering individuals on their path to recovery.
URL:https://www.emotionwellness.com/event/adult-iop/2026-06-03/
LOCATION:e-motion wellness™ Therapy Center\, 431 Isom Road Suite 204\, San Antonio\, TX\, 78216\, United States
CATEGORIES:Adult IOP
ATTACH;FMTTYPE=image/png:https://www.emotionwellness.com/wp-content/uploads/2023/08/about2.png
ORGANIZER;CN="Jason Turner":MAILTO:jason@emotionwellness.com
END:VEVENT
BEGIN:VEVENT
DTSTART;TZID=America/Chicago:20260604T150000
DTEND;TZID=America/Chicago:20260604T180000
DTSTAMP:20260421T003537
CREATED:20240611T133543Z
LAST-MODIFIED:20241223T185826Z
UID:10015272-1780585200-1780596000@www.emotionwellness.com
SUMMARY:Adult IOP 2
DESCRIPTION:Our Adult IOP stands out due to our team of fully licensed clinicians\, unique experiential fitness model\, engaging treatment environment\, and strong community focus. We are dedicated to providing comprehensive care that addresses both the mind and body\, empowering individuals on their path to recovery.
URL:https://www.emotionwellness.com/event/adult-iop-3/2026-06-04/
LOCATION:e-motion wellness™ Therapy Center\, 431 Isom Road Suite 204\, San Antonio\, TX\, 78216\, United States
CATEGORIES:Adult IOP
ATTACH;FMTTYPE=image/png:https://www.emotionwellness.com/wp-content/uploads/2023/08/about2.png
ORGANIZER;CN="Jason Turner":MAILTO:jason@emotionwellness.com
END:VEVENT
BEGIN:VEVENT
DTSTART;TZID=America/Chicago:20260604T180000
DTEND;TZID=America/Chicago:20260604T210000
DTSTAMP:20260421T003537
CREATED:20240214T172827Z
LAST-MODIFIED:20240618T151633Z
UID:10016267-1780596000-1780606800@www.emotionwellness.com
SUMMARY:Adult IOP 3
DESCRIPTION:Our Adult IOP stands out due to our team of fully licensed clinicians\, unique experiential fitness model\, engaging treatment environment\, and strong community focus. We are dedicated to providing comprehensive care that addresses both the mind and body\, empowering individuals on their path to recovery.
URL:https://www.emotionwellness.com/event/adult-iop/2026-06-04/
LOCATION:e-motion wellness™ Therapy Center\, 431 Isom Road Suite 204\, San Antonio\, TX\, 78216\, United States
CATEGORIES:Adult IOP
ATTACH;FMTTYPE=image/png:https://www.emotionwellness.com/wp-content/uploads/2023/08/about2.png
ORGANIZER;CN="Jason Turner":MAILTO:jason@emotionwellness.com
END:VEVENT
BEGIN:VEVENT
DTSTART;TZID=America/Chicago:20260605T073000
DTEND;TZID=America/Chicago:20260605T103000
DTSTAMP:20260421T003537
CREATED:20240611T134151Z
LAST-MODIFIED:20240618T143741Z
UID:10011839-1780644600-1780655400@www.emotionwellness.com
SUMMARY:Adult IOP Make Up
DESCRIPTION:Make up class for Adult IOP. Our Adult IOP stands out due to our team of fully licensed clinicians\, unique experiential fitness model\, engaging treatment environment\, and strong community focus. We are dedicated to providing comprehensive care that addresses both the mind and body\, empowering individuals on their path to recovery.
URL:https://www.emotionwellness.com/event/adult-iop-make-up/2026-06-05/
LOCATION:e-motion wellness™ Therapy Center\, 431 Isom Road Suite 204\, San Antonio\, TX\, 78216\, United States
CATEGORIES:Adult IOP
ATTACH;FMTTYPE=image/png:https://www.emotionwellness.com/wp-content/uploads/2023/08/about2.png
ORGANIZER;CN="Jason Turner":MAILTO:jason@emotionwellness.com
END:VEVENT
BEGIN:VEVENT
DTSTART;TZID=America/Chicago:20260606T093000
DTEND;TZID=America/Chicago:20260606T110000
DTSTAMP:20260421T003537
CREATED:20250220T203750Z
LAST-MODIFIED:20250220T203750Z
UID:10018464-1780738200-1780743600@www.emotionwellness.com
SUMMARY:Adult IOP 4
DESCRIPTION:Our Adult IOP stands out due to our team of fully licensed clinicians\, unique experiential fitness model\, engaging treatment environment\, and strong community focus. We are dedicated to providing comprehensive care that addresses both the mind and body\, empowering individuals on their path to recovery.
URL:https://www.emotionwellness.com/event/adult-iop-4/2026-06-06/
LOCATION:e-motion wellness™ Therapy Center\, 431 Isom Road Suite 204\, San Antonio\, TX\, 78216\, United States
CATEGORIES:Adult IOP
ATTACH;FMTTYPE=image/png:https://www.emotionwellness.com/wp-content/uploads/2023/08/about2.png
ORGANIZER;CN="Jason Turner":MAILTO:jason@emotionwellness.com
END:VEVENT
END:VCALENDAR