BEGIN:VCALENDAR
VERSION:2.0
PRODID:-//e-motion wellness™ - ECPv6.14.0//NONSGML v1.0//EN
CALSCALE:GREGORIAN
METHOD:PUBLISH
X-ORIGINAL-URL:https://www.emotionwellness.com
X-WR-CALDESC:Events for e-motion wellness™
REFRESH-INTERVAL;VALUE=DURATION:PT1H
X-Robots-Tag:noindex
X-PUBLISHED-TTL:PT1H
BEGIN:VTIMEZONE
TZID:America/Chicago
BEGIN:DAYLIGHT
TZOFFSETFROM:-0600
TZOFFSETTO:-0500
TZNAME:CDT
DTSTART:20250309T080000
END:DAYLIGHT
BEGIN:STANDARD
TZOFFSETFROM:-0500
TZOFFSETTO:-0600
TZNAME:CST
DTSTART:20251102T070000
END:STANDARD
END:VTIMEZONE
BEGIN:VEVENT
DTSTART;TZID=America/Chicago:20251006T180000
DTEND;TZID=America/Chicago:20251006T210000
DTSTAMP:20260424T112651
CREATED:20240214T172827Z
LAST-MODIFIED:20240618T151633Z
UID:10016163-1759773600-1759784400@www.emotionwellness.com
SUMMARY:Adult IOP 3
DESCRIPTION:Our Adult IOP stands out due to our team of fully licensed clinicians\, unique experiential fitness model\, engaging treatment environment\, and strong community focus. We are dedicated to providing comprehensive care that addresses both the mind and body\, empowering individuals on their path to recovery.
URL:https://www.emotionwellness.com/event/adult-iop/2025-10-06/
LOCATION:e-motion wellness™ Therapy Center\, 431 Isom Road Suite 204\, San Antonio\, TX\, 78216\, United States
CATEGORIES:Adult IOP
ATTACH;FMTTYPE=image/png:https://www.emotionwellness.com/wp-content/uploads/2023/08/about2.png
ORGANIZER;CN="Jason Turner":MAILTO:jason@emotionwellness.com
END:VEVENT
BEGIN:VEVENT
DTSTART;TZID=America/Chicago:20251007T150000
DTEND;TZID=America/Chicago:20251007T180000
DTSTAMP:20260424T112651
CREATED:20240611T133543Z
LAST-MODIFIED:20241223T185826Z
UID:10015134-1759849200-1759860000@www.emotionwellness.com
SUMMARY:Adult IOP 2
DESCRIPTION:Our Adult IOP stands out due to our team of fully licensed clinicians\, unique experiential fitness model\, engaging treatment environment\, and strong community focus. We are dedicated to providing comprehensive care that addresses both the mind and body\, empowering individuals on their path to recovery.
URL:https://www.emotionwellness.com/event/adult-iop-3/2025-10-07/
LOCATION:e-motion wellness™ Therapy Center\, 431 Isom Road Suite 204\, San Antonio\, TX\, 78216\, United States
CATEGORIES:Adult IOP
ATTACH;FMTTYPE=image/png:https://www.emotionwellness.com/wp-content/uploads/2023/08/about2.png
ORGANIZER;CN="Jason Turner":MAILTO:jason@emotionwellness.com
END:VEVENT
BEGIN:VEVENT
DTSTART;TZID=America/Chicago:20251008T150000
DTEND;TZID=America/Chicago:20251008T180000
DTSTAMP:20260424T112651
CREATED:20240611T133543Z
LAST-MODIFIED:20241223T185826Z
UID:10015135-1759935600-1759946400@www.emotionwellness.com
SUMMARY:Adult IOP 2
DESCRIPTION:Our Adult IOP stands out due to our team of fully licensed clinicians\, unique experiential fitness model\, engaging treatment environment\, and strong community focus. We are dedicated to providing comprehensive care that addresses both the mind and body\, empowering individuals on their path to recovery.
URL:https://www.emotionwellness.com/event/adult-iop-3/2025-10-08/
LOCATION:e-motion wellness™ Therapy Center\, 431 Isom Road Suite 204\, San Antonio\, TX\, 78216\, United States
CATEGORIES:Adult IOP
ATTACH;FMTTYPE=image/png:https://www.emotionwellness.com/wp-content/uploads/2023/08/about2.png
ORGANIZER;CN="Jason Turner":MAILTO:jason@emotionwellness.com
END:VEVENT
BEGIN:VEVENT
DTSTART;TZID=America/Chicago:20251008T180000
DTEND;TZID=America/Chicago:20251008T210000
DTSTAMP:20260424T112651
CREATED:20240214T172827Z
LAST-MODIFIED:20240618T151633Z
UID:10016164-1759946400-1759957200@www.emotionwellness.com
SUMMARY:Adult IOP 3
DESCRIPTION:Our Adult IOP stands out due to our team of fully licensed clinicians\, unique experiential fitness model\, engaging treatment environment\, and strong community focus. We are dedicated to providing comprehensive care that addresses both the mind and body\, empowering individuals on their path to recovery.
URL:https://www.emotionwellness.com/event/adult-iop/2025-10-08/
LOCATION:e-motion wellness™ Therapy Center\, 431 Isom Road Suite 204\, San Antonio\, TX\, 78216\, United States
CATEGORIES:Adult IOP
ATTACH;FMTTYPE=image/png:https://www.emotionwellness.com/wp-content/uploads/2023/08/about2.png
ORGANIZER;CN="Jason Turner":MAILTO:jason@emotionwellness.com
END:VEVENT
BEGIN:VEVENT
DTSTART;TZID=America/Chicago:20251009T150000
DTEND;TZID=America/Chicago:20251009T180000
DTSTAMP:20260424T112651
CREATED:20240611T133543Z
LAST-MODIFIED:20241223T185826Z
UID:10015136-1760022000-1760032800@www.emotionwellness.com
SUMMARY:Adult IOP 2
DESCRIPTION:Our Adult IOP stands out due to our team of fully licensed clinicians\, unique experiential fitness model\, engaging treatment environment\, and strong community focus. We are dedicated to providing comprehensive care that addresses both the mind and body\, empowering individuals on their path to recovery.
URL:https://www.emotionwellness.com/event/adult-iop-3/2025-10-09/
LOCATION:e-motion wellness™ Therapy Center\, 431 Isom Road Suite 204\, San Antonio\, TX\, 78216\, United States
CATEGORIES:Adult IOP
ATTACH;FMTTYPE=image/png:https://www.emotionwellness.com/wp-content/uploads/2023/08/about2.png
ORGANIZER;CN="Jason Turner":MAILTO:jason@emotionwellness.com
END:VEVENT
BEGIN:VEVENT
DTSTART;TZID=America/Chicago:20251009T180000
DTEND;TZID=America/Chicago:20251009T210000
DTSTAMP:20260424T112651
CREATED:20240214T172827Z
LAST-MODIFIED:20240618T151633Z
UID:10016165-1760032800-1760043600@www.emotionwellness.com
SUMMARY:Adult IOP 3
DESCRIPTION:Our Adult IOP stands out due to our team of fully licensed clinicians\, unique experiential fitness model\, engaging treatment environment\, and strong community focus. We are dedicated to providing comprehensive care that addresses both the mind and body\, empowering individuals on their path to recovery.
URL:https://www.emotionwellness.com/event/adult-iop/2025-10-09/
LOCATION:e-motion wellness™ Therapy Center\, 431 Isom Road Suite 204\, San Antonio\, TX\, 78216\, United States
CATEGORIES:Adult IOP
ATTACH;FMTTYPE=image/png:https://www.emotionwellness.com/wp-content/uploads/2023/08/about2.png
ORGANIZER;CN="Jason Turner":MAILTO:jason@emotionwellness.com
END:VEVENT
BEGIN:VEVENT
DTSTART;TZID=America/Chicago:20251010T073000
DTEND;TZID=America/Chicago:20251010T103000
DTSTAMP:20260424T112651
CREATED:20240611T134151Z
LAST-MODIFIED:20240618T143741Z
UID:10011805-1760081400-1760092200@www.emotionwellness.com
SUMMARY:Adult IOP Make Up
DESCRIPTION:Make up class for Adult IOP. Our Adult IOP stands out due to our team of fully licensed clinicians\, unique experiential fitness model\, engaging treatment environment\, and strong community focus. We are dedicated to providing comprehensive care that addresses both the mind and body\, empowering individuals on their path to recovery.
URL:https://www.emotionwellness.com/event/adult-iop-make-up/2025-10-10/
LOCATION:e-motion wellness™ Therapy Center\, 431 Isom Road Suite 204\, San Antonio\, TX\, 78216\, United States
CATEGORIES:Adult IOP
ATTACH;FMTTYPE=image/png:https://www.emotionwellness.com/wp-content/uploads/2023/08/about2.png
ORGANIZER;CN="Jason Turner":MAILTO:jason@emotionwellness.com
END:VEVENT
BEGIN:VEVENT
DTSTART;TZID=America/Chicago:20251011T093000
DTEND;TZID=America/Chicago:20251011T110000
DTSTAMP:20260424T112651
CREATED:20250220T203750Z
LAST-MODIFIED:20250220T203750Z
UID:10018430-1760175000-1760180400@www.emotionwellness.com
SUMMARY:Adult IOP 4
DESCRIPTION:Our Adult IOP stands out due to our team of fully licensed clinicians\, unique experiential fitness model\, engaging treatment environment\, and strong community focus. We are dedicated to providing comprehensive care that addresses both the mind and body\, empowering individuals on their path to recovery.
URL:https://www.emotionwellness.com/event/adult-iop-4/2025-10-11/
LOCATION:e-motion wellness™ Therapy Center\, 431 Isom Road Suite 204\, San Antonio\, TX\, 78216\, United States
CATEGORIES:Adult IOP
ATTACH;FMTTYPE=image/png:https://www.emotionwellness.com/wp-content/uploads/2023/08/about2.png
ORGANIZER;CN="Jason Turner":MAILTO:jason@emotionwellness.com
END:VEVENT
BEGIN:VEVENT
DTSTART;TZID=America/Chicago:20251013T150000
DTEND;TZID=America/Chicago:20251013T180000
DTSTAMP:20260424T112651
CREATED:20240611T133543Z
LAST-MODIFIED:20241223T185826Z
UID:10015137-1760367600-1760378400@www.emotionwellness.com
SUMMARY:Adult IOP 2
DESCRIPTION:Our Adult IOP stands out due to our team of fully licensed clinicians\, unique experiential fitness model\, engaging treatment environment\, and strong community focus. We are dedicated to providing comprehensive care that addresses both the mind and body\, empowering individuals on their path to recovery.
URL:https://www.emotionwellness.com/event/adult-iop-3/2025-10-13/
LOCATION:e-motion wellness™ Therapy Center\, 431 Isom Road Suite 204\, San Antonio\, TX\, 78216\, United States
CATEGORIES:Adult IOP
ATTACH;FMTTYPE=image/png:https://www.emotionwellness.com/wp-content/uploads/2023/08/about2.png
ORGANIZER;CN="Jason Turner":MAILTO:jason@emotionwellness.com
END:VEVENT
BEGIN:VEVENT
DTSTART;TZID=America/Chicago:20251013T180000
DTEND;TZID=America/Chicago:20251013T210000
DTSTAMP:20260424T112651
CREATED:20240214T172827Z
LAST-MODIFIED:20240618T151633Z
UID:10016166-1760378400-1760389200@www.emotionwellness.com
SUMMARY:Adult IOP 3
DESCRIPTION:Our Adult IOP stands out due to our team of fully licensed clinicians\, unique experiential fitness model\, engaging treatment environment\, and strong community focus. We are dedicated to providing comprehensive care that addresses both the mind and body\, empowering individuals on their path to recovery.
URL:https://www.emotionwellness.com/event/adult-iop/2025-10-13/
LOCATION:e-motion wellness™ Therapy Center\, 431 Isom Road Suite 204\, San Antonio\, TX\, 78216\, United States
CATEGORIES:Adult IOP
ATTACH;FMTTYPE=image/png:https://www.emotionwellness.com/wp-content/uploads/2023/08/about2.png
ORGANIZER;CN="Jason Turner":MAILTO:jason@emotionwellness.com
END:VEVENT
BEGIN:VEVENT
DTSTART;TZID=America/Chicago:20251014T150000
DTEND;TZID=America/Chicago:20251014T180000
DTSTAMP:20260424T112651
CREATED:20240611T133543Z
LAST-MODIFIED:20241223T185826Z
UID:10015138-1760454000-1760464800@www.emotionwellness.com
SUMMARY:Adult IOP 2
DESCRIPTION:Our Adult IOP stands out due to our team of fully licensed clinicians\, unique experiential fitness model\, engaging treatment environment\, and strong community focus. We are dedicated to providing comprehensive care that addresses both the mind and body\, empowering individuals on their path to recovery.
URL:https://www.emotionwellness.com/event/adult-iop-3/2025-10-14/
LOCATION:e-motion wellness™ Therapy Center\, 431 Isom Road Suite 204\, San Antonio\, TX\, 78216\, United States
CATEGORIES:Adult IOP
ATTACH;FMTTYPE=image/png:https://www.emotionwellness.com/wp-content/uploads/2023/08/about2.png
ORGANIZER;CN="Jason Turner":MAILTO:jason@emotionwellness.com
END:VEVENT
BEGIN:VEVENT
DTSTART;TZID=America/Chicago:20251015T150000
DTEND;TZID=America/Chicago:20251015T180000
DTSTAMP:20260424T112651
CREATED:20240611T133543Z
LAST-MODIFIED:20241223T185826Z
UID:10015139-1760540400-1760551200@www.emotionwellness.com
SUMMARY:Adult IOP 2
DESCRIPTION:Our Adult IOP stands out due to our team of fully licensed clinicians\, unique experiential fitness model\, engaging treatment environment\, and strong community focus. We are dedicated to providing comprehensive care that addresses both the mind and body\, empowering individuals on their path to recovery.
URL:https://www.emotionwellness.com/event/adult-iop-3/2025-10-15/
LOCATION:e-motion wellness™ Therapy Center\, 431 Isom Road Suite 204\, San Antonio\, TX\, 78216\, United States
CATEGORIES:Adult IOP
ATTACH;FMTTYPE=image/png:https://www.emotionwellness.com/wp-content/uploads/2023/08/about2.png
ORGANIZER;CN="Jason Turner":MAILTO:jason@emotionwellness.com
END:VEVENT
BEGIN:VEVENT
DTSTART;TZID=America/Chicago:20251015T180000
DTEND;TZID=America/Chicago:20251015T210000
DTSTAMP:20260424T112651
CREATED:20240214T172827Z
LAST-MODIFIED:20240618T151633Z
UID:10016167-1760551200-1760562000@www.emotionwellness.com
SUMMARY:Adult IOP 3
DESCRIPTION:Our Adult IOP stands out due to our team of fully licensed clinicians\, unique experiential fitness model\, engaging treatment environment\, and strong community focus. We are dedicated to providing comprehensive care that addresses both the mind and body\, empowering individuals on their path to recovery.
URL:https://www.emotionwellness.com/event/adult-iop/2025-10-15/
LOCATION:e-motion wellness™ Therapy Center\, 431 Isom Road Suite 204\, San Antonio\, TX\, 78216\, United States
CATEGORIES:Adult IOP
ATTACH;FMTTYPE=image/png:https://www.emotionwellness.com/wp-content/uploads/2023/08/about2.png
ORGANIZER;CN="Jason Turner":MAILTO:jason@emotionwellness.com
END:VEVENT
BEGIN:VEVENT
DTSTART;TZID=America/Chicago:20251016T150000
DTEND;TZID=America/Chicago:20251016T180000
DTSTAMP:20260424T112651
CREATED:20240611T133543Z
LAST-MODIFIED:20241223T185826Z
UID:10015140-1760626800-1760637600@www.emotionwellness.com
SUMMARY:Adult IOP 2
DESCRIPTION:Our Adult IOP stands out due to our team of fully licensed clinicians\, unique experiential fitness model\, engaging treatment environment\, and strong community focus. We are dedicated to providing comprehensive care that addresses both the mind and body\, empowering individuals on their path to recovery.
URL:https://www.emotionwellness.com/event/adult-iop-3/2025-10-16/
LOCATION:e-motion wellness™ Therapy Center\, 431 Isom Road Suite 204\, San Antonio\, TX\, 78216\, United States
CATEGORIES:Adult IOP
ATTACH;FMTTYPE=image/png:https://www.emotionwellness.com/wp-content/uploads/2023/08/about2.png
ORGANIZER;CN="Jason Turner":MAILTO:jason@emotionwellness.com
END:VEVENT
BEGIN:VEVENT
DTSTART;TZID=America/Chicago:20251016T180000
DTEND;TZID=America/Chicago:20251016T210000
DTSTAMP:20260424T112651
CREATED:20240214T172827Z
LAST-MODIFIED:20240618T151633Z
UID:10016168-1760637600-1760648400@www.emotionwellness.com
SUMMARY:Adult IOP 3
DESCRIPTION:Our Adult IOP stands out due to our team of fully licensed clinicians\, unique experiential fitness model\, engaging treatment environment\, and strong community focus. We are dedicated to providing comprehensive care that addresses both the mind and body\, empowering individuals on their path to recovery.
URL:https://www.emotionwellness.com/event/adult-iop/2025-10-16/
LOCATION:e-motion wellness™ Therapy Center\, 431 Isom Road Suite 204\, San Antonio\, TX\, 78216\, United States
CATEGORIES:Adult IOP
ATTACH;FMTTYPE=image/png:https://www.emotionwellness.com/wp-content/uploads/2023/08/about2.png
ORGANIZER;CN="Jason Turner":MAILTO:jason@emotionwellness.com
END:VEVENT
BEGIN:VEVENT
DTSTART;TZID=America/Chicago:20251017T073000
DTEND;TZID=America/Chicago:20251017T103000
DTSTAMP:20260424T112651
CREATED:20240611T134151Z
LAST-MODIFIED:20240618T143741Z
UID:10011806-1760686200-1760697000@www.emotionwellness.com
SUMMARY:Adult IOP Make Up
DESCRIPTION:Make up class for Adult IOP. Our Adult IOP stands out due to our team of fully licensed clinicians\, unique experiential fitness model\, engaging treatment environment\, and strong community focus. We are dedicated to providing comprehensive care that addresses both the mind and body\, empowering individuals on their path to recovery.
URL:https://www.emotionwellness.com/event/adult-iop-make-up/2025-10-17/
LOCATION:e-motion wellness™ Therapy Center\, 431 Isom Road Suite 204\, San Antonio\, TX\, 78216\, United States
CATEGORIES:Adult IOP
ATTACH;FMTTYPE=image/png:https://www.emotionwellness.com/wp-content/uploads/2023/08/about2.png
ORGANIZER;CN="Jason Turner":MAILTO:jason@emotionwellness.com
END:VEVENT
BEGIN:VEVENT
DTSTART;TZID=America/Chicago:20251018T093000
DTEND;TZID=America/Chicago:20251018T110000
DTSTAMP:20260424T112651
CREATED:20250220T203750Z
LAST-MODIFIED:20250220T203750Z
UID:10018431-1760779800-1760785200@www.emotionwellness.com
SUMMARY:Adult IOP 4
DESCRIPTION:Our Adult IOP stands out due to our team of fully licensed clinicians\, unique experiential fitness model\, engaging treatment environment\, and strong community focus. We are dedicated to providing comprehensive care that addresses both the mind and body\, empowering individuals on their path to recovery.
URL:https://www.emotionwellness.com/event/adult-iop-4/2025-10-18/
LOCATION:e-motion wellness™ Therapy Center\, 431 Isom Road Suite 204\, San Antonio\, TX\, 78216\, United States
CATEGORIES:Adult IOP
ATTACH;FMTTYPE=image/png:https://www.emotionwellness.com/wp-content/uploads/2023/08/about2.png
ORGANIZER;CN="Jason Turner":MAILTO:jason@emotionwellness.com
END:VEVENT
BEGIN:VEVENT
DTSTART;TZID=America/Chicago:20251020T150000
DTEND;TZID=America/Chicago:20251020T180000
DTSTAMP:20260424T112651
CREATED:20240611T133543Z
LAST-MODIFIED:20241223T185826Z
UID:10015141-1760972400-1760983200@www.emotionwellness.com
SUMMARY:Adult IOP 2
DESCRIPTION:Our Adult IOP stands out due to our team of fully licensed clinicians\, unique experiential fitness model\, engaging treatment environment\, and strong community focus. We are dedicated to providing comprehensive care that addresses both the mind and body\, empowering individuals on their path to recovery.
URL:https://www.emotionwellness.com/event/adult-iop-3/2025-10-20/
LOCATION:e-motion wellness™ Therapy Center\, 431 Isom Road Suite 204\, San Antonio\, TX\, 78216\, United States
CATEGORIES:Adult IOP
ATTACH;FMTTYPE=image/png:https://www.emotionwellness.com/wp-content/uploads/2023/08/about2.png
ORGANIZER;CN="Jason Turner":MAILTO:jason@emotionwellness.com
END:VEVENT
BEGIN:VEVENT
DTSTART;TZID=America/Chicago:20251020T180000
DTEND;TZID=America/Chicago:20251020T210000
DTSTAMP:20260424T112651
CREATED:20240214T172827Z
LAST-MODIFIED:20240618T151633Z
UID:10016169-1760983200-1760994000@www.emotionwellness.com
SUMMARY:Adult IOP 3
DESCRIPTION:Our Adult IOP stands out due to our team of fully licensed clinicians\, unique experiential fitness model\, engaging treatment environment\, and strong community focus. We are dedicated to providing comprehensive care that addresses both the mind and body\, empowering individuals on their path to recovery.
URL:https://www.emotionwellness.com/event/adult-iop/2025-10-20/
LOCATION:e-motion wellness™ Therapy Center\, 431 Isom Road Suite 204\, San Antonio\, TX\, 78216\, United States
CATEGORIES:Adult IOP
ATTACH;FMTTYPE=image/png:https://www.emotionwellness.com/wp-content/uploads/2023/08/about2.png
ORGANIZER;CN="Jason Turner":MAILTO:jason@emotionwellness.com
END:VEVENT
BEGIN:VEVENT
DTSTART;TZID=America/Chicago:20251021T150000
DTEND;TZID=America/Chicago:20251021T180000
DTSTAMP:20260424T112651
CREATED:20240611T133543Z
LAST-MODIFIED:20241223T185826Z
UID:10015142-1761058800-1761069600@www.emotionwellness.com
SUMMARY:Adult IOP 2
DESCRIPTION:Our Adult IOP stands out due to our team of fully licensed clinicians\, unique experiential fitness model\, engaging treatment environment\, and strong community focus. We are dedicated to providing comprehensive care that addresses both the mind and body\, empowering individuals on their path to recovery.
URL:https://www.emotionwellness.com/event/adult-iop-3/2025-10-21/
LOCATION:e-motion wellness™ Therapy Center\, 431 Isom Road Suite 204\, San Antonio\, TX\, 78216\, United States
CATEGORIES:Adult IOP
ATTACH;FMTTYPE=image/png:https://www.emotionwellness.com/wp-content/uploads/2023/08/about2.png
ORGANIZER;CN="Jason Turner":MAILTO:jason@emotionwellness.com
END:VEVENT
BEGIN:VEVENT
DTSTART;TZID=America/Chicago:20251022T150000
DTEND;TZID=America/Chicago:20251022T180000
DTSTAMP:20260424T112651
CREATED:20240611T133543Z
LAST-MODIFIED:20241223T185826Z
UID:10015143-1761145200-1761156000@www.emotionwellness.com
SUMMARY:Adult IOP 2
DESCRIPTION:Our Adult IOP stands out due to our team of fully licensed clinicians\, unique experiential fitness model\, engaging treatment environment\, and strong community focus. We are dedicated to providing comprehensive care that addresses both the mind and body\, empowering individuals on their path to recovery.
URL:https://www.emotionwellness.com/event/adult-iop-3/2025-10-22/
LOCATION:e-motion wellness™ Therapy Center\, 431 Isom Road Suite 204\, San Antonio\, TX\, 78216\, United States
CATEGORIES:Adult IOP
ATTACH;FMTTYPE=image/png:https://www.emotionwellness.com/wp-content/uploads/2023/08/about2.png
ORGANIZER;CN="Jason Turner":MAILTO:jason@emotionwellness.com
END:VEVENT
BEGIN:VEVENT
DTSTART;TZID=America/Chicago:20251022T180000
DTEND;TZID=America/Chicago:20251022T210000
DTSTAMP:20260424T112651
CREATED:20240214T172827Z
LAST-MODIFIED:20240618T151633Z
UID:10016170-1761156000-1761166800@www.emotionwellness.com
SUMMARY:Adult IOP 3
DESCRIPTION:Our Adult IOP stands out due to our team of fully licensed clinicians\, unique experiential fitness model\, engaging treatment environment\, and strong community focus. We are dedicated to providing comprehensive care that addresses both the mind and body\, empowering individuals on their path to recovery.
URL:https://www.emotionwellness.com/event/adult-iop/2025-10-22/
LOCATION:e-motion wellness™ Therapy Center\, 431 Isom Road Suite 204\, San Antonio\, TX\, 78216\, United States
CATEGORIES:Adult IOP
ATTACH;FMTTYPE=image/png:https://www.emotionwellness.com/wp-content/uploads/2023/08/about2.png
ORGANIZER;CN="Jason Turner":MAILTO:jason@emotionwellness.com
END:VEVENT
BEGIN:VEVENT
DTSTART;TZID=America/Chicago:20251023T150000
DTEND;TZID=America/Chicago:20251023T180000
DTSTAMP:20260424T112651
CREATED:20240611T133543Z
LAST-MODIFIED:20241223T185826Z
UID:10015144-1761231600-1761242400@www.emotionwellness.com
SUMMARY:Adult IOP 2
DESCRIPTION:Our Adult IOP stands out due to our team of fully licensed clinicians\, unique experiential fitness model\, engaging treatment environment\, and strong community focus. We are dedicated to providing comprehensive care that addresses both the mind and body\, empowering individuals on their path to recovery.
URL:https://www.emotionwellness.com/event/adult-iop-3/2025-10-23/
LOCATION:e-motion wellness™ Therapy Center\, 431 Isom Road Suite 204\, San Antonio\, TX\, 78216\, United States
CATEGORIES:Adult IOP
ATTACH;FMTTYPE=image/png:https://www.emotionwellness.com/wp-content/uploads/2023/08/about2.png
ORGANIZER;CN="Jason Turner":MAILTO:jason@emotionwellness.com
END:VEVENT
BEGIN:VEVENT
DTSTART;TZID=America/Chicago:20251023T180000
DTEND;TZID=America/Chicago:20251023T210000
DTSTAMP:20260424T112651
CREATED:20240214T172827Z
LAST-MODIFIED:20240618T151633Z
UID:10016171-1761242400-1761253200@www.emotionwellness.com
SUMMARY:Adult IOP 3
DESCRIPTION:Our Adult IOP stands out due to our team of fully licensed clinicians\, unique experiential fitness model\, engaging treatment environment\, and strong community focus. We are dedicated to providing comprehensive care that addresses both the mind and body\, empowering individuals on their path to recovery.
URL:https://www.emotionwellness.com/event/adult-iop/2025-10-23/
LOCATION:e-motion wellness™ Therapy Center\, 431 Isom Road Suite 204\, San Antonio\, TX\, 78216\, United States
CATEGORIES:Adult IOP
ATTACH;FMTTYPE=image/png:https://www.emotionwellness.com/wp-content/uploads/2023/08/about2.png
ORGANIZER;CN="Jason Turner":MAILTO:jason@emotionwellness.com
END:VEVENT
BEGIN:VEVENT
DTSTART;TZID=America/Chicago:20251024T073000
DTEND;TZID=America/Chicago:20251024T103000
DTSTAMP:20260424T112651
CREATED:20240611T134151Z
LAST-MODIFIED:20240618T143741Z
UID:10011807-1761291000-1761301800@www.emotionwellness.com
SUMMARY:Adult IOP Make Up
DESCRIPTION:Make up class for Adult IOP. Our Adult IOP stands out due to our team of fully licensed clinicians\, unique experiential fitness model\, engaging treatment environment\, and strong community focus. We are dedicated to providing comprehensive care that addresses both the mind and body\, empowering individuals on their path to recovery.
URL:https://www.emotionwellness.com/event/adult-iop-make-up/2025-10-24/
LOCATION:e-motion wellness™ Therapy Center\, 431 Isom Road Suite 204\, San Antonio\, TX\, 78216\, United States
CATEGORIES:Adult IOP
ATTACH;FMTTYPE=image/png:https://www.emotionwellness.com/wp-content/uploads/2023/08/about2.png
ORGANIZER;CN="Jason Turner":MAILTO:jason@emotionwellness.com
END:VEVENT
BEGIN:VEVENT
DTSTART;TZID=America/Chicago:20251025T093000
DTEND;TZID=America/Chicago:20251025T110000
DTSTAMP:20260424T112651
CREATED:20250220T203750Z
LAST-MODIFIED:20250220T203750Z
UID:10018432-1761384600-1761390000@www.emotionwellness.com
SUMMARY:Adult IOP 4
DESCRIPTION:Our Adult IOP stands out due to our team of fully licensed clinicians\, unique experiential fitness model\, engaging treatment environment\, and strong community focus. We are dedicated to providing comprehensive care that addresses both the mind and body\, empowering individuals on their path to recovery.
URL:https://www.emotionwellness.com/event/adult-iop-4/2025-10-25/
LOCATION:e-motion wellness™ Therapy Center\, 431 Isom Road Suite 204\, San Antonio\, TX\, 78216\, United States
CATEGORIES:Adult IOP
ATTACH;FMTTYPE=image/png:https://www.emotionwellness.com/wp-content/uploads/2023/08/about2.png
ORGANIZER;CN="Jason Turner":MAILTO:jason@emotionwellness.com
END:VEVENT
BEGIN:VEVENT
DTSTART;TZID=America/Chicago:20251027T150000
DTEND;TZID=America/Chicago:20251027T180000
DTSTAMP:20260424T112651
CREATED:20240611T133543Z
LAST-MODIFIED:20241223T185826Z
UID:10015145-1761577200-1761588000@www.emotionwellness.com
SUMMARY:Adult IOP 2
DESCRIPTION:Our Adult IOP stands out due to our team of fully licensed clinicians\, unique experiential fitness model\, engaging treatment environment\, and strong community focus. We are dedicated to providing comprehensive care that addresses both the mind and body\, empowering individuals on their path to recovery.
URL:https://www.emotionwellness.com/event/adult-iop-3/2025-10-27/
LOCATION:e-motion wellness™ Therapy Center\, 431 Isom Road Suite 204\, San Antonio\, TX\, 78216\, United States
CATEGORIES:Adult IOP
ATTACH;FMTTYPE=image/png:https://www.emotionwellness.com/wp-content/uploads/2023/08/about2.png
ORGANIZER;CN="Jason Turner":MAILTO:jason@emotionwellness.com
END:VEVENT
BEGIN:VEVENT
DTSTART;TZID=America/Chicago:20251027T180000
DTEND;TZID=America/Chicago:20251027T210000
DTSTAMP:20260424T112651
CREATED:20240214T172827Z
LAST-MODIFIED:20240618T151633Z
UID:10016172-1761588000-1761598800@www.emotionwellness.com
SUMMARY:Adult IOP 3
DESCRIPTION:Our Adult IOP stands out due to our team of fully licensed clinicians\, unique experiential fitness model\, engaging treatment environment\, and strong community focus. We are dedicated to providing comprehensive care that addresses both the mind and body\, empowering individuals on their path to recovery.
URL:https://www.emotionwellness.com/event/adult-iop/2025-10-27/
LOCATION:e-motion wellness™ Therapy Center\, 431 Isom Road Suite 204\, San Antonio\, TX\, 78216\, United States
CATEGORIES:Adult IOP
ATTACH;FMTTYPE=image/png:https://www.emotionwellness.com/wp-content/uploads/2023/08/about2.png
ORGANIZER;CN="Jason Turner":MAILTO:jason@emotionwellness.com
END:VEVENT
BEGIN:VEVENT
DTSTART;TZID=America/Chicago:20251028T150000
DTEND;TZID=America/Chicago:20251028T180000
DTSTAMP:20260424T112651
CREATED:20240611T133543Z
LAST-MODIFIED:20241223T185826Z
UID:10015146-1761663600-1761674400@www.emotionwellness.com
SUMMARY:Adult IOP 2
DESCRIPTION:Our Adult IOP stands out due to our team of fully licensed clinicians\, unique experiential fitness model\, engaging treatment environment\, and strong community focus. We are dedicated to providing comprehensive care that addresses both the mind and body\, empowering individuals on their path to recovery.
URL:https://www.emotionwellness.com/event/adult-iop-3/2025-10-28/
LOCATION:e-motion wellness™ Therapy Center\, 431 Isom Road Suite 204\, San Antonio\, TX\, 78216\, United States
CATEGORIES:Adult IOP
ATTACH;FMTTYPE=image/png:https://www.emotionwellness.com/wp-content/uploads/2023/08/about2.png
ORGANIZER;CN="Jason Turner":MAILTO:jason@emotionwellness.com
END:VEVENT
BEGIN:VEVENT
DTSTART;TZID=America/Chicago:20251029T150000
DTEND;TZID=America/Chicago:20251029T180000
DTSTAMP:20260424T112651
CREATED:20240611T133543Z
LAST-MODIFIED:20241223T185826Z
UID:10015147-1761750000-1761760800@www.emotionwellness.com
SUMMARY:Adult IOP 2
DESCRIPTION:Our Adult IOP stands out due to our team of fully licensed clinicians\, unique experiential fitness model\, engaging treatment environment\, and strong community focus. We are dedicated to providing comprehensive care that addresses both the mind and body\, empowering individuals on their path to recovery.
URL:https://www.emotionwellness.com/event/adult-iop-3/2025-10-29/
LOCATION:e-motion wellness™ Therapy Center\, 431 Isom Road Suite 204\, San Antonio\, TX\, 78216\, United States
CATEGORIES:Adult IOP
ATTACH;FMTTYPE=image/png:https://www.emotionwellness.com/wp-content/uploads/2023/08/about2.png
ORGANIZER;CN="Jason Turner":MAILTO:jason@emotionwellness.com
END:VEVENT
END:VCALENDAR