BEGIN:VCALENDAR
VERSION:2.0
PRODID:-//e-motion wellness™ - ECPv6.14.0//NONSGML v1.0//EN
CALSCALE:GREGORIAN
METHOD:PUBLISH
X-WR-CALNAME:e-motion wellness™
X-ORIGINAL-URL:https://www.emotionwellness.com
X-WR-CALDESC:Events for e-motion wellness™
REFRESH-INTERVAL;VALUE=DURATION:PT1H
X-Robots-Tag:noindex
X-PUBLISHED-TTL:PT1H
BEGIN:VTIMEZONE
TZID:America/Chicago
BEGIN:DAYLIGHT
TZOFFSETFROM:-0600
TZOFFSETTO:-0500
TZNAME:CDT
DTSTART:20250309T080000
END:DAYLIGHT
BEGIN:STANDARD
TZOFFSETFROM:-0500
TZOFFSETTO:-0600
TZNAME:CST
DTSTART:20251102T070000
END:STANDARD
END:VTIMEZONE
BEGIN:VEVENT
DTSTART;TZID=America/Chicago:20251101T093000
DTEND;TZID=America/Chicago:20251101T110000
DTSTAMP:20260421T023100
CREATED:20250220T203750Z
LAST-MODIFIED:20250220T203750Z
UID:10018433-1761989400-1761994800@www.emotionwellness.com
SUMMARY:Adult IOP 4
DESCRIPTION:Our Adult IOP stands out due to our team of fully licensed clinicians\, unique experiential fitness model\, engaging treatment environment\, and strong community focus. We are dedicated to providing comprehensive care that addresses both the mind and body\, empowering individuals on their path to recovery.
URL:https://www.emotionwellness.com/event/adult-iop-4/2025-11-01/
LOCATION:e-motion wellness™ Therapy Center\, 431 Isom Road Suite 204\, San Antonio\, TX\, 78216\, United States
CATEGORIES:Adult IOP
ATTACH;FMTTYPE=image/png:https://www.emotionwellness.com/wp-content/uploads/2023/08/about2.png
ORGANIZER;CN="Jason Turner":MAILTO:jason@emotionwellness.com
END:VEVENT
BEGIN:VEVENT
DTSTART;TZID=America/Chicago:20251103T150000
DTEND;TZID=America/Chicago:20251103T180000
DTSTAMP:20260421T023100
CREATED:20240611T133543Z
LAST-MODIFIED:20241223T185826Z
UID:10015149-1762182000-1762192800@www.emotionwellness.com
SUMMARY:Adult IOP 2
DESCRIPTION:Our Adult IOP stands out due to our team of fully licensed clinicians\, unique experiential fitness model\, engaging treatment environment\, and strong community focus. We are dedicated to providing comprehensive care that addresses both the mind and body\, empowering individuals on their path to recovery.
URL:https://www.emotionwellness.com/event/adult-iop-3/2025-11-03/
LOCATION:e-motion wellness™ Therapy Center\, 431 Isom Road Suite 204\, San Antonio\, TX\, 78216\, United States
CATEGORIES:Adult IOP
ATTACH;FMTTYPE=image/png:https://www.emotionwellness.com/wp-content/uploads/2023/08/about2.png
ORGANIZER;CN="Jason Turner":MAILTO:jason@emotionwellness.com
END:VEVENT
BEGIN:VEVENT
DTSTART;TZID=America/Chicago:20251103T180000
DTEND;TZID=America/Chicago:20251103T210000
DTSTAMP:20260421T023100
CREATED:20240214T172827Z
LAST-MODIFIED:20240618T151633Z
UID:10016175-1762192800-1762203600@www.emotionwellness.com
SUMMARY:Adult IOP 3
DESCRIPTION:Our Adult IOP stands out due to our team of fully licensed clinicians\, unique experiential fitness model\, engaging treatment environment\, and strong community focus. We are dedicated to providing comprehensive care that addresses both the mind and body\, empowering individuals on their path to recovery.
URL:https://www.emotionwellness.com/event/adult-iop/2025-11-03/
LOCATION:e-motion wellness™ Therapy Center\, 431 Isom Road Suite 204\, San Antonio\, TX\, 78216\, United States
CATEGORIES:Adult IOP
ATTACH;FMTTYPE=image/png:https://www.emotionwellness.com/wp-content/uploads/2023/08/about2.png
ORGANIZER;CN="Jason Turner":MAILTO:jason@emotionwellness.com
END:VEVENT
BEGIN:VEVENT
DTSTART;TZID=America/Chicago:20251104T150000
DTEND;TZID=America/Chicago:20251104T180000
DTSTAMP:20260421T023100
CREATED:20240611T133543Z
LAST-MODIFIED:20241223T185826Z
UID:10015150-1762268400-1762279200@www.emotionwellness.com
SUMMARY:Adult IOP 2
DESCRIPTION:Our Adult IOP stands out due to our team of fully licensed clinicians\, unique experiential fitness model\, engaging treatment environment\, and strong community focus. We are dedicated to providing comprehensive care that addresses both the mind and body\, empowering individuals on their path to recovery.
URL:https://www.emotionwellness.com/event/adult-iop-3/2025-11-04/
LOCATION:e-motion wellness™ Therapy Center\, 431 Isom Road Suite 204\, San Antonio\, TX\, 78216\, United States
CATEGORIES:Adult IOP
ATTACH;FMTTYPE=image/png:https://www.emotionwellness.com/wp-content/uploads/2023/08/about2.png
ORGANIZER;CN="Jason Turner":MAILTO:jason@emotionwellness.com
END:VEVENT
BEGIN:VEVENT
DTSTART;TZID=America/Chicago:20251105T150000
DTEND;TZID=America/Chicago:20251105T180000
DTSTAMP:20260421T023100
CREATED:20240611T133543Z
LAST-MODIFIED:20241223T185826Z
UID:10015151-1762354800-1762365600@www.emotionwellness.com
SUMMARY:Adult IOP 2
DESCRIPTION:Our Adult IOP stands out due to our team of fully licensed clinicians\, unique experiential fitness model\, engaging treatment environment\, and strong community focus. We are dedicated to providing comprehensive care that addresses both the mind and body\, empowering individuals on their path to recovery.
URL:https://www.emotionwellness.com/event/adult-iop-3/2025-11-05/
LOCATION:e-motion wellness™ Therapy Center\, 431 Isom Road Suite 204\, San Antonio\, TX\, 78216\, United States
CATEGORIES:Adult IOP
ATTACH;FMTTYPE=image/png:https://www.emotionwellness.com/wp-content/uploads/2023/08/about2.png
ORGANIZER;CN="Jason Turner":MAILTO:jason@emotionwellness.com
END:VEVENT
BEGIN:VEVENT
DTSTART;TZID=America/Chicago:20251105T180000
DTEND;TZID=America/Chicago:20251105T210000
DTSTAMP:20260421T023100
CREATED:20240214T172827Z
LAST-MODIFIED:20240618T151633Z
UID:10016176-1762365600-1762376400@www.emotionwellness.com
SUMMARY:Adult IOP 3
DESCRIPTION:Our Adult IOP stands out due to our team of fully licensed clinicians\, unique experiential fitness model\, engaging treatment environment\, and strong community focus. We are dedicated to providing comprehensive care that addresses both the mind and body\, empowering individuals on their path to recovery.
URL:https://www.emotionwellness.com/event/adult-iop/2025-11-05/
LOCATION:e-motion wellness™ Therapy Center\, 431 Isom Road Suite 204\, San Antonio\, TX\, 78216\, United States
CATEGORIES:Adult IOP
ATTACH;FMTTYPE=image/png:https://www.emotionwellness.com/wp-content/uploads/2023/08/about2.png
ORGANIZER;CN="Jason Turner":MAILTO:jason@emotionwellness.com
END:VEVENT
BEGIN:VEVENT
DTSTART;TZID=America/Chicago:20251106T150000
DTEND;TZID=America/Chicago:20251106T180000
DTSTAMP:20260421T023100
CREATED:20240611T133543Z
LAST-MODIFIED:20241223T185826Z
UID:10015152-1762441200-1762452000@www.emotionwellness.com
SUMMARY:Adult IOP 2
DESCRIPTION:Our Adult IOP stands out due to our team of fully licensed clinicians\, unique experiential fitness model\, engaging treatment environment\, and strong community focus. We are dedicated to providing comprehensive care that addresses both the mind and body\, empowering individuals on their path to recovery.
URL:https://www.emotionwellness.com/event/adult-iop-3/2025-11-06/
LOCATION:e-motion wellness™ Therapy Center\, 431 Isom Road Suite 204\, San Antonio\, TX\, 78216\, United States
CATEGORIES:Adult IOP
ATTACH;FMTTYPE=image/png:https://www.emotionwellness.com/wp-content/uploads/2023/08/about2.png
ORGANIZER;CN="Jason Turner":MAILTO:jason@emotionwellness.com
END:VEVENT
BEGIN:VEVENT
DTSTART;TZID=America/Chicago:20251106T180000
DTEND;TZID=America/Chicago:20251106T210000
DTSTAMP:20260421T023100
CREATED:20240214T172827Z
LAST-MODIFIED:20240618T151633Z
UID:10016177-1762452000-1762462800@www.emotionwellness.com
SUMMARY:Adult IOP 3
DESCRIPTION:Our Adult IOP stands out due to our team of fully licensed clinicians\, unique experiential fitness model\, engaging treatment environment\, and strong community focus. We are dedicated to providing comprehensive care that addresses both the mind and body\, empowering individuals on their path to recovery.
URL:https://www.emotionwellness.com/event/adult-iop/2025-11-06/
LOCATION:e-motion wellness™ Therapy Center\, 431 Isom Road Suite 204\, San Antonio\, TX\, 78216\, United States
CATEGORIES:Adult IOP
ATTACH;FMTTYPE=image/png:https://www.emotionwellness.com/wp-content/uploads/2023/08/about2.png
ORGANIZER;CN="Jason Turner":MAILTO:jason@emotionwellness.com
END:VEVENT
BEGIN:VEVENT
DTSTART;TZID=America/Chicago:20251107T073000
DTEND;TZID=America/Chicago:20251107T103000
DTSTAMP:20260421T023100
CREATED:20240611T134151Z
LAST-MODIFIED:20240618T143741Z
UID:10011809-1762500600-1762511400@www.emotionwellness.com
SUMMARY:Adult IOP Make Up
DESCRIPTION:Make up class for Adult IOP. Our Adult IOP stands out due to our team of fully licensed clinicians\, unique experiential fitness model\, engaging treatment environment\, and strong community focus. We are dedicated to providing comprehensive care that addresses both the mind and body\, empowering individuals on their path to recovery.
URL:https://www.emotionwellness.com/event/adult-iop-make-up/2025-11-07/
LOCATION:e-motion wellness™ Therapy Center\, 431 Isom Road Suite 204\, San Antonio\, TX\, 78216\, United States
CATEGORIES:Adult IOP
ATTACH;FMTTYPE=image/png:https://www.emotionwellness.com/wp-content/uploads/2023/08/about2.png
ORGANIZER;CN="Jason Turner":MAILTO:jason@emotionwellness.com
END:VEVENT
BEGIN:VEVENT
DTSTART;TZID=America/Chicago:20251108T093000
DTEND;TZID=America/Chicago:20251108T110000
DTSTAMP:20260421T023100
CREATED:20250220T203750Z
LAST-MODIFIED:20250220T203750Z
UID:10018434-1762594200-1762599600@www.emotionwellness.com
SUMMARY:Adult IOP 4
DESCRIPTION:Our Adult IOP stands out due to our team of fully licensed clinicians\, unique experiential fitness model\, engaging treatment environment\, and strong community focus. We are dedicated to providing comprehensive care that addresses both the mind and body\, empowering individuals on their path to recovery.
URL:https://www.emotionwellness.com/event/adult-iop-4/2025-11-08/
LOCATION:e-motion wellness™ Therapy Center\, 431 Isom Road Suite 204\, San Antonio\, TX\, 78216\, United States
CATEGORIES:Adult IOP
ATTACH;FMTTYPE=image/png:https://www.emotionwellness.com/wp-content/uploads/2023/08/about2.png
ORGANIZER;CN="Jason Turner":MAILTO:jason@emotionwellness.com
END:VEVENT
BEGIN:VEVENT
DTSTART;TZID=America/Chicago:20251110T150000
DTEND;TZID=America/Chicago:20251110T180000
DTSTAMP:20260421T023100
CREATED:20240611T133543Z
LAST-MODIFIED:20241223T185826Z
UID:10015153-1762786800-1762797600@www.emotionwellness.com
SUMMARY:Adult IOP 2
DESCRIPTION:Our Adult IOP stands out due to our team of fully licensed clinicians\, unique experiential fitness model\, engaging treatment environment\, and strong community focus. We are dedicated to providing comprehensive care that addresses both the mind and body\, empowering individuals on their path to recovery.
URL:https://www.emotionwellness.com/event/adult-iop-3/2025-11-10/
LOCATION:e-motion wellness™ Therapy Center\, 431 Isom Road Suite 204\, San Antonio\, TX\, 78216\, United States
CATEGORIES:Adult IOP
ATTACH;FMTTYPE=image/png:https://www.emotionwellness.com/wp-content/uploads/2023/08/about2.png
ORGANIZER;CN="Jason Turner":MAILTO:jason@emotionwellness.com
END:VEVENT
BEGIN:VEVENT
DTSTART;TZID=America/Chicago:20251110T180000
DTEND;TZID=America/Chicago:20251110T210000
DTSTAMP:20260421T023100
CREATED:20240214T172827Z
LAST-MODIFIED:20240618T151633Z
UID:10016178-1762797600-1762808400@www.emotionwellness.com
SUMMARY:Adult IOP 3
DESCRIPTION:Our Adult IOP stands out due to our team of fully licensed clinicians\, unique experiential fitness model\, engaging treatment environment\, and strong community focus. We are dedicated to providing comprehensive care that addresses both the mind and body\, empowering individuals on their path to recovery.
URL:https://www.emotionwellness.com/event/adult-iop/2025-11-10/
LOCATION:e-motion wellness™ Therapy Center\, 431 Isom Road Suite 204\, San Antonio\, TX\, 78216\, United States
CATEGORIES:Adult IOP
ATTACH;FMTTYPE=image/png:https://www.emotionwellness.com/wp-content/uploads/2023/08/about2.png
ORGANIZER;CN="Jason Turner":MAILTO:jason@emotionwellness.com
END:VEVENT
BEGIN:VEVENT
DTSTART;TZID=America/Chicago:20251111T150000
DTEND;TZID=America/Chicago:20251111T180000
DTSTAMP:20260421T023100
CREATED:20240611T133543Z
LAST-MODIFIED:20241223T185826Z
UID:10015154-1762873200-1762884000@www.emotionwellness.com
SUMMARY:Adult IOP 2
DESCRIPTION:Our Adult IOP stands out due to our team of fully licensed clinicians\, unique experiential fitness model\, engaging treatment environment\, and strong community focus. We are dedicated to providing comprehensive care that addresses both the mind and body\, empowering individuals on their path to recovery.
URL:https://www.emotionwellness.com/event/adult-iop-3/2025-11-11/
LOCATION:e-motion wellness™ Therapy Center\, 431 Isom Road Suite 204\, San Antonio\, TX\, 78216\, United States
CATEGORIES:Adult IOP
ATTACH;FMTTYPE=image/png:https://www.emotionwellness.com/wp-content/uploads/2023/08/about2.png
ORGANIZER;CN="Jason Turner":MAILTO:jason@emotionwellness.com
END:VEVENT
BEGIN:VEVENT
DTSTART;TZID=America/Chicago:20251112T150000
DTEND;TZID=America/Chicago:20251112T180000
DTSTAMP:20260421T023100
CREATED:20240611T133543Z
LAST-MODIFIED:20241223T185826Z
UID:10015155-1762959600-1762970400@www.emotionwellness.com
SUMMARY:Adult IOP 2
DESCRIPTION:Our Adult IOP stands out due to our team of fully licensed clinicians\, unique experiential fitness model\, engaging treatment environment\, and strong community focus. We are dedicated to providing comprehensive care that addresses both the mind and body\, empowering individuals on their path to recovery.
URL:https://www.emotionwellness.com/event/adult-iop-3/2025-11-12/
LOCATION:e-motion wellness™ Therapy Center\, 431 Isom Road Suite 204\, San Antonio\, TX\, 78216\, United States
CATEGORIES:Adult IOP
ATTACH;FMTTYPE=image/png:https://www.emotionwellness.com/wp-content/uploads/2023/08/about2.png
ORGANIZER;CN="Jason Turner":MAILTO:jason@emotionwellness.com
END:VEVENT
BEGIN:VEVENT
DTSTART;TZID=America/Chicago:20251112T180000
DTEND;TZID=America/Chicago:20251112T210000
DTSTAMP:20260421T023100
CREATED:20240214T172827Z
LAST-MODIFIED:20240618T151633Z
UID:10016179-1762970400-1762981200@www.emotionwellness.com
SUMMARY:Adult IOP 3
DESCRIPTION:Our Adult IOP stands out due to our team of fully licensed clinicians\, unique experiential fitness model\, engaging treatment environment\, and strong community focus. We are dedicated to providing comprehensive care that addresses both the mind and body\, empowering individuals on their path to recovery.
URL:https://www.emotionwellness.com/event/adult-iop/2025-11-12/
LOCATION:e-motion wellness™ Therapy Center\, 431 Isom Road Suite 204\, San Antonio\, TX\, 78216\, United States
CATEGORIES:Adult IOP
ATTACH;FMTTYPE=image/png:https://www.emotionwellness.com/wp-content/uploads/2023/08/about2.png
ORGANIZER;CN="Jason Turner":MAILTO:jason@emotionwellness.com
END:VEVENT
BEGIN:VEVENT
DTSTART;TZID=America/Chicago:20251113T150000
DTEND;TZID=America/Chicago:20251113T180000
DTSTAMP:20260421T023100
CREATED:20240611T133543Z
LAST-MODIFIED:20241223T185826Z
UID:10015156-1763046000-1763056800@www.emotionwellness.com
SUMMARY:Adult IOP 2
DESCRIPTION:Our Adult IOP stands out due to our team of fully licensed clinicians\, unique experiential fitness model\, engaging treatment environment\, and strong community focus. We are dedicated to providing comprehensive care that addresses both the mind and body\, empowering individuals on their path to recovery.
URL:https://www.emotionwellness.com/event/adult-iop-3/2025-11-13/
LOCATION:e-motion wellness™ Therapy Center\, 431 Isom Road Suite 204\, San Antonio\, TX\, 78216\, United States
CATEGORIES:Adult IOP
ATTACH;FMTTYPE=image/png:https://www.emotionwellness.com/wp-content/uploads/2023/08/about2.png
ORGANIZER;CN="Jason Turner":MAILTO:jason@emotionwellness.com
END:VEVENT
BEGIN:VEVENT
DTSTART;TZID=America/Chicago:20251113T180000
DTEND;TZID=America/Chicago:20251113T210000
DTSTAMP:20260421T023100
CREATED:20240214T172827Z
LAST-MODIFIED:20240618T151633Z
UID:10016180-1763056800-1763067600@www.emotionwellness.com
SUMMARY:Adult IOP 3
DESCRIPTION:Our Adult IOP stands out due to our team of fully licensed clinicians\, unique experiential fitness model\, engaging treatment environment\, and strong community focus. We are dedicated to providing comprehensive care that addresses both the mind and body\, empowering individuals on their path to recovery.
URL:https://www.emotionwellness.com/event/adult-iop/2025-11-13/
LOCATION:e-motion wellness™ Therapy Center\, 431 Isom Road Suite 204\, San Antonio\, TX\, 78216\, United States
CATEGORIES:Adult IOP
ATTACH;FMTTYPE=image/png:https://www.emotionwellness.com/wp-content/uploads/2023/08/about2.png
ORGANIZER;CN="Jason Turner":MAILTO:jason@emotionwellness.com
END:VEVENT
BEGIN:VEVENT
DTSTART;TZID=America/Chicago:20251114T073000
DTEND;TZID=America/Chicago:20251114T103000
DTSTAMP:20260421T023100
CREATED:20240611T134151Z
LAST-MODIFIED:20240618T143741Z
UID:10011810-1763105400-1763116200@www.emotionwellness.com
SUMMARY:Adult IOP Make Up
DESCRIPTION:Make up class for Adult IOP. Our Adult IOP stands out due to our team of fully licensed clinicians\, unique experiential fitness model\, engaging treatment environment\, and strong community focus. We are dedicated to providing comprehensive care that addresses both the mind and body\, empowering individuals on their path to recovery.
URL:https://www.emotionwellness.com/event/adult-iop-make-up/2025-11-14/
LOCATION:e-motion wellness™ Therapy Center\, 431 Isom Road Suite 204\, San Antonio\, TX\, 78216\, United States
CATEGORIES:Adult IOP
ATTACH;FMTTYPE=image/png:https://www.emotionwellness.com/wp-content/uploads/2023/08/about2.png
ORGANIZER;CN="Jason Turner":MAILTO:jason@emotionwellness.com
END:VEVENT
BEGIN:VEVENT
DTSTART;TZID=America/Chicago:20251115T093000
DTEND;TZID=America/Chicago:20251115T110000
DTSTAMP:20260421T023100
CREATED:20250220T203750Z
LAST-MODIFIED:20250220T203750Z
UID:10018435-1763199000-1763204400@www.emotionwellness.com
SUMMARY:Adult IOP 4
DESCRIPTION:Our Adult IOP stands out due to our team of fully licensed clinicians\, unique experiential fitness model\, engaging treatment environment\, and strong community focus. We are dedicated to providing comprehensive care that addresses both the mind and body\, empowering individuals on their path to recovery.
URL:https://www.emotionwellness.com/event/adult-iop-4/2025-11-15/
LOCATION:e-motion wellness™ Therapy Center\, 431 Isom Road Suite 204\, San Antonio\, TX\, 78216\, United States
CATEGORIES:Adult IOP
ATTACH;FMTTYPE=image/png:https://www.emotionwellness.com/wp-content/uploads/2023/08/about2.png
ORGANIZER;CN="Jason Turner":MAILTO:jason@emotionwellness.com
END:VEVENT
BEGIN:VEVENT
DTSTART;TZID=America/Chicago:20251117T150000
DTEND;TZID=America/Chicago:20251117T180000
DTSTAMP:20260421T023100
CREATED:20240611T133543Z
LAST-MODIFIED:20241223T185826Z
UID:10015157-1763391600-1763402400@www.emotionwellness.com
SUMMARY:Adult IOP 2
DESCRIPTION:Our Adult IOP stands out due to our team of fully licensed clinicians\, unique experiential fitness model\, engaging treatment environment\, and strong community focus. We are dedicated to providing comprehensive care that addresses both the mind and body\, empowering individuals on their path to recovery.
URL:https://www.emotionwellness.com/event/adult-iop-3/2025-11-17/
LOCATION:e-motion wellness™ Therapy Center\, 431 Isom Road Suite 204\, San Antonio\, TX\, 78216\, United States
CATEGORIES:Adult IOP
ATTACH;FMTTYPE=image/png:https://www.emotionwellness.com/wp-content/uploads/2023/08/about2.png
ORGANIZER;CN="Jason Turner":MAILTO:jason@emotionwellness.com
END:VEVENT
BEGIN:VEVENT
DTSTART;TZID=America/Chicago:20251117T180000
DTEND;TZID=America/Chicago:20251117T210000
DTSTAMP:20260421T023100
CREATED:20240214T172827Z
LAST-MODIFIED:20240618T151633Z
UID:10016181-1763402400-1763413200@www.emotionwellness.com
SUMMARY:Adult IOP 3
DESCRIPTION:Our Adult IOP stands out due to our team of fully licensed clinicians\, unique experiential fitness model\, engaging treatment environment\, and strong community focus. We are dedicated to providing comprehensive care that addresses both the mind and body\, empowering individuals on their path to recovery.
URL:https://www.emotionwellness.com/event/adult-iop/2025-11-17/
LOCATION:e-motion wellness™ Therapy Center\, 431 Isom Road Suite 204\, San Antonio\, TX\, 78216\, United States
CATEGORIES:Adult IOP
ATTACH;FMTTYPE=image/png:https://www.emotionwellness.com/wp-content/uploads/2023/08/about2.png
ORGANIZER;CN="Jason Turner":MAILTO:jason@emotionwellness.com
END:VEVENT
BEGIN:VEVENT
DTSTART;TZID=America/Chicago:20251118T150000
DTEND;TZID=America/Chicago:20251118T180000
DTSTAMP:20260421T023100
CREATED:20240611T133543Z
LAST-MODIFIED:20241223T185826Z
UID:10015158-1763478000-1763488800@www.emotionwellness.com
SUMMARY:Adult IOP 2
DESCRIPTION:Our Adult IOP stands out due to our team of fully licensed clinicians\, unique experiential fitness model\, engaging treatment environment\, and strong community focus. We are dedicated to providing comprehensive care that addresses both the mind and body\, empowering individuals on their path to recovery.
URL:https://www.emotionwellness.com/event/adult-iop-3/2025-11-18/
LOCATION:e-motion wellness™ Therapy Center\, 431 Isom Road Suite 204\, San Antonio\, TX\, 78216\, United States
CATEGORIES:Adult IOP
ATTACH;FMTTYPE=image/png:https://www.emotionwellness.com/wp-content/uploads/2023/08/about2.png
ORGANIZER;CN="Jason Turner":MAILTO:jason@emotionwellness.com
END:VEVENT
BEGIN:VEVENT
DTSTART;TZID=America/Chicago:20251119T150000
DTEND;TZID=America/Chicago:20251119T180000
DTSTAMP:20260421T023100
CREATED:20240611T133543Z
LAST-MODIFIED:20241223T185826Z
UID:10015159-1763564400-1763575200@www.emotionwellness.com
SUMMARY:Adult IOP 2
DESCRIPTION:Our Adult IOP stands out due to our team of fully licensed clinicians\, unique experiential fitness model\, engaging treatment environment\, and strong community focus. We are dedicated to providing comprehensive care that addresses both the mind and body\, empowering individuals on their path to recovery.
URL:https://www.emotionwellness.com/event/adult-iop-3/2025-11-19/
LOCATION:e-motion wellness™ Therapy Center\, 431 Isom Road Suite 204\, San Antonio\, TX\, 78216\, United States
CATEGORIES:Adult IOP
ATTACH;FMTTYPE=image/png:https://www.emotionwellness.com/wp-content/uploads/2023/08/about2.png
ORGANIZER;CN="Jason Turner":MAILTO:jason@emotionwellness.com
END:VEVENT
BEGIN:VEVENT
DTSTART;TZID=America/Chicago:20251119T180000
DTEND;TZID=America/Chicago:20251119T210000
DTSTAMP:20260421T023100
CREATED:20240214T172827Z
LAST-MODIFIED:20240618T151633Z
UID:10016182-1763575200-1763586000@www.emotionwellness.com
SUMMARY:Adult IOP 3
DESCRIPTION:Our Adult IOP stands out due to our team of fully licensed clinicians\, unique experiential fitness model\, engaging treatment environment\, and strong community focus. We are dedicated to providing comprehensive care that addresses both the mind and body\, empowering individuals on their path to recovery.
URL:https://www.emotionwellness.com/event/adult-iop/2025-11-19/
LOCATION:e-motion wellness™ Therapy Center\, 431 Isom Road Suite 204\, San Antonio\, TX\, 78216\, United States
CATEGORIES:Adult IOP
ATTACH;FMTTYPE=image/png:https://www.emotionwellness.com/wp-content/uploads/2023/08/about2.png
ORGANIZER;CN="Jason Turner":MAILTO:jason@emotionwellness.com
END:VEVENT
BEGIN:VEVENT
DTSTART;TZID=America/Chicago:20251120T150000
DTEND;TZID=America/Chicago:20251120T180000
DTSTAMP:20260421T023100
CREATED:20240611T133543Z
LAST-MODIFIED:20241223T185826Z
UID:10015160-1763650800-1763661600@www.emotionwellness.com
SUMMARY:Adult IOP 2
DESCRIPTION:Our Adult IOP stands out due to our team of fully licensed clinicians\, unique experiential fitness model\, engaging treatment environment\, and strong community focus. We are dedicated to providing comprehensive care that addresses both the mind and body\, empowering individuals on their path to recovery.
URL:https://www.emotionwellness.com/event/adult-iop-3/2025-11-20/
LOCATION:e-motion wellness™ Therapy Center\, 431 Isom Road Suite 204\, San Antonio\, TX\, 78216\, United States
CATEGORIES:Adult IOP
ATTACH;FMTTYPE=image/png:https://www.emotionwellness.com/wp-content/uploads/2023/08/about2.png
ORGANIZER;CN="Jason Turner":MAILTO:jason@emotionwellness.com
END:VEVENT
BEGIN:VEVENT
DTSTART;TZID=America/Chicago:20251120T180000
DTEND;TZID=America/Chicago:20251120T210000
DTSTAMP:20260421T023100
CREATED:20240214T172827Z
LAST-MODIFIED:20240618T151633Z
UID:10016183-1763661600-1763672400@www.emotionwellness.com
SUMMARY:Adult IOP 3
DESCRIPTION:Our Adult IOP stands out due to our team of fully licensed clinicians\, unique experiential fitness model\, engaging treatment environment\, and strong community focus. We are dedicated to providing comprehensive care that addresses both the mind and body\, empowering individuals on their path to recovery.
URL:https://www.emotionwellness.com/event/adult-iop/2025-11-20/
LOCATION:e-motion wellness™ Therapy Center\, 431 Isom Road Suite 204\, San Antonio\, TX\, 78216\, United States
CATEGORIES:Adult IOP
ATTACH;FMTTYPE=image/png:https://www.emotionwellness.com/wp-content/uploads/2023/08/about2.png
ORGANIZER;CN="Jason Turner":MAILTO:jason@emotionwellness.com
END:VEVENT
BEGIN:VEVENT
DTSTART;TZID=America/Chicago:20251121T073000
DTEND;TZID=America/Chicago:20251121T103000
DTSTAMP:20260421T023100
CREATED:20240611T134151Z
LAST-MODIFIED:20240618T143741Z
UID:10011811-1763710200-1763721000@www.emotionwellness.com
SUMMARY:Adult IOP Make Up
DESCRIPTION:Make up class for Adult IOP. Our Adult IOP stands out due to our team of fully licensed clinicians\, unique experiential fitness model\, engaging treatment environment\, and strong community focus. We are dedicated to providing comprehensive care that addresses both the mind and body\, empowering individuals on their path to recovery.
URL:https://www.emotionwellness.com/event/adult-iop-make-up/2025-11-21/
LOCATION:e-motion wellness™ Therapy Center\, 431 Isom Road Suite 204\, San Antonio\, TX\, 78216\, United States
CATEGORIES:Adult IOP
ATTACH;FMTTYPE=image/png:https://www.emotionwellness.com/wp-content/uploads/2023/08/about2.png
ORGANIZER;CN="Jason Turner":MAILTO:jason@emotionwellness.com
END:VEVENT
BEGIN:VEVENT
DTSTART;TZID=America/Chicago:20251122T093000
DTEND;TZID=America/Chicago:20251122T110000
DTSTAMP:20260421T023100
CREATED:20250220T203750Z
LAST-MODIFIED:20250220T203750Z
UID:10018436-1763803800-1763809200@www.emotionwellness.com
SUMMARY:Adult IOP 4
DESCRIPTION:Our Adult IOP stands out due to our team of fully licensed clinicians\, unique experiential fitness model\, engaging treatment environment\, and strong community focus. We are dedicated to providing comprehensive care that addresses both the mind and body\, empowering individuals on their path to recovery.
URL:https://www.emotionwellness.com/event/adult-iop-4/2025-11-22/
LOCATION:e-motion wellness™ Therapy Center\, 431 Isom Road Suite 204\, San Antonio\, TX\, 78216\, United States
CATEGORIES:Adult IOP
ATTACH;FMTTYPE=image/png:https://www.emotionwellness.com/wp-content/uploads/2023/08/about2.png
ORGANIZER;CN="Jason Turner":MAILTO:jason@emotionwellness.com
END:VEVENT
BEGIN:VEVENT
DTSTART;TZID=America/Chicago:20251124T150000
DTEND;TZID=America/Chicago:20251124T180000
DTSTAMP:20260421T023100
CREATED:20240611T133543Z
LAST-MODIFIED:20241223T185826Z
UID:10015161-1763996400-1764007200@www.emotionwellness.com
SUMMARY:Adult IOP 2
DESCRIPTION:Our Adult IOP stands out due to our team of fully licensed clinicians\, unique experiential fitness model\, engaging treatment environment\, and strong community focus. We are dedicated to providing comprehensive care that addresses both the mind and body\, empowering individuals on their path to recovery.
URL:https://www.emotionwellness.com/event/adult-iop-3/2025-11-24/
LOCATION:e-motion wellness™ Therapy Center\, 431 Isom Road Suite 204\, San Antonio\, TX\, 78216\, United States
CATEGORIES:Adult IOP
ATTACH;FMTTYPE=image/png:https://www.emotionwellness.com/wp-content/uploads/2023/08/about2.png
ORGANIZER;CN="Jason Turner":MAILTO:jason@emotionwellness.com
END:VEVENT
BEGIN:VEVENT
DTSTART;TZID=America/Chicago:20251124T180000
DTEND;TZID=America/Chicago:20251124T210000
DTSTAMP:20260421T023100
CREATED:20240214T172827Z
LAST-MODIFIED:20240618T151633Z
UID:10016184-1764007200-1764018000@www.emotionwellness.com
SUMMARY:Adult IOP 3
DESCRIPTION:Our Adult IOP stands out due to our team of fully licensed clinicians\, unique experiential fitness model\, engaging treatment environment\, and strong community focus. We are dedicated to providing comprehensive care that addresses both the mind and body\, empowering individuals on their path to recovery.
URL:https://www.emotionwellness.com/event/adult-iop/2025-11-24/
LOCATION:e-motion wellness™ Therapy Center\, 431 Isom Road Suite 204\, San Antonio\, TX\, 78216\, United States
CATEGORIES:Adult IOP
ATTACH;FMTTYPE=image/png:https://www.emotionwellness.com/wp-content/uploads/2023/08/about2.png
ORGANIZER;CN="Jason Turner":MAILTO:jason@emotionwellness.com
END:VEVENT
END:VCALENDAR